BEGIN:VCALENDAR
VERSION:2.0
PRODID:-//Sociale Kaart - ECPv6.15.20//NONSGML v1.0//EN
CALSCALE:GREGORIAN
METHOD:PUBLISH
X-WR-CALNAME:Sociale Kaart
X-ORIGINAL-URL:https://social.doof.website
X-WR-CALDESC:Evenementen voor Sociale Kaart
REFRESH-INTERVAL;VALUE=DURATION:PT1H
X-Robots-Tag:noindex
X-PUBLISHED-TTL:PT1H
BEGIN:VTIMEZONE
TZID:Europe/Helsinki
BEGIN:DAYLIGHT
TZOFFSETFROM:+0200
TZOFFSETTO:+0300
TZNAME:EEST
DTSTART:20240331T010000
END:DAYLIGHT
BEGIN:STANDARD
TZOFFSETFROM:+0300
TZOFFSETTO:+0200
TZNAME:EET
DTSTART:20241027T010000
END:STANDARD
BEGIN:DAYLIGHT
TZOFFSETFROM:+0200
TZOFFSETTO:+0300
TZNAME:EEST
DTSTART:20250330T010000
END:DAYLIGHT
BEGIN:STANDARD
TZOFFSETFROM:+0300
TZOFFSETTO:+0200
TZNAME:EET
DTSTART:20251026T010000
END:STANDARD
BEGIN:DAYLIGHT
TZOFFSETFROM:+0200
TZOFFSETTO:+0300
TZNAME:EEST
DTSTART:20260329T010000
END:DAYLIGHT
BEGIN:STANDARD
TZOFFSETFROM:+0300
TZOFFSETTO:+0200
TZNAME:EET
DTSTART:20261025T010000
END:STANDARD
END:VTIMEZONE
BEGIN:VEVENT
DTSTART;TZID=Europe/Helsinki:20251002T200000
DTEND;TZID=Europe/Helsinki:20251002T220000
DTSTAMP:20260424T233611
CREATED:20250910T131518Z
LAST-MODIFIED:20250910T131522Z
UID:10001363-1759435200-1759442400@social.doof.website
SUMMARY:Inclusieve toneelvoorstelling: Kortsluiting
DESCRIPTION:Gratis inclusieve voorstelling ‘Kortsluiting’ op donderdag 2 oktober – INSCHRIJVEN VERPLICHT\n donderdag 28 augustus 2025\nWe willen ons theater zo toegankelijk mogelijk maken voor iedereen. Ook voor mensen die minder goed horen of zien. Een jaar geleden organiseerden we met succes een inclusieve voorstelling van ‘Ne Leeuw zonder Tanden’. Daarom pakken we ook dit najaar uit met een speciale voorstelling van ‘Kortsluiting’ op maat van blinden\, slechtzienden\, doven of slechthorenden. Deze doelgroep kan op donderdagavond 8 oktober genieten van een gratis toneelvoorstelling op maat\, dankzij de steun van de stad Roeselare via het project ‘Elk Telt’.\n\n‘Kortsluiting’ (originele titel: Black Comedy) is een komedie van de Engelse auteur Peter Shaffer. Dit meesterwerk uit 1965 is tijdloos\, zowel het publiek als de acteurs op de scène tasten soms letterlijk in het duister. Licht en donker vormen de leidraad in deze klassieker die 60 jaar later nog altijd door veel theatergezelschappen gebracht wordt. Meer info over het stuk zelf vind je op de aparte pagina (zie menu boven).\n\nPRAKTISCH\n\nGratis toegang voor toeschouwers met auditieve of visuele beperking\, ook voor de begeleider(s)\nEr zullen twee VGT-gebarentolken aanwezig zijn\nOpgelet: Mensen met een visuele beperking worden al om 19u in zaal OCAR verwacht\, zij krijgen vooraf een rondleiding op het podium en kunnen zo kennis maken met het decor en de personages. Tijdens de pauze is er een drankje voorzien.\nInschrijven is verplicht\, bij voorkeur via het aparte formulier\, zie het menu ticket-service bovenaan de website\nVragen of meer info nodig? Bel of mail ons: 0478 36 49 47 of ticket@tsouffleurke.be
URL:https://social.doof.website/events/inclusieve-toneelvoorstelling-kortsluiting/2025-10-02/
CATEGORIES:Cultuur
ATTACH;FMTTYPE=image/jpeg:https://social.doof.website/wp-content/uploads/2025/09/Kortsluiting-2025-09-10-140615-2.jpg
ORGANIZER;CN="'t Souffleurke":MAILTO:gino.brunelli@skynet.be
END:VEVENT
END:VCALENDAR