BEGIN:VCALENDAR
VERSION:2.0
PRODID:-//Sociale Kaart - ECPv6.15.20//NONSGML v1.0//EN
CALSCALE:GREGORIAN
METHOD:PUBLISH
X-WR-CALNAME:Sociale Kaart
X-ORIGINAL-URL:https://social.doof.website
X-WR-CALDESC:Evenementen voor Sociale Kaart
REFRESH-INTERVAL;VALUE=DURATION:PT1H
X-Robots-Tag:noindex
X-PUBLISHED-TTL:PT1H
BEGIN:VTIMEZONE
TZID:Europe/Helsinki
BEGIN:DAYLIGHT
TZOFFSETFROM:+0200
TZOFFSETTO:+0300
TZNAME:EEST
DTSTART:20220327T010000
END:DAYLIGHT
BEGIN:STANDARD
TZOFFSETFROM:+0300
TZOFFSETTO:+0200
TZNAME:EET
DTSTART:20221030T010000
END:STANDARD
BEGIN:DAYLIGHT
TZOFFSETFROM:+0200
TZOFFSETTO:+0300
TZNAME:EEST
DTSTART:20230326T010000
END:DAYLIGHT
BEGIN:STANDARD
TZOFFSETFROM:+0300
TZOFFSETTO:+0200
TZNAME:EET
DTSTART:20231029T010000
END:STANDARD
BEGIN:DAYLIGHT
TZOFFSETFROM:+0200
TZOFFSETTO:+0300
TZNAME:EEST
DTSTART:20240331T010000
END:DAYLIGHT
BEGIN:STANDARD
TZOFFSETFROM:+0300
TZOFFSETTO:+0200
TZNAME:EET
DTSTART:20241027T010000
END:STANDARD
END:VTIMEZONE
BEGIN:VEVENT
DTSTART;TZID=Europe/Helsinki:20231006T203000
DTEND;TZID=Europe/Helsinki:20231006T223000
DTSTAMP:20260421T114435
CREATED:20230901T072443Z
LAST-MODIFIED:20230901T074626Z
UID:10000017-1696624200-1696631400@social.doof.website
SUMMARY:Studio 100 Musical Red Starline
DESCRIPTION:https://redstarline.nu/info-toegankelijkheid-doven-slechthorenden \nOp 6/10/2023 om 20u30 voorziet Studio 100 in samenwerking met Doof&Events een voorstelling die live getolkt wordt door tolken Vlaamse gebarentaal. Er worden plaatsen voorbehouden voor doven\, slechthorenden en hun gezelschap. Tickets voor die plaatsen kan je enkel boeken via onderstaande knop. Kies voor het tickettype ‘Plaats met VGT’.
URL:https://social.doof.website/events/studio-100-musical-red-starline/2023-10-06/2/
LOCATION:Puurs\, Schoonmansveld 18\, Puurs\, Antwerpen\, 2870\, België
END:VEVENT
END:VCALENDAR