BEGIN:VCALENDAR
VERSION:2.0
PRODID:-//Sociale Kaart - ECPv6.15.20//NONSGML v1.0//EN
CALSCALE:GREGORIAN
METHOD:PUBLISH
X-WR-CALNAME:Sociale Kaart
X-ORIGINAL-URL:https://social.doof.website
X-WR-CALDESC:Evenementen voor Sociale Kaart
REFRESH-INTERVAL;VALUE=DURATION:PT1H
X-Robots-Tag:noindex
X-PUBLISHED-TTL:PT1H
BEGIN:VTIMEZONE
TZID:Europe/Paris
BEGIN:DAYLIGHT
TZOFFSETFROM:+0100
TZOFFSETTO:+0200
TZNAME:CEST
DTSTART:20230326T010000
END:DAYLIGHT
BEGIN:STANDARD
TZOFFSETFROM:+0200
TZOFFSETTO:+0100
TZNAME:CET
DTSTART:20231029T010000
END:STANDARD
BEGIN:DAYLIGHT
TZOFFSETFROM:+0100
TZOFFSETTO:+0200
TZNAME:CEST
DTSTART:20240331T010000
END:DAYLIGHT
BEGIN:STANDARD
TZOFFSETFROM:+0200
TZOFFSETTO:+0100
TZNAME:CET
DTSTART:20241027T010000
END:STANDARD
BEGIN:DAYLIGHT
TZOFFSETFROM:+0100
TZOFFSETTO:+0200
TZNAME:CEST
DTSTART:20250330T010000
END:DAYLIGHT
BEGIN:STANDARD
TZOFFSETFROM:+0200
TZOFFSETTO:+0100
TZNAME:CET
DTSTART:20251026T010000
END:STANDARD
END:VTIMEZONE
BEGIN:VEVENT
DTSTART;TZID=Europe/Paris:20240803T190000
DTEND;TZID=Europe/Paris:20240804T010000
DTSTAMP:20260421T145109
CREATED:20240628T055736Z
LAST-MODIFIED:20240628T055738Z
UID:10000370-1722711600-1722733200@social.doof.website
SUMMARY:Museumnacht Antwerpen 2024
DESCRIPTION:Zaterdag 3 augustus 2024 openen 22 musea en culturele instellingen in Antwerpen hun deuren met een uniek programma. Een selectie van deze bijzondere activiteiten wordt nu ook voor het eerst begeleid door tolken Vlaamse Gebarentaal!
URL:https://social.doof.website/events/museumnacht-antwerpen-2024/
LOCATION:antwerpen\, Antwerpen\, 2000\, België
CATEGORIES:Cultuur
ATTACH;FMTTYPE=image/jpeg:https://social.doof.website/wp-content/uploads/2024/06/19582299_05_Museumnacht_Campagnebeeld_1920x1080-met-tekst.jpg
ORGANIZER;CN="Stad Antwerpen":MAILTO:eline.verstegen@antwerpen.be
END:VEVENT
END:VCALENDAR