BEGIN:VCALENDAR
VERSION:2.0
PRODID:-//Sociale Kaart - ECPv6.15.20//NONSGML v1.0//EN
CALSCALE:GREGORIAN
METHOD:PUBLISH
X-WR-CALNAME:Sociale Kaart
X-ORIGINAL-URL:https://social.doof.website
X-WR-CALDESC:Evenementen voor Sociale Kaart
REFRESH-INTERVAL;VALUE=DURATION:PT1H
X-Robots-Tag:noindex
X-PUBLISHED-TTL:PT1H
BEGIN:VTIMEZONE
TZID:Europe/Helsinki
BEGIN:DAYLIGHT
TZOFFSETFROM:+0200
TZOFFSETTO:+0300
TZNAME:EEST
DTSTART:20240331T010000
END:DAYLIGHT
BEGIN:STANDARD
TZOFFSETFROM:+0300
TZOFFSETTO:+0200
TZNAME:EET
DTSTART:20241027T010000
END:STANDARD
BEGIN:DAYLIGHT
TZOFFSETFROM:+0200
TZOFFSETTO:+0300
TZNAME:EEST
DTSTART:20250330T010000
END:DAYLIGHT
BEGIN:STANDARD
TZOFFSETFROM:+0300
TZOFFSETTO:+0200
TZNAME:EET
DTSTART:20251026T010000
END:STANDARD
BEGIN:DAYLIGHT
TZOFFSETFROM:+0200
TZOFFSETTO:+0300
TZNAME:EEST
DTSTART:20260329T010000
END:DAYLIGHT
BEGIN:STANDARD
TZOFFSETFROM:+0300
TZOFFSETTO:+0200
TZNAME:EET
DTSTART:20261025T010000
END:STANDARD
END:VTIMEZONE
BEGIN:VEVENT
DTSTART;TZID=Europe/Helsinki:20251015T193000
DTEND;TZID=Europe/Helsinki:20251015T210000
DTSTAMP:20260421T211118
CREATED:20251002T120555Z
LAST-MODIFIED:20251002T124729Z
UID:10001380-1760556600-1760562000@social.doof.website
SUMMARY:Lezing Verhalen uit de Ondergrond VIII: Gekamd\, gekleurd en geblazen. Middeleeuwse vondsten ontrafeld door jonge onderzoekers
DESCRIPTION:Verhalen uit de Ondergrond VIII: Gekamd\, gekleurd en geblazen: middeleeuwse vondsten ontrafeld door jonge onderzoekers\n\nTwee keer per jaar organiseren we de lezingreeks ‘Verhalen uit de Ondergrond’\, waarbij we verhalen brengen over archeologie – in de breedste betekenis van het woord – in Brugge en Ommeland. Op woensdag 15 oktober duiken we opnieuw onder het Brugse straatniveau. Deze keer geven we het woord aan drie jonge onderzoekers die je meenemen op een reis door de middeleeuwse materiële cultuur van Brugge en Ommeland.\n\nDeze lezingen staan er op het programma:\n– Lieselotte Desnerck “Tussen luxe en alledaags: middeleeuwse glasvondsten uit Brugge”\nOntdek hoe kleurrijke en verfijnde glasfragmenten het dagelijks leven en de sociale status van middeleeuwse Bruggelingen onthullen.\n– Phaedra Vanlaere “Tussen been\, hout en hoorn: kammen uit het Brugse ommeland als getuigen van materiële cultuur en ambachtelijke productie tijdens de middeleeuwen en vroegmoderne tijd (6e-18e eeuw)”\nWat vertelt een kam ons over het vakmanschap en het dagelijks leven door de eeuwen heen?\n– Eva Busschots “Kleuren voor de eeuwigheid: materiaal-technische analyse van de middeleeuwse beschilderde grafkelders van de Eekhoutabdij in Brugge”\nEen blik op de verborgen kleurenpracht van grafkelders\, en wat deze pigmenten ons zoal kunnen vertellen.\n\nZoals steeds gaan de deuren open om 19u. De lezingen starten stipt om 19u30.\nToegang is gratis. Inschrijven is vanwege beperkte plaatsen noodzakelijk.\n\nEr zal een tolk Vlaamse gebarentaal (VGT) aanwezig zijn zodat iedereen kan meegenieten van deze avond. Er zullen plekjes worden vrijgehouden voor gebarentaalgebruikers. Laat dit (of andere noden) weten bij je inschrijving in het vak ’toegankelijkheidsnoden’.
URL:https://social.doof.website/events/lezing-verhalen-uit-de-ondergrond-viii-gekamd-gekleurd-en-geblazen-middeleeuwse-vondsten-ontrafeld-door-jonge-onderzoekers/
LOCATION:Biekorf\, Theaterzaal\, Sint-Jakobsstraat 8\, Brugge\, 8000\, België
CATEGORIES:Lezing
ATTACH;FMTTYPE=image/jpeg:https://social.doof.website/wp-content/uploads/2025/10/Emailbanner-1-scaled.jpg
ORGANIZER;CN="Raakvlak":MAILTO:info@raakvlak.be
END:VEVENT
END:VCALENDAR