BEGIN:VCALENDAR
VERSION:2.0
PRODID:-//Sociale Kaart - ECPv6.15.20//NONSGML v1.0//EN
CALSCALE:GREGORIAN
METHOD:PUBLISH
X-ORIGINAL-URL:https://social.doof.website
X-WR-CALDESC:Evenementen voor Sociale Kaart
REFRESH-INTERVAL;VALUE=DURATION:PT1H
X-Robots-Tag:noindex
X-PUBLISHED-TTL:PT1H
BEGIN:VTIMEZONE
TZID:Europe/Helsinki
BEGIN:DAYLIGHT
TZOFFSETFROM:+0200
TZOFFSETTO:+0300
TZNAME:EEST
DTSTART:20250330T010000
END:DAYLIGHT
BEGIN:STANDARD
TZOFFSETFROM:+0300
TZOFFSETTO:+0200
TZNAME:EET
DTSTART:20251026T010000
END:STANDARD
BEGIN:DAYLIGHT
TZOFFSETFROM:+0200
TZOFFSETTO:+0300
TZNAME:EEST
DTSTART:20260329T010000
END:DAYLIGHT
BEGIN:STANDARD
TZOFFSETFROM:+0300
TZOFFSETTO:+0200
TZNAME:EET
DTSTART:20261025T010000
END:STANDARD
BEGIN:DAYLIGHT
TZOFFSETFROM:+0200
TZOFFSETTO:+0300
TZNAME:EEST
DTSTART:20270328T010000
END:DAYLIGHT
BEGIN:STANDARD
TZOFFSETFROM:+0300
TZOFFSETTO:+0200
TZNAME:EET
DTSTART:20271031T010000
END:STANDARD
END:VTIMEZONE
BEGIN:VEVENT
DTSTART;TZID=Europe/Helsinki:20260207T120000
DTEND;TZID=Europe/Helsinki:20260207T210000
DTSTAMP:20260424T161129
CREATED:20251214T182236Z
LAST-MODIFIED:20251214T182239Z
UID:10001413-1770465600-1770498000@social.doof.website
SUMMARY:Spaghettifestijn tvd dove kleuters in Kigoma - Tanzania (Ledeberg)
DESCRIPTION:Evenement ter ondersteuning van de realisatie van een nieuwe school voor dove kleuters in Kasaka\, Kigoma (Tanzania)
URL:https://social.doof.website/events/spaghettifestijn-tvd-dove-kleuters-in-kigoma-tanzania-ledeberg/
ATTACH;FMTTYPE=image/jpeg:https://social.doof.website/wp-content/uploads/2025/12/affiche-spaghettifestijn-tvd-dove-kleuters-Kigoma.jpg
END:VEVENT
END:VCALENDAR