BEGIN:VCALENDAR
VERSION:2.0
PRODID:-//Sociale Kaart - ECPv6.15.20//NONSGML v1.0//EN
CALSCALE:GREGORIAN
METHOD:PUBLISH
X-WR-CALNAME:Sociale Kaart
X-ORIGINAL-URL:https://social.doof.website
X-WR-CALDESC:Evenementen voor Sociale Kaart
REFRESH-INTERVAL;VALUE=DURATION:PT1H
X-Robots-Tag:noindex
X-PUBLISHED-TTL:PT1H
BEGIN:VTIMEZONE
TZID:Europe/Helsinki
BEGIN:DAYLIGHT
TZOFFSETFROM:+0200
TZOFFSETTO:+0300
TZNAME:EEST
DTSTART:20250330T010000
END:DAYLIGHT
BEGIN:STANDARD
TZOFFSETFROM:+0300
TZOFFSETTO:+0200
TZNAME:EET
DTSTART:20251026T010000
END:STANDARD
BEGIN:DAYLIGHT
TZOFFSETFROM:+0200
TZOFFSETTO:+0300
TZNAME:EEST
DTSTART:20260329T010000
END:DAYLIGHT
BEGIN:STANDARD
TZOFFSETFROM:+0300
TZOFFSETTO:+0200
TZNAME:EET
DTSTART:20261025T010000
END:STANDARD
BEGIN:DAYLIGHT
TZOFFSETFROM:+0200
TZOFFSETTO:+0300
TZNAME:EEST
DTSTART:20270328T010000
END:DAYLIGHT
BEGIN:STANDARD
TZOFFSETFROM:+0300
TZOFFSETTO:+0200
TZNAME:EET
DTSTART:20271031T010000
END:STANDARD
END:VTIMEZONE
BEGIN:VEVENT
DTSTART;TZID=Europe/Helsinki:20260312T200000
DTEND;TZID=Europe/Helsinki:20260312T223000
DTSTAMP:20260421T130856
CREATED:20260216T141252Z
LAST-MODIFIED:20260216T141255Z
UID:10001555-1773345600-1773354600@social.doof.website
SUMMARY:Don’t Leave the Room - Nadar Ensemble & Elena Evstratova - nagesprek met VGT
DESCRIPTION:In ‘Don’t Leave the Room’ (1970) beschimpt de Russische dichter Iosif Brodski het angstvallige zwijgen van zijn volk. Een stilte die zijn landgenoot\, componist Alexander Khubeev\, nu doorbreekt door het gedicht in gebarentaal te laten vertolken. De handen van de solist worden die van een dirigent die het ensemble richting geeft. ‘Bluer Womb’ van de Iraanse animatiefilmmaakster en componiste Golnaz Shariatzadeh roept de herinnering op aan haar eens zo geborgen thuisstad\, heropgebouwd door de verbeeldingskracht van de personages in haar film. En zo geeft Nadar een broodnodige stem aan stille revoltes.\nTijdens de voorstelling zal er een Vlaamse Gebarentolk (VGT) aanwezig zijn als zaalwijzer en het nagesprek zal ook begeleid worden met een Vlaamse Gebarentolk (VGT).
URL:https://social.doof.website/events/dont-leave-the-room-nadar-ensemble-elena-evstratova-nagesprek-met-vgt/
LOCATION:De Bijloke Muziekcentrum\, Bijlokekaai 7 in 9000 Gent\, Bijlokekaai 7\, Gent\, 9000\, België
CATEGORIES:Cultuur,Muziek
ATTACH;FMTTYPE=image/jpeg:https://social.doof.website/wp-content/uploads/2026/02/Nadar_Dont_Leave_The_Room_095-Wim-Heibaut-1-scaled.jpg
ORGANIZER;CN="Muziekcentrum De Bijloke":MAILTO:tickets@debijloke.be
END:VEVENT
END:VCALENDAR