BEGIN:VCALENDAR
VERSION:2.0
PRODID:-//Sociale Kaart - ECPv6.15.20//NONSGML v1.0//EN
CALSCALE:GREGORIAN
METHOD:PUBLISH
X-ORIGINAL-URL:https://social.doof.website
X-WR-CALDESC:Evenementen voor Sociale Kaart
REFRESH-INTERVAL;VALUE=DURATION:PT1H
X-Robots-Tag:noindex
X-PUBLISHED-TTL:PT1H
BEGIN:VTIMEZONE
TZID:Europe/Paris
BEGIN:DAYLIGHT
TZOFFSETFROM:+0100
TZOFFSETTO:+0200
TZNAME:CEST
DTSTART:20230326T010000
END:DAYLIGHT
BEGIN:STANDARD
TZOFFSETFROM:+0200
TZOFFSETTO:+0100
TZNAME:CET
DTSTART:20231029T010000
END:STANDARD
BEGIN:DAYLIGHT
TZOFFSETFROM:+0100
TZOFFSETTO:+0200
TZNAME:CEST
DTSTART:20240331T010000
END:DAYLIGHT
BEGIN:STANDARD
TZOFFSETFROM:+0200
TZOFFSETTO:+0100
TZNAME:CET
DTSTART:20241027T010000
END:STANDARD
BEGIN:DAYLIGHT
TZOFFSETFROM:+0100
TZOFFSETTO:+0200
TZNAME:CEST
DTSTART:20250330T010000
END:DAYLIGHT
BEGIN:STANDARD
TZOFFSETFROM:+0200
TZOFFSETTO:+0100
TZNAME:CET
DTSTART:20251026T010000
END:STANDARD
END:VTIMEZONE
BEGIN:VEVENT
DTSTART;TZID=Europe/Paris:20241024T140000
DTEND;TZID=Europe/Paris:20241024T170000
DTSTAMP:20260425T013121
CREATED:20240723T061143Z
LAST-MODIFIED:20240723T061145Z
UID:10000379-1729778400-1729789200@social.doof.website
SUMMARY:Art Inclusive Ontmoetingsmoment
DESCRIPTION:Wat zoeken mensen met een handicap en organisaties als ze culturele uitstappen plannen? En hoe kunnen culturele aanbieders hun programma’s toegankelijker maken?\n\nOp 24 oktober 2024 organiseert Lasso een ontmoetingsmoment voor mensen met een handicap\, culturele partners die meer willen inzetten op inclusie en organisaties die zorg verlenen of activiteiten organiseren voor personen met een beperking. We starten met korte pitches van een aantal sociale en culturele organisaties die een oproep\, vraag of wens hebben rond inclusieve cultuurbeleving. Vervolgens ga je samen het gesprek aan met een organisatie naar keuze.\n\nAfsluiten doen we met een babbel en een drankje in de warme sfeer van de KVS BarBox\, ideaal om nieuwe contacten te leggen en mogelijke samenwerkingen uit te zoeken. Kom langs\, stel vragen\, deel jouw visie en laat je inspireren.
URL:https://social.doof.website/events/art-inclusive-ontmoetingsmoment/
LOCATION:KVS\, Arduinkaai 7\, 1000 Brussel\, Brussel\, 1000\, België
ATTACH;FMTTYPE=image/jpeg:https://social.doof.website/wp-content/uploads/2024/07/DSC4611-1.jpg
ORGANIZER;CN="LASSO":MAILTO:Marijke.vanhassel@lasso.be
END:VEVENT
BEGIN:VEVENT
DTSTART;TZID=Europe/Paris:20240606T120000
DTEND;TZID=Europe/Paris:20240606T160000
DTSTAMP:20260425T013121
CREATED:20240521T124716Z
LAST-MODIFIED:20240521T124718Z
UID:10000337-1717675200-1717689600@social.doof.website
SUMMARY:Lasso Connect & Reflect
DESCRIPTION:Op donderdag 6 juni organiseert Lasso de derde editie van Connect & Reflect\, het tweetalige inspiratie- en netwerkmoment!\n\nConnect & Reflect is er voor iedereen die rond cultuurparticipatie werkt of wil werken. Dit jaar laten we ons inspireren door kunstenaars\, van projecten in de zorg tot kunst in de klas\, van interventies in de publieke ruimte tot initiatieven binnen detentie… Verwacht je aan een brede blik op wat een artiest kan betekenen binnen jouw muren. \n\nTijdens de dag brengen we stemmen en inzichten samen uit verschillende sectoren: uit het jeugd-\, socio-cultureel en welzijnswerk\, maar evengoed uit het onderwijs en de kunst- en cultuursector. Onze uitvalsbasis is Kuumba\, het Vlaams-Afrikaans Huis dat sinds één jaar gevestigd is in Kuregem. \n\nWe starten er met een netwerklunch waar je nieuwe contacten kan leggen of kan bijbabbelen met vertrouwde gezichten. Nadien verdiepen we ons in verschillende thema’s tijdens de keuzesessies. Naast Kuumba ontdekken we diverse plekken in Anderlecht waar vormingsmedewerkers\, leerkrachten\, kunstenaars en cultuurwerkers hun ervaringen uit de doeken doen en tips & tricks geven. We sluiten af met een netwerkdrink.\nJe kan gratis deelnemen aan Connect & Reflect mits inschrijving vóór 1 juni 2024.\n\nPraktische informatie \nDATUM   donderdag 06.06.24\nTIJDSTIP: 12:00 tot 16:00\nLOCATIE: Kuumba\, Passerstraat 5\, 1070 Anderlecht \nTAAL: NL + FR + Gebarentaal \nTOEGANKELIJKHEID \nWe proberen de locaties zo toegankelijk mogelijk te maken\, in de infofiche vind je alle details.\nOnthaalmedewerkers kunnen persoonlijke begeleiding voorzien voor wie dat wenst.\nHeb je specifieke ondersteuning nodig om de dag bij te kunnen wonen? Vermeld het zeker in het inschrijvingsformulier.
URL:https://social.doof.website/events/lasso-connect-reflect/
LOCATION:Kuumba\,\, Passerstraat 5\, 1070 Brussel\, Brussel\, 1070\, België
CATEGORIES:Cultuur
ATTACH;FMTTYPE=image/jpeg:https://social.doof.website/wp-content/uploads/2024/05/LCR24_beeld-scaled.jpg
ORGANIZER;CN="LASSO":MAILTO:Marijke.vanhassel@lasso.be
END:VEVENT
END:VCALENDAR