BEGIN:VCALENDAR
VERSION:2.0
PRODID:-//Sociale Kaart - ECPv6.15.20//NONSGML v1.0//EN
CALSCALE:GREGORIAN
METHOD:PUBLISH
X-ORIGINAL-URL:https://social.doof.website
X-WR-CALDESC:Evenementen voor Sociale Kaart
REFRESH-INTERVAL;VALUE=DURATION:PT1H
X-Robots-Tag:noindex
X-PUBLISHED-TTL:PT1H
BEGIN:VTIMEZONE
TZID:Europe/Paris
BEGIN:DAYLIGHT
TZOFFSETFROM:+0100
TZOFFSETTO:+0200
TZNAME:CEST
DTSTART:20230326T010000
END:DAYLIGHT
BEGIN:STANDARD
TZOFFSETFROM:+0200
TZOFFSETTO:+0100
TZNAME:CET
DTSTART:20231029T010000
END:STANDARD
BEGIN:DAYLIGHT
TZOFFSETFROM:+0100
TZOFFSETTO:+0200
TZNAME:CEST
DTSTART:20240331T010000
END:DAYLIGHT
BEGIN:STANDARD
TZOFFSETFROM:+0200
TZOFFSETTO:+0100
TZNAME:CET
DTSTART:20241027T010000
END:STANDARD
BEGIN:DAYLIGHT
TZOFFSETFROM:+0100
TZOFFSETTO:+0200
TZNAME:CEST
DTSTART:20250330T010000
END:DAYLIGHT
BEGIN:STANDARD
TZOFFSETFROM:+0200
TZOFFSETTO:+0100
TZNAME:CET
DTSTART:20251026T010000
END:STANDARD
END:VTIMEZONE
BEGIN:VEVENT
DTSTART;TZID=Europe/Paris:20240929T150000
DTEND;TZID=Europe/Paris:20240929T160000
DTSTAMP:20260424T165650
CREATED:20240917T091620Z
LAST-MODIFIED:20240917T091622Z
UID:10000414-1727622000-1727625600@social.doof.website
SUMMARY:COLORS\, familievoorstelling met ringleiding
DESCRIPTION:In ‘COLORS’ staan zowel jongeren als volwassenen op scène. Acht ‘ikken’ in tachtig kleuren. Elke kleur met een eigen persoonlijkheid en identiteit. Net als jij. \nJe hebt je eigen karakter\, beweegt zoals alleen jij dat doet\, denkt en voelt zoals geen ander dat kan. Als elke ‘ik’ voor een kleur zou staan\, welke kleur zou jij dan zijn? Witte druivengroen\, middernachtzwart of fluo geel?\nEn wat als jouw kleur niet wordt gezien?\nBen je dan onzichtbaar of moet jouw kleur nog worden uitgevonden? \n\n‘COLORS’ is een muzikale familievoorstelling voor iedereen vanaf 6 jaar.\n\nSPEL: Marah Haj Hussein\, Jitse Huysmans\, Julia Luna Dierens\, Frank Dierens\, Oskar Stalpaert\, Julia Terryn\, Billie Valcke\, Sofie Verniers\, Maurice Walschaerts \nREGIE: Frank Dierens\, Jitse Huysmans | MUZIEK: Geoffrey Burton | PRODUCTIE: HET SCHELDEOFFENSIEF & KOPERGIETERY
URL:https://social.doof.website/events/colors-familievoorstelling-met-ringleiding/
LOCATION:Arca Theater\, Sint-Widostraat 4\, Gent\, 9000\, België
ATTACH;FMTTYPE=image/jpeg:https://social.doof.website/wp-content/uploads/2024/09/COLORS_15_c_PhileDeprez.jpg
ORGANIZER;CN="Kopergietery":MAILTO:info@kopergietery.be
END:VEVENT
END:VCALENDAR