BEGIN:VCALENDAR
VERSION:2.0
PRODID:-//Sociale Kaart - ECPv6.15.20//NONSGML v1.0//EN
CALSCALE:GREGORIAN
METHOD:PUBLISH
X-WR-CALNAME:Sociale Kaart
X-ORIGINAL-URL:https://social.doof.website
X-WR-CALDESC:Evenementen voor Sociale Kaart
REFRESH-INTERVAL;VALUE=DURATION:PT1H
X-Robots-Tag:noindex
X-PUBLISHED-TTL:PT1H
BEGIN:VTIMEZONE
TZID:Europe/Helsinki
BEGIN:DAYLIGHT
TZOFFSETFROM:+0200
TZOFFSETTO:+0300
TZNAME:EEST
DTSTART:20240331T010000
END:DAYLIGHT
BEGIN:STANDARD
TZOFFSETFROM:+0300
TZOFFSETTO:+0200
TZNAME:EET
DTSTART:20241027T010000
END:STANDARD
BEGIN:DAYLIGHT
TZOFFSETFROM:+0200
TZOFFSETTO:+0300
TZNAME:EEST
DTSTART:20250330T010000
END:DAYLIGHT
BEGIN:STANDARD
TZOFFSETFROM:+0300
TZOFFSETTO:+0200
TZNAME:EET
DTSTART:20251026T010000
END:STANDARD
BEGIN:DAYLIGHT
TZOFFSETFROM:+0200
TZOFFSETTO:+0300
TZNAME:EEST
DTSTART:20260329T010000
END:DAYLIGHT
BEGIN:STANDARD
TZOFFSETFROM:+0300
TZOFFSETTO:+0200
TZNAME:EET
DTSTART:20261025T010000
END:STANDARD
BEGIN:DAYLIGHT
TZOFFSETFROM:+0200
TZOFFSETTO:+0300
TZNAME:EEST
DTSTART:20270328T010000
END:DAYLIGHT
BEGIN:STANDARD
TZOFFSETFROM:+0300
TZOFFSETTO:+0200
TZNAME:EET
DTSTART:20271031T010000
END:STANDARD
END:VTIMEZONE
BEGIN:VEVENT
DTSTART;TZID=Europe/Helsinki:20260414T133000
DTEND;TZID=Europe/Helsinki:20260414T200000
DTSTAMP:20260424T102728
CREATED:20260326T140234Z
LAST-MODIFIED:20260326T140236Z
UID:10001579-1776173400-1776196800@social.doof.website
SUMMARY:GTG-Gent 55+: Paasfeest
DESCRIPTION:De deuren openen om 13.30 uur voor ons Paasfeest. Meer info vind je op de affiche.
URL:https://social.doof.website/events/gtg-gent-55-paasfeest/
LOCATION:Nieuwe Melac Zwijnaarde\, Dorpsstraat 31\, Zwijnaarde\, 9052\, België
ATTACH;FMTTYPE=image/jpeg:https://social.doof.website/wp-content/uploads/2026/03/20260414_55-Paasteest-scaled.jpg
END:VEVENT
BEGIN:VEVENT
DTSTART;TZID=Europe/Helsinki:20260210T133000
DTEND;TZID=Europe/Helsinki:20260210T203000
DTSTAMP:20260424T102728
CREATED:20260205T125212Z
LAST-MODIFIED:20260205T125215Z
UID:10001548-1770730200-1770755400@social.doof.website
SUMMARY:GTG-Gent 55+: Verkiezingen
DESCRIPTION:a {\n    text-decoration: none;\n    color: #464feb;\n}\ntr th\, tr td {\n    border: 1px solid #e6e6e6;\n}\ntr th {\n    background-color: #f5f5f5;\n}\n \n\n \n\n  \nOm 13.30 uur openen we de deuren.Lekkere pannenkoeken en hotdogs.Iedereen is van harte welkom.Zie affiche voor meer info. \n  \n 
URL:https://social.doof.website/events/gtg-gent-55-verkiezingen/
LOCATION:Nieuwe Melac Zwijnaarde\, Dorpsstraat 31\, Zwijnaarde\, 9052\, België
ATTACH;FMTTYPE=image/jpeg:https://social.doof.website/wp-content/uploads/2026/02/20260210_55-Verkiezingen-scaled.jpg
END:VEVENT
BEGIN:VEVENT
DTSTART;TZID=Europe/Helsinki:20251209T133000
DTEND;TZID=Europe/Helsinki:20251209T210000
DTSTAMP:20260424T102728
CREATED:20250912T111405Z
LAST-MODIFIED:20251128T103137Z
UID:10001370-1765287000-1765314000@social.doof.website
SUMMARY:GTG-Gent 55+: Kerstfeest
DESCRIPTION: Kerstsfeer verzekerd! De deuren openen om 13.30 uur. Voor alle senioren vanaf 55 jaar.
URL:https://social.doof.website/events/gtg-gent-55-kerstfeest-2/
LOCATION:Nieuwe Melac Zwijnaarde\, Dorpsstraat 31\, Zwijnaarde\, 9052\, België
ATTACH;FMTTYPE=image/jpeg:https://social.doof.website/wp-content/uploads/2025/09/20251209_55-Kerstfeest-scaled.jpg
END:VEVENT
BEGIN:VEVENT
DTSTART;TZID=Europe/Helsinki:20251014T133000
DTEND;TZID=Europe/Helsinki:20251014T210000
DTSTAMP:20260424T102728
CREATED:20250912T110658Z
LAST-MODIFIED:20250912T110701Z
UID:10001365-1760448600-1760475600@social.doof.website
SUMMARY:GTG-Gent 55+: Vier op 'n Rij
DESCRIPTION:Deuren openen om 13.30 uur. Alle senioren vanaf 55 jaar zijn van harte welkom. Meer info op de affiche.
URL:https://social.doof.website/events/gtg-gent-55-vier-op-n-rij/
LOCATION:nieuw melac Zwijnaarde\, dorpsstraat\, Zwijnaarde\, België
ATTACH;FMTTYPE=image/jpeg:https://social.doof.website/wp-content/uploads/2025/09/20251014_55-Vier-op-een-Rij02-scaled.jpg
END:VEVENT
BEGIN:VEVENT
DTSTART;TZID=Europe/Helsinki:20250812T133000
DTEND;TZID=Europe/Helsinki:20250812T210000
DTSTAMP:20260424T102728
CREATED:20250707T062513Z
LAST-MODIFIED:20250707T062514Z
UID:10001323-1755005400-1755032400@social.doof.website
SUMMARY:GTG-Gent 55+: Manillentornooi en Volksspelen
DESCRIPTION:Om 13.30 uur opent de deuren.\nVoor alle Senioren.\nMeer info\, zie affiche.
URL:https://social.doof.website/events/gtg-gent-55-manillentornooi-en-volksspelen-2/
LOCATION:Nieuwe Melac Zwijnaarde\, Dorpsstraat 31\, Zwijnaarde\, 9052\, België
ATTACH;FMTTYPE=image/jpeg:https://social.doof.website/wp-content/uploads/2025/07/20250812_55-tornooi-Manillen-en-volksspelen-scaled.jpg
END:VEVENT
BEGIN:VEVENT
DTSTART;TZID=Europe/Helsinki:20250610T133000
DTEND;TZID=Europe/Helsinki:20250610T210000
DTSTAMP:20260424T102728
CREATED:20250424T064653Z
LAST-MODIFIED:20250424T064655Z
UID:10001273-1749562200-1749589200@social.doof.website
SUMMARY:GTG-Gent 55+: Verschillende gezelschapsspelen
DESCRIPTION:Verschillende gezelschapsspelenDinsdag 10 juni 2025Zie affiche voor meer details
URL:https://social.doof.website/events/gtg-gent-55-verschillende-gezelschapsspelen/
LOCATION:Nieuwe Melac Zwijnaarde\, Dorpsstraat 31\, Zwijnaarde\, 9052\, België
ATTACH;FMTTYPE=image/jpeg:https://social.doof.website/wp-content/uploads/2025/04/20250610_55-Ontspanning-gezelschapsspellen-scaled.jpg
END:VEVENT
END:VCALENDAR