BEGIN:VCALENDAR
VERSION:2.0
PRODID:-//Sociale Kaart - ECPv6.15.20//NONSGML v1.0//EN
CALSCALE:GREGORIAN
METHOD:PUBLISH
X-WR-CALNAME:Sociale Kaart
X-ORIGINAL-URL:https://social.doof.website
X-WR-CALDESC:Evenementen voor Sociale Kaart
REFRESH-INTERVAL;VALUE=DURATION:PT1H
X-Robots-Tag:noindex
X-PUBLISHED-TTL:PT1H
BEGIN:VTIMEZONE
TZID:Europe/Helsinki
BEGIN:DAYLIGHT
TZOFFSETFROM:+0200
TZOFFSETTO:+0300
TZNAME:EEST
DTSTART:20250330T010000
END:DAYLIGHT
BEGIN:STANDARD
TZOFFSETFROM:+0300
TZOFFSETTO:+0200
TZNAME:EET
DTSTART:20251026T010000
END:STANDARD
BEGIN:DAYLIGHT
TZOFFSETFROM:+0200
TZOFFSETTO:+0300
TZNAME:EEST
DTSTART:20260329T010000
END:DAYLIGHT
BEGIN:STANDARD
TZOFFSETFROM:+0300
TZOFFSETTO:+0200
TZNAME:EET
DTSTART:20261025T010000
END:STANDARD
BEGIN:DAYLIGHT
TZOFFSETFROM:+0200
TZOFFSETTO:+0300
TZNAME:EEST
DTSTART:20270328T010000
END:DAYLIGHT
BEGIN:STANDARD
TZOFFSETFROM:+0300
TZOFFSETTO:+0200
TZNAME:EET
DTSTART:20271031T010000
END:STANDARD
END:VTIMEZONE
BEGIN:VEVENT
DTSTART;TZID=Europe/Helsinki:20260426T100000
DTEND;TZID=Europe/Helsinki:20260426T180000
DTSTAMP:20260424T135055
CREATED:20260423T090206Z
LAST-MODIFIED:20260423T090215Z
UID:10001589-1777197600-1777226400@social.doof.website
SUMMARY:Vlaamse Gebarentaal Kermis 2026
DESCRIPTION:Hoera! De Vlaamse Gebarentaal is dit jaar 20 jaar erkend! Dat vieren we met een groot feest voor iedereen. Kom op zondag 26 april naar Wilrijk en beleef de VGT Kermis op het plein Bist.\n\nGeniet van leuke animatie voor kinderen\, ga op spelzoektocht met vrienden of familie en durf zelf gebarentaal uit te proberen. Bestel eens een drankje of een pannenkoek in gebarentaal\, of volg een initiatiecursus VGT.\n\nIedereen is welkom om samen te ontdekken\, beleven en vieren. Meer info over het evenement vind je op www.doofjong.be/vgt-kermis-2026\n\nEr is gratis toegang tot het evenement.
URL:https://social.doof.website/events/vlaamse-gebarentaal-kermis-2026/
LOCATION:bist wilrijk\, Bist 1\, Wilrijk\, West-Vlaanderen\, 2610\, België
ATTACH;FMTTYPE=image/png:https://social.doof.website/wp-content/uploads/2026/04/VGT-Kermis-2026-Flyer-scaled.png
ORGANIZER;CN="Doof &amp%3B Jong":MAILTO:info@doofjong.be
END:VEVENT
END:VCALENDAR