BEGIN:VCALENDAR
VERSION:2.0
PRODID:-//Sociale Kaart - ECPv6.15.20//NONSGML v1.0//EN
CALSCALE:GREGORIAN
METHOD:PUBLISH
X-WR-CALNAME:Sociale Kaart
X-ORIGINAL-URL:https://social.doof.website
X-WR-CALDESC:Evenementen voor Sociale Kaart
REFRESH-INTERVAL;VALUE=DURATION:PT1H
X-Robots-Tag:noindex
X-PUBLISHED-TTL:PT1H
BEGIN:VTIMEZONE
TZID:Europe/Helsinki
BEGIN:DAYLIGHT
TZOFFSETFROM:+0200
TZOFFSETTO:+0300
TZNAME:EEST
DTSTART:20230326T010000
END:DAYLIGHT
BEGIN:STANDARD
TZOFFSETFROM:+0300
TZOFFSETTO:+0200
TZNAME:EET
DTSTART:20231029T010000
END:STANDARD
BEGIN:DAYLIGHT
TZOFFSETFROM:+0200
TZOFFSETTO:+0300
TZNAME:EEST
DTSTART:20240331T010000
END:DAYLIGHT
BEGIN:STANDARD
TZOFFSETFROM:+0300
TZOFFSETTO:+0200
TZNAME:EET
DTSTART:20241027T010000
END:STANDARD
BEGIN:DAYLIGHT
TZOFFSETFROM:+0200
TZOFFSETTO:+0300
TZNAME:EEST
DTSTART:20250330T010000
END:DAYLIGHT
BEGIN:STANDARD
TZOFFSETFROM:+0300
TZOFFSETTO:+0200
TZNAME:EET
DTSTART:20251026T010000
END:STANDARD
BEGIN:DAYLIGHT
TZOFFSETFROM:+0200
TZOFFSETTO:+0300
TZNAME:EEST
DTSTART:20260329T010000
END:DAYLIGHT
BEGIN:STANDARD
TZOFFSETFROM:+0300
TZOFFSETTO:+0200
TZNAME:EET
DTSTART:20261025T010000
END:STANDARD
BEGIN:DAYLIGHT
TZOFFSETFROM:+0200
TZOFFSETTO:+0300
TZNAME:EEST
DTSTART:20270328T010000
END:DAYLIGHT
BEGIN:STANDARD
TZOFFSETFROM:+0300
TZOFFSETTO:+0200
TZNAME:EET
DTSTART:20271031T010000
END:STANDARD
END:VTIMEZONE
BEGIN:VTIMEZONE
TZID:Europe/Paris
BEGIN:DAYLIGHT
TZOFFSETFROM:+0100
TZOFFSETTO:+0200
TZNAME:CEST
DTSTART:20230326T010000
END:DAYLIGHT
BEGIN:STANDARD
TZOFFSETFROM:+0200
TZOFFSETTO:+0100
TZNAME:CET
DTSTART:20231029T010000
END:STANDARD
BEGIN:DAYLIGHT
TZOFFSETFROM:+0100
TZOFFSETTO:+0200
TZNAME:CEST
DTSTART:20240331T010000
END:DAYLIGHT
BEGIN:STANDARD
TZOFFSETFROM:+0200
TZOFFSETTO:+0100
TZNAME:CET
DTSTART:20241027T010000
END:STANDARD
BEGIN:DAYLIGHT
TZOFFSETFROM:+0100
TZOFFSETTO:+0200
TZNAME:CEST
DTSTART:20250330T010000
END:DAYLIGHT
BEGIN:STANDARD
TZOFFSETFROM:+0200
TZOFFSETTO:+0100
TZNAME:CET
DTSTART:20251026T010000
END:STANDARD
END:VTIMEZONE
BEGIN:VEVENT
DTSTART;TZID=Europe/Helsinki:20260321T133000
DTEND;TZID=Europe/Helsinki:20260321T163000
DTSTAMP:20260424T152450
CREATED:20260206T130112Z
LAST-MODIFIED:20260206T130115Z
UID:10001551-1774099800-1774110600@social.doof.website
SUMMARY:Workshop: Dove en slechthorende mensen: verhalen\, perspectieven en verwachtingen
DESCRIPTION:Wat betekent het om doof of slechthorend te zijn? 🤔 En wie bepaalt dat eigenlijk? ❓\n\nIn deze interactieve workshop staan we stil bij verschillende manieren om naar doof en slechthorend zijn te kijken.\nAan de hand van verhalen \, voorbeelden en uitwisseling verkennen we medische \, sociale en cultureel-linguïstische perspectieven. Er is ruimte om ervaringen te herkennen \, vragen te stellen en je eigen kijk te verruimen 🌟.\n\nVoor dove en slechthorende mensen die de Vlaamse Gebarentalige Dovengemeenschap (nog) niet of weinig kennen 👋\n\nTalen: Vlaamse Gebarentaal \, gesproken en geschreven Nederlands (met tolken VGT-Ned en schrijftolken)\n\nInschrijven: vóór 13 maart 📝 – https://forms.office.com/e/kWMmcH8FaT \n\nVragen? Mail naar 📧 vorming@doof.vlaanderen
URL:https://social.doof.website/events/workshop-dove-en-slechthorende-mensen-verhalen-perspectieven-en-verwachtingen/
LOCATION:Ontmoetingscentrum De Bruul\, Brouwersstraat\, Leuven\, 3000\, België
CATEGORIES:Vorming
ATTACH;FMTTYPE=image/jpeg:https://social.doof.website/wp-content/uploads/2026/02/Doof-Vlaanderen-workshop-21-maart-2026.jpg
ORGANIZER;CN="Doof Vlaanderen":MAILTO:info@doof.vlaanderen
END:VEVENT
BEGIN:VEVENT
DTSTART;TZID=Europe/Helsinki:20241130T093000
DTEND;TZID=Europe/Helsinki:20241130T180000
DTSTAMP:20260424T152450
CREATED:20241031T074004Z
LAST-MODIFIED:20241031T074006Z
UID:10001036-1732959000-1732989600@social.doof.website
SUMMARY:Doof Vlaanderen: infodag voor dove migranten
DESCRIPTION:Op 30 november organiseert Doof Vlaanderen een interessante informatiedag over “tolken” voor dove migranten. Tolken spelen een cruciale rol in het dagelijks leven van dove mensen\, ook voor wie uit andere landen komt en met extra communicatie-uitdagingen te maken heeft. Tijdens deze dag komen diverse onderwerpen over tolken aan bod\, zoals het aanvragen van tolken\, tolkuren\, en de verschillende soorten tolkopdrachten.\n \nDe lezing start om 10:00 uur. Na afloop kunnen jullie\, als jullie willen\, genieten van een heerlijke pasta bolognese  voor slechts 5 euro. Daarna is er volop ruimte voor vragen en interactie. De zaal blijft open tot 18:00\, zodat iedereen de tijd heeft om bijkletsen. \n \nInschrijven kan eenvoudig via de QR-code of de link in de bio. \n \nBen jij erbij?
URL:https://social.doof.website/events/doof-vlaanderen-infodag-voor-dove-migranten-2/
CATEGORIES:Info,Lezing
ATTACH;FMTTYPE=image/jpeg:https://social.doof.website/wp-content/uploads/2024/10/Nederlands.jpg
ORGANIZER;CN="Doof Vlaanderen":MAILTO:info@doof.vlaanderen
END:VEVENT
BEGIN:VEVENT
DTSTART;TZID=Europe/Helsinki:20241127T143000
DTEND;TZID=Europe/Helsinki:20241127T150000
DTSTAMP:20260424T152450
CREATED:20241031T074606Z
LAST-MODIFIED:20241031T074608Z
UID:10000449-1732717800-1732719600@social.doof.website
SUMMARY:Voorleesnamiddag bibliotheek de Krook in Gent
DESCRIPTION:Op 27 november om 14:30 uur zal een dove vrijwilliger een verhaal voorlezen in gebarentaal. \n\n “Gebarentaal redt!” is een ontroerend verhaal over vriendschap en Vlaamse Gebarentaal. Dove Noah gaat voor het eerst duiken\, net als Adam. Adam heeft nog nooit gebarentaal gezien en wil dit graag leren. Gelukkig\, want gebarentaal wordt zijn redding tijdens het duiken! \n\nHet voorlezen van het boek in gebarentaal laat zien hoe belangrijk toegankelijkheid is in de communicatie. Iedereen is welkom om te komen\, en het is geschikt voor kinderen van 3-9 jaar. Tijdens het voorlezen is er een tolk aanwezig voor degenen die gebarentaal niet kennen.
URL:https://social.doof.website/events/voorleesnamiddag-bibliotheek-de-krook-in-gent-2/
LOCATION:Bibliotheek de Krook\, Miriam Makebaplein 1\, Gent\, Oost Vlaanderen\, 9000\, België
ATTACH;FMTTYPE=image/png:https://social.doof.website/wp-content/uploads/2024/10/Voorleesnamiddag.png
ORGANIZER;CN="Doof Vlaanderen":MAILTO:info@doof.vlaanderen
END:VEVENT
BEGIN:VEVENT
DTSTART;TZID=Europe/Helsinki:20241106T143000
DTEND;TZID=Europe/Helsinki:20241106T150000
DTSTAMP:20260424T152450
CREATED:20241031T075623Z
LAST-MODIFIED:20241031T075624Z
UID:10000448-1730903400-1730905200@social.doof.website
SUMMARY:Voorleesnamiddag bibliotheek Zwijnaarde
DESCRIPTION:Op 6 november november om 14:30 uur zal een dove vrijwilliger van Doof Vlaanderen een verhaal voorlezen in gebarentaal. \n\n“Gebarentaal redt!” is een ontroerend verhaal over vriendschap en Vlaamse Gebarentaal. Dove Noah gaat voor het eerst duiken\, net als Adam. \nAdam heeft nog nooit gebarentaal gezien en wil dit graag leren. Gelukkig\, want gebarentaal wordt zijn redding tijdens het duiken! \n\nHet voorlezen van het boek in gebarentaal laat zien hoe belangrijk toegankelijkheid is in de communicatie. Iedereen is welkom om te komen\, en het is geschikt voor kinderen van 3-9 jaar. Tijdens het voorlezen is er een tolk aanwezig voor degenen die gebarentaal niet kennen.
URL:https://social.doof.website/events/voorleesnamiddag-bibliotheek-zwijnaarde/
LOCATION:bibliotheek zwijnaarde\, Heerweg-Zuid 22\, Zwijnaarde\, Oost Vlaanderen\, 9052
ATTACH;FMTTYPE=image/png:https://social.doof.website/wp-content/uploads/2024/10/Voorleesnamiddag-1.png
ORGANIZER;CN="Doof Vlaanderen":MAILTO:info@doof.vlaanderen
END:VEVENT
BEGIN:VEVENT
DTSTART;TZID=Europe/Helsinki:20241106T143000
DTEND;TZID=Europe/Helsinki:20241106T150000
DTSTAMP:20260424T152450
CREATED:20241029T122802Z
LAST-MODIFIED:20241029T122804Z
UID:10000740-1730903400-1730905200@social.doof.website
SUMMARY:Doof Vlaanderen (vrijwilliger): Voorleesnamiddag bibliotheek Zwijnaarde
DESCRIPTION:Op 6 november november om 14:30 uur zal een dove vrijwilliger van Doof Vlaanderen een verhaal voorlezen in gebarentaal. \n\n“Gebarentaal redt!” is een ontroerend verhaal over vriendschap en Vlaamse Gebarentaal. Dove Noah gaat voor het eerst duiken\, net als Adam. \nAdam heeft nog nooit gebarentaal gezien en wil dit graag leren. Gelukkig\, want gebarentaal wordt zijn redding tijdens het duiken! \n\nHet voorlezen van het boek in gebarentaal laat zien hoe belangrijk toegankelijkheid is in de communicatie. Iedereen is welkom om te komen\, en het is geschikt voor kinderen van 3-9 jaar. Tijdens het voorlezen is er een tolk aanwezig voor degenen die gebarentaal niet kennen.
URL:https://social.doof.website/events/doof-vlaanderen-vrijwilliger-voorleesnamiddag-bibliotheek-zwijnaarde/
LOCATION:bibliotheek zwijnaarde\, Heerweg-Zuid 22\, Zwijnaarde\, Oost Vlaanderen\, 9052
ATTACH;FMTTYPE=image/png:https://social.doof.website/wp-content/uploads/2024/10/Voorleesnamiddag-1.png
ORGANIZER;CN="Doof Vlaanderen":MAILTO:info@doof.vlaanderen
END:VEVENT
BEGIN:VEVENT
DTSTART;TZID=Europe/Paris:20240928T093000
DTEND;TZID=Europe/Paris:20240928T230000
DTSTAMP:20260424T152450
CREATED:20240222T103926Z
LAST-MODIFIED:20240222T103927Z
UID:10000123-1727515800-1727564400@social.doof.website
SUMMARY:WereldDovenDag in Aalst
DESCRIPTION:(16) Facebook
URL:https://social.doof.website/events/werelddovendag-in-aalst/
ORGANIZER;CN="Doof Vlaanderen":MAILTO:info@doof.vlaanderen
END:VEVENT
BEGIN:VEVENT
DTSTART;TZID=Europe/Paris:20240308T190000
DTEND;TZID=Europe/Paris:20240308T203000
DTSTAMP:20260424T152450
CREATED:20240302T052015Z
LAST-MODIFIED:20240305T083150Z
UID:10000141-1709924400-1709929800@social.doof.website
SUMMARY:Workshop "Veganisme: waarom en hoe word je veganist?"
DESCRIPTION:Door Ophélie Sicot (Franse dove vrouw) \nPlaats: Doof Vlaanderen\, Dorpsstraat 43\, 9052 Gent (Zwijnaarde) \nInschrijving: info@doof.vlaanderen \nIngang: gratis \nIedereen is welkom \nTolken aanwezig: International Sign naar VGT en omgekeerd
URL:https://social.doof.website/events/workshop-veganisme-waarom-en-hoe-word-je-veganist/
LOCATION:Doof Vlaanderen\, dorpstraat 43\, Zwijnaarde\, 9052\, België
ATTACH;FMTTYPE=image/png:https://social.doof.website/wp-content/uploads/2024/03/workshop-veganisme.png
ORGANIZER;CN="Doof Vlaanderen":MAILTO:info@doof.vlaanderen
END:VEVENT
END:VCALENDAR