BEGIN:VCALENDAR
VERSION:2.0
PRODID:-//Sociale Kaart - ECPv6.15.20//NONSGML v1.0//EN
CALSCALE:GREGORIAN
METHOD:PUBLISH
X-WR-CALNAME:Sociale Kaart
X-ORIGINAL-URL:https://social.doof.website
X-WR-CALDESC:Evenementen voor Sociale Kaart
REFRESH-INTERVAL;VALUE=DURATION:PT1H
X-Robots-Tag:noindex
X-PUBLISHED-TTL:PT1H
BEGIN:VTIMEZONE
TZID:Europe/Paris
BEGIN:DAYLIGHT
TZOFFSETFROM:+0100
TZOFFSETTO:+0200
TZNAME:CEST
DTSTART:20230326T010000
END:DAYLIGHT
BEGIN:STANDARD
TZOFFSETFROM:+0200
TZOFFSETTO:+0100
TZNAME:CET
DTSTART:20231029T010000
END:STANDARD
BEGIN:DAYLIGHT
TZOFFSETFROM:+0100
TZOFFSETTO:+0200
TZNAME:CEST
DTSTART:20240331T010000
END:DAYLIGHT
BEGIN:STANDARD
TZOFFSETFROM:+0200
TZOFFSETTO:+0100
TZNAME:CET
DTSTART:20241027T010000
END:STANDARD
BEGIN:DAYLIGHT
TZOFFSETFROM:+0100
TZOFFSETTO:+0200
TZNAME:CEST
DTSTART:20250330T010000
END:DAYLIGHT
BEGIN:STANDARD
TZOFFSETFROM:+0200
TZOFFSETTO:+0100
TZNAME:CET
DTSTART:20251026T010000
END:STANDARD
END:VTIMEZONE
BEGIN:VEVENT
DTSTART;TZID=Europe/Paris:20240915T110000
DTEND;TZID=Europe/Paris:20240915T120000
DTSTAMP:20260423T054405
CREATED:20240523T063249Z
LAST-MODIFIED:20240523T063251Z
UID:10000338-1726398000-1726401600@social.doof.website
SUMMARY:Lazy Sunday: collectiepresentatie met tolk VGT
DESCRIPTION:Elke maand kan je aansluiten tijdens een MoMu Lazy Sunday\, waarbij een MoMu-gids je meer toont dan wat je ziet! Elk kwartaal voorziet MoMu een tolk Vlaamse Gebarentaal (VGT)\, die het verhaal van de gids vertaalt voor personen die slechthorend of doof zijn.\nGa mee op ontdekking door de tentoonstelling en laat je leiden door de vele bijzondere verhalen. Een ideale uitstap met collega’s\, vrienden\, familie of lekker alleen!\n\nCOLLECTIEPRESENTATIE\nDe collectiepresentatie van MoMu blikt terug op vier decennia Belgische mode\, aangevuld met een selectie uit de historische collectie van het museum. De tentoonstelling geeft een overzicht van de belangrijkste protagonisten van de Belgische mode aan de hand van thema’s die het eigenzinnige karakter van de MoMu-collectie kenmerken.\n\nMOMU GALLERY X FASHION DEPARMTENT\nVoor de tentoonstelling in de MoMu-galerij selecteerde Brandon Wen\, artistiek leider van de Antwerpse Modeacademie\, een aantal bijzondere silhouetten en tekeningen uit de verschillende bachelor- en masterjaren. Door het experiment en onderzoek van de studenten te vieren en belichten\, ontstaat een interessante dialoog met de MoMu-collectiepresentatie\, waar silhouetten van vele alumni worden gepresenteerd.
URL:https://social.doof.website/events/lazy-sunday-collectiepresentatie-met-tolk-vgt/
LOCATION:MoMu Antwerpen\, Nationalestraat 28\, Antwerpen\, Antwerpen\, 2000\, België
CATEGORIES:Cultuur,Tentoonstelling,Uitstap
ATTACH;FMTTYPE=image/gif:https://social.doof.website/wp-content/uploads/2024/05/MoMu_Groepen_Expobezoek_Collectiepresentatie_2024.gif
ORGANIZER;CN="MoMu Antwerpen":MAILTO:publiek@momu.be
END:VEVENT
END:VCALENDAR