BEGIN:VCALENDAR
VERSION:2.0
PRODID:-//Sociale Kaart - ECPv6.15.20//NONSGML v1.0//EN
CALSCALE:GREGORIAN
METHOD:PUBLISH
X-ORIGINAL-URL:https://social.doof.website
X-WR-CALDESC:Evenementen voor Sociale Kaart
REFRESH-INTERVAL;VALUE=DURATION:PT1H
X-Robots-Tag:noindex
X-PUBLISHED-TTL:PT1H
BEGIN:VTIMEZONE
TZID:Europe/Helsinki
BEGIN:DAYLIGHT
TZOFFSETFROM:+0200
TZOFFSETTO:+0300
TZNAME:EEST
DTSTART:20240331T010000
END:DAYLIGHT
BEGIN:STANDARD
TZOFFSETFROM:+0300
TZOFFSETTO:+0200
TZNAME:EET
DTSTART:20241027T010000
END:STANDARD
BEGIN:DAYLIGHT
TZOFFSETFROM:+0200
TZOFFSETTO:+0300
TZNAME:EEST
DTSTART:20250330T010000
END:DAYLIGHT
BEGIN:STANDARD
TZOFFSETFROM:+0300
TZOFFSETTO:+0200
TZNAME:EET
DTSTART:20251026T010000
END:STANDARD
BEGIN:DAYLIGHT
TZOFFSETFROM:+0200
TZOFFSETTO:+0300
TZNAME:EEST
DTSTART:20260329T010000
END:DAYLIGHT
BEGIN:STANDARD
TZOFFSETFROM:+0300
TZOFFSETTO:+0200
TZNAME:EET
DTSTART:20261025T010000
END:STANDARD
END:VTIMEZONE
BEGIN:VEVENT
DTSTART;TZID=Europe/Helsinki:20250311T193000
DTEND;TZID=Europe/Helsinki:20250311T213000
DTSTAMP:20260422T025544
CREATED:20250309T071313Z
LAST-MODIFIED:20250309T071314Z
UID:10001241-1741721400-1741728600@social.doof.website
SUMMARY:Fatness + fitness? – Louise Souvagie (schrijftolk aanwezig)
DESCRIPTION:Studenten en personeel kunnen gratis binnen op vertoon van kaart. Betalende tickets zijn hier verkrijgbaar: https://apps.ticketmatic.com/widgets/vooruit/flow/tickets?event=347694693240&l=nl#!/addtickets\n\nIn de zomer van 2024 ondernam schrijfster Louise Souvagie een Six Week Crossfit Challenge. Het vormde een aanleiding om na te denken over maakbaarheid\, heteronormativiteit in fitnesscultuur en de inherente rebellie van het dikke lichaam. Want is dik zijn en dik blijven geen daad van verzet in een wereld die ons vertelt dat we ons gewicht zelf in de hand hebben? \n\nFitness is doordrongen van een idee dat we in strijd leven met ons eigen lichaam. Wanneer je wint\, toon je je succes aan met de combinatie van een geslaagde voor- en na-foto. Maar wat als je in een lichaam leeft die een tijdlijn van punt A naar punt B verwerpt? Dan val je al gauw in een categorie mensen die om verschillende redenen strijden voor inclusie zoals de queer gemeenschap. Onverwachts leiden down-ups en deadlifts naar de affiniteit tussen queerness en het dikke lichaam. Na de lezing gaat Louise Souvagie in gesprek met activiste Philsan Osman. Dit evenement vindt plaats in het kader van het WACF-festival en is een samenwerking van Studium Generale en VIERNULVIER. \n\n• Louise Souvagie is schrijver en moderator. In 2019 behaalde ze een Master in vrije kunsten aan KASK & CONSERVATORIUM. Ze maakte de podcast ‘GALLERINAS’ en schreef voor Rekto:Verso en Extra Extra Magazine. De afgelopen jaren nam ze deel aan Nieuw Geluid (deBuren)\, de Week van de Kunstkritiek (Frans Masereel Centrum) en de Mediakaravaan (de lage landen). Ze doceert kunstbeschouwing aan het Lemmensinstituut te Leuven. \n\n• Philsan Osman is co-auteur van ‘Voor Wie Willen We Zorgen: Ecofeminisme als inspiratiebron’ (EPO 2021). Ze komt uit Somalië en is schrijver\, activist en community builder. \n\nDeze lezing zal plaatsvinden in de De Minardschouwburg – de zaal is makkelijk bereikbaar voor gebruikers van een rolstoel. Gelieve bij de aankoop van een ticket te vermelden dat je rolstoelgebruiker bent. Dan wordt er alvast een aparte plaats voor jou en je eventuele begeleider gereserveerd. Bij aankomst aan de schouwburg\, kan je via een zachte helling makkelijk de ticketbalie bereiken. Meld je daar aan\, en er wordt gezocht voor begeleiding door ons zaalpersoneel. Er wordt een schrijftolk voorzien. Wie verdere vragen heeft over de toegankelijkheidsvoorzieningen\, kan contact opnemen met de organisatie: helena.verheye@hogent.be Ter plekke kunnen vragen aan de jobstudent bij de balie gesteld worden.
URL:https://social.doof.website/events/fatness-fitness-louise-souvagie-schrijftolk-aanwezig/
LOCATION:minard Gent\, Romain Deconinckplein 2\, Gent\, oost-vlaanderen\, 9000\, België
CATEGORIES:Lezing
ATTACH;FMTTYPE=image/png:https://social.doof.website/wp-content/uploads/2025/03/Scherm­afbeelding-2025-03-03-om-20.35.58.png
ORGANIZER;CN="Studium Generale Gent":MAILTO:anais.vanertvelde@hogent.be
END:VEVENT
BEGIN:VEVENT
DTSTART;TZID=Europe/Helsinki:20250313T193000
DTEND;TZID=Europe/Helsinki:20250313T213000
DTSTAMP:20260422T025544
CREATED:20250306T081452Z
LAST-MODIFIED:20250306T081454Z
UID:10001242-1741894200-1741901400@social.doof.website
SUMMARY:Fatphobia as misogynoir: gender\, race and weight stigma - Sabrina Strings (met tolk VGT)
DESCRIPTION:Students and staff can enter for free by showing their card. Paid tickets are available here: https://apps.ticketmatic.com/widgets/vooruit/flow/tickets?event=910804915596&l=nl#!/addtickets \n\nIn the West\, we commonly believe that the aversion to fatness is rooted in medical concerns\, especially given the purported “obesity epidemic.” However\, studies have shown that the aversion to fat bodies in the West precedes medical warnings about any presumed relationship between size and health. Further\, research has long-established that the group most likely to be denigrated for being fat is Black women. In this presentation\, Strings will show that contrary to popular beliefs\, fatphobia is not rooted in health concerns. Rather\, it arose as a mechanism to justify the booming enterprise of slavery through the degradation of Black people\, and Black women in particular\, as unrestrained in their “animal appetites.” Moreover\, when the medical establishment elected to take up questions regarding the relationship between fat and health in the 20th century\, physicians chose BMI as its proxy\, a tool mired in colour-blind racism. \n\nAfter the lecture\, Sabrina Strings will have a conversation with writer Philsan Osman. This event takes place in the framework of the WACF-festival and is a collaboration between Studium Generale and VIERNULVIER.\n\n• Sabrina Strings is Assistant Professor of Sociology at the University of California\, Irvine. She previously held an appointment as a Chancellor’s Postdoctoral Fellow in the Department of Sociology and the School of Public Health at the University of California\, Berkeley. \n\n• Philsan Osman is co-author of “For Whom We Want to Care: Ecofeminism as Inspiration” (EPA 2021). She is originally from Somalia and is a writer\, activist and community builder. \n\nThe lecture will take place in the theater hall at the Vooruit. There are works in progress at the Vooruit to improve accessibility. During the works\, the elevator in front of the theater hall will remain accessible. The auditorium is accessible to persons in wheelchairs\, accompanied by a VIERNULVIER staff member. Wheelchair seating is available in rows 1 and 17 of the parterre. There is an adapted restroom nearby. An interpreter will be present for this lecture to translate from English to Flemish sign language. Anyone with further questions about accessibility arrangements should contact the organization: helena.verheye@hogent.be
URL:https://social.doof.website/events/fatphobia-as-misogynoir-gender-race-and-weight-stigma-sabrina-strings-met-tolk-vgt/
LOCATION:kunstencentrum VIERNULVIER Gent\, Sint-Pietersnieuwstraat 23\, Gent\, Oost-Vlaanderen\, 9000\, België
CATEGORIES:Lezing
ATTACH;FMTTYPE=image/png:https://social.doof.website/wp-content/uploads/2025/03/Sabrina-Strings-c-Tara-Meers.png
ORGANIZER;CN="Studium Generale Gent":MAILTO:anais.vanertvelde@hogent.be
END:VEVENT
END:VCALENDAR