BEGIN:VCALENDAR
VERSION:2.0
PRODID:-//Sociale Kaart - ECPv6.15.20//NONSGML v1.0//EN
CALSCALE:GREGORIAN
METHOD:PUBLISH
X-WR-CALNAME:Sociale Kaart
X-ORIGINAL-URL:https://social.doof.website
X-WR-CALDESC:Evenementen voor Sociale Kaart
REFRESH-INTERVAL;VALUE=DURATION:PT1H
X-Robots-Tag:noindex
X-PUBLISHED-TTL:PT1H
BEGIN:VTIMEZONE
TZID:Europe/Paris
BEGIN:DAYLIGHT
TZOFFSETFROM:+0100
TZOFFSETTO:+0200
TZNAME:CEST
DTSTART:20240331T010000
END:DAYLIGHT
BEGIN:STANDARD
TZOFFSETFROM:+0200
TZOFFSETTO:+0100
TZNAME:CET
DTSTART:20241027T010000
END:STANDARD
BEGIN:DAYLIGHT
TZOFFSETFROM:+0100
TZOFFSETTO:+0200
TZNAME:CEST
DTSTART:20250330T010000
END:DAYLIGHT
BEGIN:STANDARD
TZOFFSETFROM:+0200
TZOFFSETTO:+0100
TZNAME:CET
DTSTART:20251026T010000
END:STANDARD
BEGIN:DAYLIGHT
TZOFFSETFROM:+0100
TZOFFSETTO:+0200
TZNAME:CEST
DTSTART:20260329T010000
END:DAYLIGHT
BEGIN:STANDARD
TZOFFSETFROM:+0200
TZOFFSETTO:+0100
TZNAME:CET
DTSTART:20261025T010000
END:STANDARD
END:VTIMEZONE
BEGIN:VEVENT
DTSTART;TZID=Europe/Paris:20250119T110000
DTEND;TZID=Europe/Paris:20250119T120000
DTSTAMP:20260422T055728
CREATED:20240716T055253Z
LAST-MODIFIED:20240716T060739Z
UID:10000374-1737284400-1737288000@social.doof.website
SUMMARY:Lazy Sunday: Maskerade\, make-up & Ensor met tolk VGT
DESCRIPTION:Elke maand kan je aansluiten tijdens een MoMu Lazy Sunday\, waarbij een MoMu-gids je meer toont dan wat je ziet! Elk kwartaal voorziet MoMu een tolk Vlaamse Gebarentaal (VGT)\, die het verhaal van de gids vertaalt voor personen die slechthorend of doof zijn.\nGa mee op ontdekking door de tentoonstelling en laat je leiden door de vele bijzondere verhalen. Een ideale uitstap met collega’s\, vrienden\, familie of lekker alleen!\n\nDe tentoonstelling Maskerade\, make-up & Ensor  presenteert werk van make-up artiesten en kunstenaars die dieper ingaan op thema’s als representatie van vrouwen\, fysieke en digitale gezichtsfilters\, verstoorde lichaamsbeelden en het ritueel van het opmaken.\n\nMake-up wordt doorheen de geschiedenis vaak met enige argwaan vergeleken met het dragen van een masker: een masker waarachter vooral de vrouw zich zou verschuilen. Make-up is vandaag uitgegroeid tot een miljoenenindustrie die de mens met zijn lichamelijke vergankelijkheid\, ingebeelde imperfecties en existentiële angsten confronteert. Maar make-up is ook een vorm van persoonlijke expressie\, artistiek experiment en vrijheid.
URL:https://social.doof.website/events/lazy-sunday-maskerade-make-up-ensor-met-tolk-vgt/
LOCATION:MoMu Antwerpen\, Nationalestraat 28\, Antwerpen\, Antwerpen\, 2000\, België
CATEGORIES:Cultuur,Tentoonstelling,Uitstap
ATTACH;FMTTYPE=image/gif:https://social.doof.website/wp-content/uploads/2024/07/MoMu_Groepen_Expobezoek_Collectiepresentatie_2024.gif
ORGANIZER;CN="MoMu Antwerpen":MAILTO:publiek@momu.be
END:VEVENT
END:VCALENDAR