BEGIN:VCALENDAR
VERSION:2.0
PRODID:-//Sociale Kaart - ECPv6.15.20//NONSGML v1.0//EN
CALSCALE:GREGORIAN
METHOD:PUBLISH
X-WR-CALNAME:Sociale Kaart
X-ORIGINAL-URL:https://social.doof.website
X-WR-CALDESC:Evenementen voor Sociale Kaart
REFRESH-INTERVAL;VALUE=DURATION:PT1H
X-Robots-Tag:noindex
X-PUBLISHED-TTL:PT1H
BEGIN:VTIMEZONE
TZID:Europe/Helsinki
BEGIN:DAYLIGHT
TZOFFSETFROM:+0200
TZOFFSETTO:+0300
TZNAME:EEST
DTSTART:20240331T010000
END:DAYLIGHT
BEGIN:STANDARD
TZOFFSETFROM:+0300
TZOFFSETTO:+0200
TZNAME:EET
DTSTART:20241027T010000
END:STANDARD
BEGIN:DAYLIGHT
TZOFFSETFROM:+0200
TZOFFSETTO:+0300
TZNAME:EEST
DTSTART:20250330T010000
END:DAYLIGHT
BEGIN:STANDARD
TZOFFSETFROM:+0300
TZOFFSETTO:+0200
TZNAME:EET
DTSTART:20251026T010000
END:STANDARD
BEGIN:DAYLIGHT
TZOFFSETFROM:+0200
TZOFFSETTO:+0300
TZNAME:EEST
DTSTART:20260329T010000
END:DAYLIGHT
BEGIN:STANDARD
TZOFFSETFROM:+0300
TZOFFSETTO:+0200
TZNAME:EET
DTSTART:20261025T010000
END:STANDARD
END:VTIMEZONE
BEGIN:VEVENT
DTSTART;TZID=Europe/Helsinki:20250410T133000
DTEND;TZID=Europe/Helsinki:20250410T170000
DTSTAMP:20260423T041356
CREATED:20250321T092837Z
LAST-MODIFIED:20250321T092839Z
UID:10001255-1744291800-1744304400@social.doof.website
SUMMARY:Doof & Jong: Clip and Climb / binnenspeeltuin
DESCRIPTION:In de paasvakantie\, op donderdag 10 april\, gaan wij nog eens op uitstap met kinderen/jongeren van 4 jaar tem 15 jaar.\n\nMet de allerkleinsten (4 tem 6 jaar) zullen we naar de binnenspeeltuin gaan. Meer info op: https://yeti-eeklo.be/kidscorner/ (scroll helemaal naar beneden)\n\nMet de grotere kinderen (7 tem 15 jaar) gaan we klimmen. Meer info op: https://yeti-eeklo.be/clip-and-climb-klimmen/  Als je komt klimmen\, raden we je aan sportieve kleding en propere\, platte\, goed vastzittende\, gesloten schoenen te dragen. MAXIMAAL 15 PERSONEN. VOL = VOL (inschrijven kan tot met 7 april)\n\nBeide activiteiten gaan dus door op dezelfde locatie. We spreken af om 13.30h en sluiten de dag af om 17h. \n\nAdres:\nLeopoldlaan 60\, 9900 Eeklo\n\nGroepen:\n1. Groep 1 (4 – 6 jaar oud)\n2. Groep 2 (7 – 15 jaar oud)\n\nPrijs:  \nGroep 1: gratis + 1 drankje gratis\nGroep 2: 12 euro + 1 drankje gratis\n\n\nGelieve 12 euro over te schrijven op onderstaand rekeningnummer.\nIBAN BE85 9730 3591 6306 Met melding: “ClipClimb + naam deelnemer”\n\nHeb je nog vragen?\nContacteer ons via e-mail: \n\nlien.degrooff@doofjong.be (3 – 6 jaar) \njolien.elferink@doofjong.be (7 – 15 jaar)\n\nTot snel! \n\nINSCHRIJVEN: https://forms.gle/B61EVmstf2P8RhB76
URL:https://social.doof.website/events/doof-jong-clip-and-climb-binnenspeeltuin/
LOCATION:Yeti Eeklo
ATTACH;FMTTYPE=image/png:https://social.doof.website/wp-content/uploads/2025/03/clip-and-clim.png
ORGANIZER;CN="Doof &amp%3B Jong":MAILTO:info@doofjong.be
END:VEVENT
END:VCALENDAR