BEGIN:VCALENDAR
VERSION:2.0
PRODID:-//Sociale Kaart - ECPv6.15.20//NONSGML v1.0//EN
CALSCALE:GREGORIAN
METHOD:PUBLISH
X-WR-CALNAME:Sociale Kaart
X-ORIGINAL-URL:https://social.doof.website
X-WR-CALDESC:Evenementen voor Sociale Kaart
REFRESH-INTERVAL;VALUE=DURATION:PT1H
X-Robots-Tag:noindex
X-PUBLISHED-TTL:PT1H
BEGIN:VTIMEZONE
TZID:Europe/Helsinki
BEGIN:DAYLIGHT
TZOFFSETFROM:+0200
TZOFFSETTO:+0300
TZNAME:EEST
DTSTART:20240331T010000
END:DAYLIGHT
BEGIN:STANDARD
TZOFFSETFROM:+0300
TZOFFSETTO:+0200
TZNAME:EET
DTSTART:20241027T010000
END:STANDARD
BEGIN:DAYLIGHT
TZOFFSETFROM:+0200
TZOFFSETTO:+0300
TZNAME:EEST
DTSTART:20250330T010000
END:DAYLIGHT
BEGIN:STANDARD
TZOFFSETFROM:+0300
TZOFFSETTO:+0200
TZNAME:EET
DTSTART:20251026T010000
END:STANDARD
BEGIN:DAYLIGHT
TZOFFSETFROM:+0200
TZOFFSETTO:+0300
TZNAME:EEST
DTSTART:20260329T010000
END:DAYLIGHT
BEGIN:STANDARD
TZOFFSETFROM:+0300
TZOFFSETTO:+0200
TZNAME:EET
DTSTART:20261025T010000
END:STANDARD
END:VTIMEZONE
BEGIN:VEVENT
DTSTART;TZID=Europe/Helsinki:20251122T140000
DTEND;TZID=Europe/Helsinki:20251122T143000
DTSTAMP:20260421T211706
CREATED:20251028T140935Z
LAST-MODIFIED:20251028T140936Z
UID:10001396-1763820000-1763821800@social.doof.website
SUMMARY:Bezoek aan het Huis van de Sint met VGT-tolk
DESCRIPTION:Bezoek het Huis van de Sint in Sint-Niklaas.\nJe ontdekt waar Sinterklaas slaapt\, wat hij eet\, of hij een bad neemt of een douche\, en waar de Pieten oefenen voor de Grote Dag.\nSinterklaas zorgt er voor dat er op 22/11 om 14 uur een Piet aanwezig is die VGT gebruikt\, zodat dove en slechthorende kinderen alles goed kunnen volgen.\nHet bezoek is voor kinderen vanaf 4 jaar\, samen met hun gezin.
URL:https://social.doof.website/events/bezoek-aan-het-huis-van-de-sint-met-vgt-tolk/
LOCATION:Huis van de Sint\, Regentiestraat 11\, Sint-Niklaas\, 9100\, België
CATEGORIES:Andere
ORGANIZER;CN="stad Sint-Niklaas":MAILTO:info@ccsint-niklaas.be
END:VEVENT
BEGIN:VEVENT
DTSTART;TZID=Europe/Helsinki:20251129T103000
DTEND;TZID=Europe/Helsinki:20251129T123000
DTSTAMP:20260421T211706
CREATED:20251029T123219Z
LAST-MODIFIED:20251029T123221Z
UID:10001395-1764412200-1764419400@social.doof.website
SUMMARY:Sint in de Piste met dove tolk
DESCRIPTION:Kom genieten van een spectaculaire circusshow in Sinterklaasstijl op zaterdag 29 november om 10.30 uur\, Grote Markt Sint-Niklaas.\nTickets via www.sintindepiste.be
URL:https://social.doof.website/events/sint-in-de-piste-met-dove-tolk/
LOCATION:Grote Markt Sint-Niklaas\, Grote Markt 1\, Sint-Niklaas\, 9100\, België
CATEGORIES:Andere,Voorstelling
ATTACH;FMTTYPE=image/jpeg:https://social.doof.website/wp-content/uploads/2025/10/Digitaal_SintindePiste-1.jpg
END:VEVENT
END:VCALENDAR