BEGIN:VCALENDAR
VERSION:2.0
PRODID:-//Sociale Kaart - ECPv6.15.20//NONSGML v1.0//EN
CALSCALE:GREGORIAN
METHOD:PUBLISH
X-WR-CALNAME:Sociale Kaart
X-ORIGINAL-URL:https://social.doof.website
X-WR-CALDESC:Evenementen voor Sociale Kaart
REFRESH-INTERVAL;VALUE=DURATION:PT1H
X-Robots-Tag:noindex
X-PUBLISHED-TTL:PT1H
BEGIN:VTIMEZONE
TZID:Europe/Helsinki
BEGIN:DAYLIGHT
TZOFFSETFROM:+0200
TZOFFSETTO:+0300
TZNAME:EEST
DTSTART:20240331T010000
END:DAYLIGHT
BEGIN:STANDARD
TZOFFSETFROM:+0300
TZOFFSETTO:+0200
TZNAME:EET
DTSTART:20241027T010000
END:STANDARD
BEGIN:DAYLIGHT
TZOFFSETFROM:+0200
TZOFFSETTO:+0300
TZNAME:EEST
DTSTART:20250330T010000
END:DAYLIGHT
BEGIN:STANDARD
TZOFFSETFROM:+0300
TZOFFSETTO:+0200
TZNAME:EET
DTSTART:20251026T010000
END:STANDARD
BEGIN:DAYLIGHT
TZOFFSETFROM:+0200
TZOFFSETTO:+0300
TZNAME:EEST
DTSTART:20260329T010000
END:DAYLIGHT
BEGIN:STANDARD
TZOFFSETFROM:+0300
TZOFFSETTO:+0200
TZNAME:EET
DTSTART:20261025T010000
END:STANDARD
END:VTIMEZONE
BEGIN:VEVENT
DTSTART;TZID=Europe/Helsinki:20251011T093000
DTEND;TZID=Europe/Helsinki:20251011T170000
DTSTAMP:20260421T143814
CREATED:20251002T101032Z
LAST-MODIFIED:20251002T101035Z
UID:10001379-1760175000-1760202000@social.doof.website
SUMMARY:Live entertainment mét Vlaamse gebarentaal
DESCRIPTION:Van vlammen en rookpluimen tot felle bliksemschichten… Je zou voor minder even in je ogen wrijven tijdens onze voorstellingen. Maar er is méér om van te genieten. Een spannende verhaallijn en een woordje uitleg bij de experimenten bijvoorbeeld. Daarom zorgen we speciaal voor dove en slechthorende personen voor het eerst voor Vlaamse gebarentaal bij onze voorstellingen.\n\nJe tickets kan je boeken op technopolis.be of aan de kassa. 🧪
URL:https://social.doof.website/events/live-entertainment-met-vlaamse-gebarentaal/
LOCATION:Technopolis\, Technologielaan 1\, Mechelen\, Provincie Antwerpen\, 2800\, België
CATEGORIES:Ontspanning
ATTACH;FMTTYPE=image/png:https://social.doof.website/wp-content/uploads/2025/10/Edu-met-rook.png
ORGANIZER;CN="Technopolis":MAILTO:info@technopolis.be
END:VEVENT
END:VCALENDAR