BEGIN:VCALENDAR
VERSION:2.0
PRODID:-//Sociale Kaart - ECPv6.15.20//NONSGML v1.0//EN
CALSCALE:GREGORIAN
METHOD:PUBLISH
X-ORIGINAL-URL:https://social.doof.website
X-WR-CALDESC:Evenementen voor Sociale Kaart
REFRESH-INTERVAL;VALUE=DURATION:PT1H
X-Robots-Tag:noindex
X-PUBLISHED-TTL:PT1H
BEGIN:VTIMEZONE
TZID:Europe/Paris
BEGIN:DAYLIGHT
TZOFFSETFROM:+0100
TZOFFSETTO:+0200
TZNAME:CEST
DTSTART:20230326T010000
END:DAYLIGHT
BEGIN:STANDARD
TZOFFSETFROM:+0200
TZOFFSETTO:+0100
TZNAME:CET
DTSTART:20231029T010000
END:STANDARD
BEGIN:DAYLIGHT
TZOFFSETFROM:+0100
TZOFFSETTO:+0200
TZNAME:CEST
DTSTART:20240331T010000
END:DAYLIGHT
BEGIN:STANDARD
TZOFFSETFROM:+0200
TZOFFSETTO:+0100
TZNAME:CET
DTSTART:20241027T010000
END:STANDARD
BEGIN:DAYLIGHT
TZOFFSETFROM:+0100
TZOFFSETTO:+0200
TZNAME:CEST
DTSTART:20250330T010000
END:DAYLIGHT
BEGIN:STANDARD
TZOFFSETFROM:+0200
TZOFFSETTO:+0100
TZNAME:CET
DTSTART:20251026T010000
END:STANDARD
END:VTIMEZONE
BEGIN:VEVENT
DTSTART;TZID=Europe/Paris:20240519T110000
DTEND;TZID=Europe/Paris:20240519T120000
DTSTAMP:20260422T211350
CREATED:20240305T083302Z
LAST-MODIFIED:20240305T083303Z
UID:10000142-1716116400-1716120000@social.doof.website
SUMMARY:Lazy Sunday: WILLY VANDERPERRE met tolk VGT
DESCRIPTION:Elke maand kan je aansluiten tijdens een MoMu Lazy Sunday\, waarbij een MoMu-gids je meer toont dan wat je ziet! Elk kwartaal voorziet MoMu een tolk Vlaamse Gebarentaal (VGT)\, die het verhaal van de gids vertaalt voor personen die slechthorend of doof zijn.\nGa mee op ontdekking door de tentoonstelling en laat je leiden door de vele bijzondere verhalen. Een ideale uitstap met collega’s\, vrienden\, familie of lekker alleen!\n\nMoMu verkent het oeuvre van de Belgische fotograaf Willy Vanderperre. Zijn editoriaal werk verschijnt in magazines zoals AnOther Magazine\, Dust\, i-D\, Perfect\, Vogue en W Magazine. Daarnaast fotografeerde hij onder meer campagnes voor modehuizen als Dior en Prada.\n\nDe tentoonstelling belicht hoe Vanderperre zijn fascinatie voor jeugd hem al bijna drie decennia voortdrijft. In dialoog met zijn foto’s selecteerde hij enkele kunstwerken die hem inspireren in de voortdurende ontwikkeling van zijn universum. Het overzicht van zijn fotografisch werk beschouwt naast de evolutie in beeldtaal ook de jarenlange samenwerking met Olivier Rizzo en Raf Simons.
URL:https://social.doof.website/events/lazy-sunday-willy-vanderperre-met-tolk-vgt/
LOCATION:MoMu Antwerpen\, Nationalestraat 28\, Antwerpen\, Antwerpen\, 2000\, België
CATEGORIES:Cultuur,Tentoonstelling,Uitstap
ATTACH;FMTTYPE=image/jpeg:https://social.doof.website/wp-content/uploads/2024/03/RS188716_JB_MoMuOpeningsweekend_HR-69-lpr.jpg
ORGANIZER;CN="MoMu Antwerpen":MAILTO:publiek@momu.be
END:VEVENT
END:VCALENDAR