BEGIN:VCALENDAR
VERSION:2.0
PRODID:-//Sociale Kaart - ECPv6.15.20//NONSGML v1.0//EN
CALSCALE:GREGORIAN
METHOD:PUBLISH
X-ORIGINAL-URL:https://social.doof.website
X-WR-CALDESC:Evenementen voor Sociale Kaart
REFRESH-INTERVAL;VALUE=DURATION:PT1H
X-Robots-Tag:noindex
X-PUBLISHED-TTL:PT1H
BEGIN:VTIMEZONE
TZID:Europe/Helsinki
BEGIN:DAYLIGHT
TZOFFSETFROM:+0200
TZOFFSETTO:+0300
TZNAME:EEST
DTSTART:20240331T010000
END:DAYLIGHT
BEGIN:STANDARD
TZOFFSETFROM:+0300
TZOFFSETTO:+0200
TZNAME:EET
DTSTART:20241027T010000
END:STANDARD
BEGIN:DAYLIGHT
TZOFFSETFROM:+0200
TZOFFSETTO:+0300
TZNAME:EEST
DTSTART:20250330T010000
END:DAYLIGHT
BEGIN:STANDARD
TZOFFSETFROM:+0300
TZOFFSETTO:+0200
TZNAME:EET
DTSTART:20251026T010000
END:STANDARD
BEGIN:DAYLIGHT
TZOFFSETFROM:+0200
TZOFFSETTO:+0300
TZNAME:EEST
DTSTART:20260329T010000
END:DAYLIGHT
BEGIN:STANDARD
TZOFFSETFROM:+0300
TZOFFSETTO:+0200
TZNAME:EET
DTSTART:20261025T010000
END:STANDARD
END:VTIMEZONE
BEGIN:VEVENT
DTSTART;TZID=Europe/Helsinki:20250919T183000
DTEND;TZID=Europe/Helsinki:20250919T213000
DTSTAMP:20260422T045616
CREATED:20250901T112650Z
LAST-MODIFIED:20250901T112652Z
UID:10001351-1758306600-1758317400@social.doof.website
SUMMARY:DovenActie Brugge: Vormingsavond Dovenloket\, Be Alert & Noodnummer 112
DESCRIPTION:Vorming over 1. Dovenloket en Be Alert2. Noodnummer 112 en toegankelijkheid voor doven bij andere nooddienstenSpreker: Dennis DeschildreInschrijven niet nodig
URL:https://social.doof.website/events/dovenactie-brugge-vormingsavond-dovenloket-be-alert-noodnummer-112/
LOCATION:De Stip\, St. Jozefdreef 8\, 8020 Oostkamp\, West Vlaanderen\, 8020\, België
CATEGORIES:Vorming
ORGANIZER;CN="DovenActie regio Brugge":MAILTO:brugge@dovenactie.be
END:VEVENT
END:VCALENDAR