BEGIN:VCALENDAR
VERSION:2.0
PRODID:-//Sociale Kaart - ECPv6.15.20//NONSGML v1.0//EN
CALSCALE:GREGORIAN
METHOD:PUBLISH
X-ORIGINAL-URL:https://social.doof.website
X-WR-CALDESC:Evenementen voor Sociale Kaart
REFRESH-INTERVAL;VALUE=DURATION:PT1H
X-Robots-Tag:noindex
X-PUBLISHED-TTL:PT1H
BEGIN:VTIMEZONE
TZID:Europe/Helsinki
BEGIN:DAYLIGHT
TZOFFSETFROM:+0200
TZOFFSETTO:+0300
TZNAME:EEST
DTSTART:20230326T010000
END:DAYLIGHT
BEGIN:STANDARD
TZOFFSETFROM:+0300
TZOFFSETTO:+0200
TZNAME:EET
DTSTART:20231029T010000
END:STANDARD
BEGIN:DAYLIGHT
TZOFFSETFROM:+0200
TZOFFSETTO:+0300
TZNAME:EEST
DTSTART:20240331T010000
END:DAYLIGHT
BEGIN:STANDARD
TZOFFSETFROM:+0300
TZOFFSETTO:+0200
TZNAME:EET
DTSTART:20241027T010000
END:STANDARD
BEGIN:DAYLIGHT
TZOFFSETFROM:+0200
TZOFFSETTO:+0300
TZNAME:EEST
DTSTART:20250330T010000
END:DAYLIGHT
BEGIN:STANDARD
TZOFFSETFROM:+0300
TZOFFSETTO:+0200
TZNAME:EET
DTSTART:20251026T010000
END:STANDARD
END:VTIMEZONE
BEGIN:VEVENT
DTSTART;TZID=Europe/Helsinki:20241126T093000
DTEND;TZID=Europe/Helsinki:20241126T113000
DTSTAMP:20260422T201427
CREATED:20241022T124548Z
LAST-MODIFIED:20241022T124550Z
UID:10000446-1732613400-1732620600@social.doof.website
SUMMARY:De Kade vzw : Infosessie 'Whatsapp'
DESCRIPTION:Inschrijven via yentl.ketelers@de-kade.be\n\nVoor alle bestaande en nieuwe RTH-cliënten\nBijdrage: € 6\,34
URL:https://social.doof.website/events/de-kade-vzw-infosessie-whatsapp/
LOCATION:De Kade-Spermalie\, Snaggaardstraat 9\, Brugge\, West-Vlaanderen\, 8000\, België
CATEGORIES:Vorming
ATTACH;FMTTYPE=image/png:https://social.doof.website/wp-content/uploads/2024/10/GS-Whatsapp.png
ORGANIZER;CN="Perspectief Volwassenen (De Kade vzw)":MAILTO:yentl.ketelers@de-kade.be
END:VEVENT
END:VCALENDAR