BEGIN:VCALENDAR
VERSION:2.0
PRODID:-//Sociale Kaart - ECPv6.15.20//NONSGML v1.0//EN
CALSCALE:GREGORIAN
METHOD:PUBLISH
X-WR-CALNAME:Sociale Kaart
X-ORIGINAL-URL:https://social.doof.website
X-WR-CALDESC:Evenementen voor Sociale Kaart
REFRESH-INTERVAL;VALUE=DURATION:PT1H
X-Robots-Tag:noindex
X-PUBLISHED-TTL:PT1H
BEGIN:VTIMEZONE
TZID:Europe/Paris
BEGIN:DAYLIGHT
TZOFFSETFROM:+0100
TZOFFSETTO:+0200
TZNAME:CEST
DTSTART:20230326T010000
END:DAYLIGHT
BEGIN:STANDARD
TZOFFSETFROM:+0200
TZOFFSETTO:+0100
TZNAME:CET
DTSTART:20231029T010000
END:STANDARD
BEGIN:DAYLIGHT
TZOFFSETFROM:+0100
TZOFFSETTO:+0200
TZNAME:CEST
DTSTART:20240331T010000
END:DAYLIGHT
BEGIN:STANDARD
TZOFFSETFROM:+0200
TZOFFSETTO:+0100
TZNAME:CET
DTSTART:20241027T010000
END:STANDARD
BEGIN:DAYLIGHT
TZOFFSETFROM:+0100
TZOFFSETTO:+0200
TZNAME:CEST
DTSTART:20250330T010000
END:DAYLIGHT
BEGIN:STANDARD
TZOFFSETFROM:+0200
TZOFFSETTO:+0100
TZNAME:CET
DTSTART:20251026T010000
END:STANDARD
END:VTIMEZONE
BEGIN:VEVENT
DTSTART;TZID=Europe/Paris:20240426T100000
DTEND;TZID=Europe/Paris:20240426T120000
DTSTAMP:20260423T063630
CREATED:20240416T072826Z
LAST-MODIFIED:20240416T073345Z
UID:10000190-1714125600-1714132800@social.doof.website
SUMMARY:Infosessie “WhatsApp”
DESCRIPTION:Op 26 april organiseren we vanuit Perspectief Volwassenen (De Kade vzw) een informatiesessie in Vlaamse Gebarentaal. In deze groepssessie wordt uitleg gegeven over de app “WhatsApp”. Dit gaat door op vrijdag 26 april 2024 om 10 uur in BC Spermalie (Snaggaardstraat 9 te Brugge). \nMeer informatie zie je op de poster in bijlage en kan je vragen aan Yentl Ketelers. Vergeet niet tijdig in te schrijven.\nAlles gaat door in BC Spermalie en wordt in VGT uitgelegd. Personen met een visuele beperking mogen een assistent meebrengen om hen te ondersteunen.\nGelieve voor 19 april in te schrijven via yentl.ketelers@de-kade.be\n(VAPH-bijdrage van €6\,34 voor groepssessie wordt aangerekend met RTH-punten.)
URL:https://social.doof.website/events/infosessie-whatsapp/
LOCATION:De Kade-Spermalie\, Snaggaardstraat 9\, Brugge\, West-Vlaanderen\, 8000\, België
CATEGORIES:Vorming
ATTACH;FMTTYPE=image/png:https://social.doof.website/wp-content/uploads/2024/04/GS-Whatsapp.png
ORGANIZER;CN="Perspectief Volwassenen (De Kade vzw)":MAILTO:yentl.ketelers@de-kade.be
END:VEVENT
END:VCALENDAR