BEGIN:VCALENDAR
VERSION:2.0
PRODID:-//Sociale Kaart - ECPv6.15.20//NONSGML v1.0//EN
CALSCALE:GREGORIAN
METHOD:PUBLISH
X-WR-CALNAME:Sociale Kaart
X-ORIGINAL-URL:https://social.doof.website
X-WR-CALDESC:Evenementen voor Sociale Kaart
REFRESH-INTERVAL;VALUE=DURATION:PT1H
X-Robots-Tag:noindex
X-PUBLISHED-TTL:PT1H
BEGIN:VTIMEZONE
TZID:Europe/Helsinki
BEGIN:DAYLIGHT
TZOFFSETFROM:+0200
TZOFFSETTO:+0300
TZNAME:EEST
DTSTART:20250330T010000
END:DAYLIGHT
BEGIN:STANDARD
TZOFFSETFROM:+0300
TZOFFSETTO:+0200
TZNAME:EET
DTSTART:20251026T010000
END:STANDARD
BEGIN:DAYLIGHT
TZOFFSETFROM:+0200
TZOFFSETTO:+0300
TZNAME:EEST
DTSTART:20260329T010000
END:DAYLIGHT
BEGIN:STANDARD
TZOFFSETFROM:+0300
TZOFFSETTO:+0200
TZNAME:EET
DTSTART:20261025T010000
END:STANDARD
BEGIN:DAYLIGHT
TZOFFSETFROM:+0200
TZOFFSETTO:+0300
TZNAME:EEST
DTSTART:20270328T010000
END:DAYLIGHT
BEGIN:STANDARD
TZOFFSETFROM:+0300
TZOFFSETTO:+0200
TZNAME:EET
DTSTART:20271031T010000
END:STANDARD
END:VTIMEZONE
BEGIN:VEVENT
DTSTART;TZID=Europe/Helsinki:20260412T154500
DTEND;TZID=Europe/Helsinki:20260412T164500
DTSTAMP:20260424T220317
CREATED:20260327T131037Z
LAST-MODIFIED:20260327T131040Z
UID:10001582-1776008700-1776012300@social.doof.website
SUMMARY:Inclusieve storytelling in Train World
DESCRIPTION:Kom op 12 april 2026 naar de prikkelarme dag van Train World in Schaarbeek en neem deel aan de inclusieve storytelling. Luister naar verhalen die gelijktijdig in Vlaamse Gebarentaal (VGT) gebracht worden.Horenden\, slechthorenden en doven maken tegelijk de voorstelling mee. Altijd erg leuk en gezellig.Vertellers van dienst: Sylvie Van Landuyt en Lisa BraesMeer info in deze video in VGT (ondertiteld) https://vimeo.com/1176484199 en op www.trainworld.be
URL:https://social.doof.website/events/inclusieve-storytelling-in-train-world-2/
LOCATION:Train World\, Prinses Elisabethplein 5\, Schaarbeek\, Brussel\, 1030\, België
CATEGORIES:Cultuur,Ontspanning,Theater,Voorstelling
ATTACH;FMTTYPE=image/jpeg:https://social.doof.website/wp-content/uploads/2026/03/afbeelding-20251116-135240-316e9436-scaled.jpeg
ORGANIZER;CN="TrainWorld":MAILTO:info@trainworld.be
END:VEVENT
END:VCALENDAR