BEGIN:VCALENDAR
VERSION:2.0
PRODID:-//Sociale Kaart - ECPv6.15.20//NONSGML v1.0//EN
CALSCALE:GREGORIAN
METHOD:PUBLISH
X-WR-CALNAME:Sociale Kaart
X-ORIGINAL-URL:https://social.doof.website
X-WR-CALDESC:Evenementen voor Sociale Kaart
REFRESH-INTERVAL;VALUE=DURATION:PT1H
X-Robots-Tag:noindex
X-PUBLISHED-TTL:PT1H
BEGIN:VTIMEZONE
TZID:Europe/Helsinki
BEGIN:DAYLIGHT
TZOFFSETFROM:+0200
TZOFFSETTO:+0300
TZNAME:EEST
DTSTART:20230326T010000
END:DAYLIGHT
BEGIN:STANDARD
TZOFFSETFROM:+0300
TZOFFSETTO:+0200
TZNAME:EET
DTSTART:20231029T010000
END:STANDARD
BEGIN:DAYLIGHT
TZOFFSETFROM:+0200
TZOFFSETTO:+0300
TZNAME:EEST
DTSTART:20240331T010000
END:DAYLIGHT
BEGIN:STANDARD
TZOFFSETFROM:+0300
TZOFFSETTO:+0200
TZNAME:EET
DTSTART:20241027T010000
END:STANDARD
BEGIN:DAYLIGHT
TZOFFSETFROM:+0200
TZOFFSETTO:+0300
TZNAME:EEST
DTSTART:20250330T010000
END:DAYLIGHT
BEGIN:STANDARD
TZOFFSETFROM:+0300
TZOFFSETTO:+0200
TZNAME:EET
DTSTART:20251026T010000
END:STANDARD
BEGIN:DAYLIGHT
TZOFFSETFROM:+0200
TZOFFSETTO:+0300
TZNAME:EEST
DTSTART:20260329T010000
END:DAYLIGHT
BEGIN:STANDARD
TZOFFSETFROM:+0300
TZOFFSETTO:+0200
TZNAME:EET
DTSTART:20261025T010000
END:STANDARD
END:VTIMEZONE
BEGIN:VTIMEZONE
TZID:Europe/Paris
BEGIN:DAYLIGHT
TZOFFSETFROM:+0100
TZOFFSETTO:+0200
TZNAME:CEST
DTSTART:20230326T010000
END:DAYLIGHT
BEGIN:STANDARD
TZOFFSETFROM:+0200
TZOFFSETTO:+0100
TZNAME:CET
DTSTART:20231029T010000
END:STANDARD
BEGIN:DAYLIGHT
TZOFFSETFROM:+0100
TZOFFSETTO:+0200
TZNAME:CEST
DTSTART:20240331T010000
END:DAYLIGHT
BEGIN:STANDARD
TZOFFSETFROM:+0200
TZOFFSETTO:+0100
TZNAME:CET
DTSTART:20241027T010000
END:STANDARD
BEGIN:DAYLIGHT
TZOFFSETFROM:+0100
TZOFFSETTO:+0200
TZNAME:CEST
DTSTART:20250330T010000
END:DAYLIGHT
BEGIN:STANDARD
TZOFFSETFROM:+0200
TZOFFSETTO:+0100
TZNAME:CET
DTSTART:20251026T010000
END:STANDARD
BEGIN:DAYLIGHT
TZOFFSETFROM:+0100
TZOFFSETTO:+0200
TZNAME:CEST
DTSTART:20260329T010000
END:DAYLIGHT
BEGIN:STANDARD
TZOFFSETFROM:+0200
TZOFFSETTO:+0100
TZNAME:CET
DTSTART:20261025T010000
END:STANDARD
END:VTIMEZONE
BEGIN:VEVENT
DTSTART;TZID=Europe/Helsinki:20251014T200000
DTEND;TZID=Europe/Helsinki:20251014T213000
DTSTAMP:20260424T175646
CREATED:20250715T134452Z
LAST-MODIFIED:20250716T130502Z
UID:10001330-1760472000-1760477400@social.doof.website
SUMMARY:VGT tijdens ‘Aan de start van de brug’ – NTGent & Werktoneel
DESCRIPTION:Wat bezielt de mens om de eigen sterfelijkheid te willen overwinnen? Werktoneel creëerde samen met NTGent een gloednieuwe voorstelling\, opvolger van het uiterst succesvolle Gruis / aan de twijfel.\n\nGrote maatschappelijke fenomenen beschrijven vanuit hyperpersoonlijke verhalen en werelden. Dat kunnen de klasbakken van Werktoneel (Jesse Vandamme\, Louise Bergez\, Joeri Happel\, Lucie Plasschaert en Lucas van der Vegt) als geen ander. Of het nu gaat over waanzin en angst (Solipsists)\, klimaat en kapitaal (Giants)\, liefde en huwelijk (Scènes)\, of succes en falen (Gruis / aan de twijfel). In Aan de start van de brug  benaderen ze het ultieme menselijk fenomeen: het sluimerende besef van onze tijdelijkheid. \n\n“Subliem spelerstoneel. De nieuwe generatie is gearriveerd en ze is hier om te blijven.” Dat schreef De Standaard over Gruis / aan de twijfel (2023)\, verkozen tot beste theatervoorstelling van het jaar. Het stuk\, gebaseerd op het oeuvre van Willem Frederik Hermans\, bombardeerde collectief Werktoneel tot lieveling van publiek en pers.\n\nUITPAS & European Disbabity Card zijn mogelijk waarbij de begeleider gratis kan aansluiten. Bij vragen\, aarzel niet om ons te contacteren via maarten.degezelle@ntgent.be
URL:https://social.doof.website/events/vlaamse-gebarentaal-tijdens-aan-de-start-van-de-brug-ntgent-werktoneel/
LOCATION:Schouwburg NTGent\, Sint-Baafsplein 17\, Gent\, Oost-Vlaanderen\, 9000\, België
CATEGORIES:Cultuur,Theater
ATTACH;FMTTYPE=image/jpeg:https://social.doof.website/wp-content/uploads/2025/07/IMGL0686_druk-c-Michiel-Devijver.jpg
ORGANIZER;CN="NTGent":MAILTO:info@ntgent.be
END:VEVENT
BEGIN:VEVENT
DTSTART;TZID=Europe/Helsinki:20251005T150000
DTEND;TZID=Europe/Helsinki:20251105T163000
DTSTAMP:20260424T175646
CREATED:20250715T134410Z
LAST-MODIFIED:20250716T125504Z
UID:10001329-1759676400-1762360200@social.doof.website
SUMMARY:VGT tijdens Trouble Score- NTGent & Luanda & Pablo Casella
DESCRIPTION:Een snedig en ontregelend theaterconcert over de lijdensweg van het leven met trauma en het herstel daarvan. \n\nBroer en zus Luanda en Pablo Casella duiken in een oud familieschandaal\, een web van gefragmenteerde misdaadverhalen. Tegen de achtergrond van rassenscheiding en een militaire dictatuur raken ze verstrikt in de rafels van een onmogelijk plot — een plot waarin kinderlijke onschuld botst met de vervormde werkelijkheid van een trauma. \n\nMet veel gevoel voor humor en in een sfeer van onderlinge medeplichtigheid vat Trouble Score de fantastische\, mysterieuze en vaak hallucinante aard van familiedynamiek. \n\nDe voorstelling maakt gebruik van magisch realisme als tool voor transformatie: pijnlijke ervaringen worden omgezet in popsongs\, copingmechanismen worden grotesk uitvergroot\, ongezonde patronen krijgen de kracht van helende mantra’s. \n\n\nUITPAS & EDC-kaart is mogelijk waarbij de begeleider gratis kan aansluiten. Meer info & vragen op maarten.degezelle@ntgent.be
URL:https://social.doof.website/events/vlaamse-gebarentaal-tijdens-trouble-score-ntgent-luanda-pablo-casella/2025-10-05/
LOCATION:Minnemeers NTGent\, Minnemeers 8\, Gent\, Oost-Vlaanderen\, 9000\, België
CATEGORIES:Theater
ATTACH;FMTTYPE=image/jpeg:https://social.doof.website/wp-content/uploads/2025/07/5.-ESPER-by-Studio-Nick-Verstand.-Film-still-by-Blitzkickers_SD.jpg
ORGANIZER;CN="NTGent":MAILTO:info@ntgent.be
END:VEVENT
BEGIN:VEVENT
DTSTART;TZID=Europe/Helsinki:20250330T150000
DTEND;TZID=Europe/Helsinki:20250330T170000
DTSTAMP:20260424T175646
CREATED:20250306T081115Z
LAST-MODIFIED:20250306T081117Z
UID:10001244-1743346800-1743354000@social.doof.website
SUMMARY:De Gevangenis (met tolk VGT)
DESCRIPTION:Samen met vier  ex-gedetineerden maakt Lara Staal\, huisartiest bij NTGent\, een messcherpe analyse van het falend gevangeniswezen. Waarom houden we hardnekkig vast aan een systeem niemand helpt? Al jaren kampt België met overvolle en totaal verouderde gevangenissen. Het Europese Comité ter Preventie van Foltering tikte ons land al meermaals op de vinger. Het Europees Hof voor de Rechten van de Mens veroordeelde België in 2014. Hoe komt het toch dat we hardnekkig vasthouden aan een systeem waarvan we al decennialang weten dat het faalt? \n\nOm deze ervaring toegankelijk te maken\, willen we live Vlaamse Gebarentaal aanbieden aan jullie op 30 maart om 15u in NTGent Schouwburg. De voorstelling zal vertaald worden door Kristien Desmettre en Nele Maesen. We kijken ernaar uit om jullie te verwelkomen in onze zaal! \n\nWillen jullie erbij zijn? Reserveer jullie plaats gemakkelijk via publiekswerking@ntgent.be. \nWe hebben ook publiekswerking korting voor jullie. Ticket met deze korting kost 10 euro en met EDC kaart kunnen begeleiders gratis genieten van de voorstelling. Heb je Uitpas kansen tarief? Dan kost het ongeveer 5 euro.
URL:https://social.doof.website/events/de-gevangenis-met-tolk-vgt/
LOCATION:Schouwburg NTGent\, Sint-Baafsplein 17\, Gent\, Oost-Vlaanderen\, 9000\, België
CATEGORIES:Cultuur,Theater,Voorstelling
ATTACH;FMTTYPE=image/jpeg:https://social.doof.website/wp-content/uploads/2025/03/https___www.ntgent.be_volumes_productions_Seizoen-24-25_DE-GEVANGENIS_DeGevangenis_promobeeld_liggend-Koen-Broos_SD.jpg
ORGANIZER;CN="NTGent":MAILTO:info@ntgent.be
END:VEVENT
BEGIN:VEVENT
DTSTART;TZID=Europe/Helsinki:20250129T200000
DTEND;TZID=Europe/Helsinki:20250129T223000
DTSTAMP:20260424T175646
CREATED:20241129T104603Z
LAST-MODIFIED:20241129T104608Z
UID:10001084-1738180800-1738189800@social.doof.website
SUMMARY:Toneel "Meeuw" in Brugge
DESCRIPTION:Liefde en verlangen als verwoestende drijfveer tijdens een familiereünie. Tsjechovs ‘De Meeuw’ is een grootse en tedere theatertekst over een zoekende jeugd met nieuwe ideeën en een oudere generatie die zich daardoor bedreigd voelt. Voor het eerst wordt een repertoiretekst in zijn geheel vertaald en gespeeld in Vlaamse Gebarentaal\, door een gemengde cast van dove en horende toneelspelers. Naar De Meeuw van Anton Tsjechov Regie Stijn Van Opstal Bewerking Stijn Van Opstal\, Scarlet Tummers\, Tom Dewispelaere\, Francis Geeraert (met dank aan Ilja Leonard Pfeijffer) Vertaling naar VGT Diane Boonen\, Sam Verstraete\, Hilde Verhelst e.a. Spel Yousra Boukantar\, Sofie Decleir\, Tom Dewispelaere\, Lobke Leirens\, Lut Reysen\, Willy Thomas\, Serge Vlerick\, Yana Wuytjens Dramaturgie Scarlet Tummers Decor Damiaan De Schrijver\, Stijn Van Opstal\n\nVoorstelling in Vlaamse Gebarentaal\, Nederlandse boventiteling voorzien\n\nVoor meer uitleg en tickets => https://www.ccbrugge.be/agenda/4317/olympique-dramatique-theater-arsenaal-toneelhuis/meeuw
URL:https://social.doof.website/events/toneel-meeuw-in-brugge/
LOCATION:MaZ (Magdalenazaal)\, Magdalenastraat 27\, Brugge\, West-Vlaanderen\, 8200\, België
CATEGORIES:Theater
END:VEVENT
BEGIN:VEVENT
DTSTART;TZID=Europe/Paris:20250109T190000
DTEND;TZID=Europe/Paris:20250109T213000
DTSTAMP:20260424T175646
CREATED:20241119T073654Z
LAST-MODIFIED:20241125T144055Z
UID:10001083-1736449200-1736458200@social.doof.website
SUMMARY:[meeuw] bij NTGent – Olympique Dramatique / Toneelhuis
DESCRIPTION:[meeuw] is een anderstalige voorstelling. Voor het eerst wordt een repertoiretekst – De Meeuw van Tsjechov – in zijn geheel vertaald en gespeeld in Vlaamse Gebarentaal (VGT)\, door een gemengde cast van dove en horende spelers\, voor zowel een horend als doof publiek. De voorstelling wordt boventiteld.  \nDe cast bestaat uit een mix van drie dove en vijf horende spelers: Yousra Boukantar\, Sofie Decleir\, Tom Dewispelaere\, Lobke Leirens\, Lut Reysen\, Willy Thomas\, Serge Vlerick en Yana Wuytens. [meeuw] wil een ontmoeting zijn met de Vlaamse dovengemeenschap en een gelijkwaardige samenwerking van artiesten met verschillende achtergronden. [meeuw] hoopt vanuit zijn thematiek iets te vertellen over het (on)vermogen tot communicatie tussen dierbaren\, tussen generaties. Hoe te kijken? Hoe te luisteren? Wat is begrip/onbegrip? \nUitgangspunt is De Meeuw (1896) van Anton Tsjechov\, een van de grootste en tederste theaterteksten uit de literatuurgeschiedenis over een zoekende jeugd met nieuwe ideeën en een oudere generatie die zich daardoor bedreigd voelt. Het is ‘een komedie in vier bedrijven’ over de onbeantwoorde liefdes\, intriges en beslommeringen van een bonte groep personages van verschillende generaties tijdens een familiereünie op een landgoed. Door hun onvermogen om met elkaar te communiceren\, is een catastrofe onafwendbaar.
URL:https://social.doof.website/events/meeuw/2025-01-09/
LOCATION:Minnemeers NTGent\, Minnemeers 8\, Gent\, Oost-Vlaanderen\, 9000\, België
CATEGORIES:Theater,Voorstelling
ATTACH;FMTTYPE=image/png:https://social.doof.website/wp-content/uploads/2024/11/MEEUW-c-Owe-Signet-das-Wahrzeichen-des-Moskauer-Kunstler-Theaters-2.png
ORGANIZER;CN="NTGent":MAILTO:info@ntgent.be
END:VEVENT
BEGIN:VEVENT
DTSTART;TZID=Europe/Paris:20241130T200000
DTEND;TZID=Europe/Paris:20241130T223000
DTSTAMP:20260424T175646
CREATED:20240531T060900Z
LAST-MODIFIED:20240531T060903Z
UID:10000361-1732996800-1733005800@social.doof.website
SUMMARY:[meeuw] - Toneelhuis\, Olympique Dramatique\, theater arsenaal
DESCRIPTION:Liefde en verlangen als verwoestende drijfveer tijdens een familiereünie. Tsjechovs ‘De Meeuw’ is een grootse en tedere theatertekst over een zoekende jeugd met nieuwe ideeën en een oudere generatie die zich daardoor bedreigd voelt. Voor het eerst wordt een repertoiretekst in zijn geheel vertaald en gespeeld in Vlaamse Gebarentaal\, door een gemengde cast van dove en horende toneelspelers. \n\nNaar De Meeuw van Anton Tsjechov  \nRegie Stijn Van Opstal\nBewerking Stijn Van Opstal\, Scarlet Tummers\, Tom Dewispelaere\, Francis Geeraert (met dank aan Ilja Leonard Pfeijffer)\nVertaling naar VGT Diane Boonen\, Sam Verstraete\, Hilde Verhelst e.a.\nSpel Yousra Boukantar\, Sofie Decleir\, Tom Dewispelaere\, Lobke Leirens\, Lut Reysen\, Willy Thomas\, Serge Vlerick\, Yana Wuytjens\nDramaturgie Scarlet Tummers\nDecor Damiaan De Schrijver\, Stijn Van Opstal
URL:https://social.doof.website/events/meeuw-toneelhuis-olympique-dramatique-theater-arsenaal/2024-11-30/
LOCATION:Bourlaschouwburg\, Komedieplaats 18\, Antwerpen\, Antwerpen\, 2000\, België
CATEGORIES:Theater
ATTACH;FMTTYPE=image/png:https://social.doof.website/wp-content/uploads/2024/05/meeuw_original.png
ORGANIZER;CN="Toneelhuis":MAILTO:tickets@toneelhuis.be
END:VEVENT
BEGIN:VEVENT
DTSTART;TZID=Europe/Helsinki:20241121T200000
DTEND;TZID=Europe/Helsinki:20241121T213000
DTSTAMP:20260424T175646
CREATED:20241117T065240Z
LAST-MODIFIED:20241117T065243Z
UID:10001074-1732219200-1732224600@social.doof.website
SUMMARY:NTGent XS
DESCRIPTION:NTGent XS is een residentie op het ritme en de maat van een nieuwe generatie makers.\n\nVier weken lang delen nieuwe makers de zoektocht naar hun artistieke stem en het verhaal dat ze willen vertellen. Elke dag komen de makers samen in NTGent Minnemeers\, waar ze zich toeleggen op hun eigen discipline en onderzoek. Pas tijdens de laatste week van de residentie brengen scenograaf Gilles Pollak speler-maker Sjoerd Koolma en auteur-maker Sarah Ringoet hun werk en werelden samen. Of ze nu botsen in hun broosheid of versmelten in hun eigenheid\, het belooft een verrassend en compromisloos geheel te worden.
URL:https://social.doof.website/events/ntgent-xs/2024-11-21/2/
LOCATION:Minnemeers NTGent\, Minnemeers 8\, Gent\, Oost-Vlaanderen\, 9000\, België
CATEGORIES:Cultuur,Theater,Voorstelling
ATTACH;FMTTYPE=image/jpeg:https://social.doof.website/wp-content/uploads/2024/11/Promobeeld_ntgent-XS.jpg
ORGANIZER;CN="NTGent":MAILTO:info@ntgent.be
END:VEVENT
BEGIN:VEVENT
DTSTART;TZID=Europe/Helsinki:20241117T150000
DTEND;TZID=Europe/Helsinki:20241117T160000
DTSTAMP:20260424T175646
CREATED:20241031T075134Z
LAST-MODIFIED:20241031T075135Z
UID:10000452-1731855600-1731859200@social.doof.website
SUMMARY:theatervoorstelling LIEGEN met VGT
DESCRIPTION:LIEGEN mag niet!\nDat weet toch iedereen?!\n\nHoewel…\n\nIs liegen niet… een opborreling van fantasie?\nEen anti-saai-heid-machine?\nOf gewoon een manier om niet meer verdrietig of bang te zijn?\nKortom\, is liegen niet eerder… een superkracht?\n\nEn trouwens… zijn volwassenen zelf altijd eerlijk?\n\n—–\nIn de nieuwe voorstelling van De Nwe Tijd en hetpaleis duiken we in de wonderlijke wereld van de leugen. We volgen drie jonge spelers die ontdekken wat liegen is\, wat je er allemaal mee kan doen\, maar ook hoe je in leugens kan verdwalen. Dat verdwalen doen ze in het gezelschap van drie jazz muzikanten die van LIEGEN een wervelend jazzconcert maken. \n\nLIEGEN is een verhaal vol spanning\, grappen en vooral een ode aan de fantasie. Een voorstelling die als een kleine achtbaan door je buik roetsjt en je aan het einde zacht omarmt. Uitermate geschikt voor kinderen vanaf zes jaar die wel eens de waarheid verdraaien.\n\nTijdens de voorstelling op 17 november 2025\, Kunstendag voor Kinderen\, is er een tolk Vlaamse Gebarentaal aanwezig.
URL:https://social.doof.website/events/theatervoorstelling-liegen-met-vgt-2/
LOCATION:hetpaleis\, Theaterplein\, Antwerpen\, Antwerpen\, 2000\, België
CATEGORIES:Cultuur,Theater,Voorstelling
ATTACH;FMTTYPE=image/png:https://social.doof.website/wp-content/uploads/2024/10/LIEGEN.png
ORGANIZER;CN="hetpaleis":MAILTO:info@hetpaleis.be
END:VEVENT
BEGIN:VEVENT
DTSTART;TZID=Europe/Paris:20241025T200000
DTEND;TZID=Europe/Paris:20241025T220000
DTSTAMP:20260424T175646
CREATED:20240531T060721Z
LAST-MODIFIED:20240531T060723Z
UID:10000347-1729886400-1729893600@social.doof.website
SUMMARY:VGT in Toneelhuis: Brideshead Revisited van De Warme Winkel & Toneelhuis
DESCRIPTION:De literatuurklassieker van Evelyn Waugh is misschien wel het meest romantische en anglofiele boek dat de literatuur ooit heeft voortgebracht. Florian Myjer katapulteert het samen met Abke Haring de 21e eeuw in. Een autopsie van de liefde en een ontvouwing van onze (seksuele) identiteit.
URL:https://social.doof.website/events/vgt-in-toneelhuis-brideshead-revisited-van-de-warme-winkel-toneelhuis/
LOCATION:Bourlaschouwburg\, Komedieplaats 18\, Antwerpen\, Antwerpen\, 2000\, België
CATEGORIES:Theater
ATTACH;FMTTYPE=image/jpeg:https://social.doof.website/wp-content/uploads/2024/05/Brideshead-Revisited_1660x720.jpg
ORGANIZER;CN="Toneelhuis":MAILTO:tickets@toneelhuis.be
END:VEVENT
BEGIN:VEVENT
DTSTART;TZID=Europe/Paris:20240706T200000
DTEND;TZID=Europe/Paris:20240706T220000
DTSTAMP:20260424T175646
CREATED:20240618T075214Z
LAST-MODIFIED:20240618T075215Z
UID:10000363-1720296000-1720303200@social.doof.website
SUMMARY:Theathervoorstelling Tortot (Laika&FroeFroe) - zaterdag 6 juli - met schrijftolk\, tolk Vlaamse Gebarentaal en Roger luisterondersteuning
DESCRIPTION:Beleef de Zomer van Antwerpen: mis de voorstelling van Tortot van zaterdag 6 juli zeker niet!\n\nWist je dat je bij de Zomer van Antwerpen kunt genieten van diverse toegankelijke voorstellingen voor doven of slechthorenden? Bekijk snel ons aanbod via video’s met Vlaamse Gebarentaal en ondertiteling op ons Youtube kanaal https://www.youtube.com/@zomervanantwerpen \n\nOp zaterdag 6 juli (20u) kan je alvast genieten van “Tortot”\, een smakelijk sprookje over de onzin van oorlog van de gezelschappen Laika & FroeFroe. Deze voorstelling wordt ondersteund door een schrijftolk\, een tolk Vlaamse gebarentaal en Roger luisterondersteuning.\n\nBlijf gezellig hangen! Na de voorstelling organiseren we een ontmoetingscafé voor doven en slechthorenden. Kom iets drinken\, ontmoet nieuwe mensen en deel je ervaringen met anderen met behulp van de aanwezige tolken.\n\nWil je voor deze voorstelling een ticket (22 euro – eten inbegrepen) – reserveer je ticket alvast via het mailadres doelgroepen@zva.be. Wees er snel bij – plaatsen zijn beperkt! Je tickets kan je reserveren tem 28 juni! \n\nMet veel dank aan Michel Lacroix\, afgevaardigde DovenActie regio Antwerpen\, Jolien Desmet van Hoorcentrum Jolien Desmet en Astrid Rubbens\, ervaringsdeskundige en Phonak voor al hun ondersteuning bij het realiseren van een toegankelijke Zomer voor iedereen!
URL:https://social.doof.website/events/theathervoorstelling-tortot-laikafroefroe-zaterdag-6-juli-met-schrijftolk-tolk-vlaamse-gebarentaal-en-roger-luisterondersteuning/
LOCATION:Boombekelaan 14\, 2660 Antwerpen\, Boombekelaan 14\, Antwerpen Hoboken\, Antwerpen\, 2660\, België
CATEGORIES:Cultuur,Eten,Muziektheatervoorstelling,Ontspanning,Theater,Voorstelling
ATTACH;FMTTYPE=image/jpeg:https://social.doof.website/wp-content/uploads/2024/06/FB_ZERIN_OFICIEEL-2-scaled.jpg
ORGANIZER;CN="Zomer van Antwerpen":MAILTO:doelgroepen@zva.be
END:VEVENT
BEGIN:VEVENT
DTSTART;TZID=Europe/Paris:20240321T201500
DTEND;TZID=Europe/Paris:20240321T214500
DTSTAMP:20260424T175646
CREATED:20240307T120604Z
LAST-MODIFIED:20240307T140255Z
UID:10000146-1711052100-1711057500@social.doof.website
SUMMARY:Theatervoorstelling MALINCONICO met tolk Vlaamse Gebarentaal
DESCRIPTION:Binnenkort hebben wij bij theater arsenaal de theatervoorstelling MALINCONICO van collectief Par Hasard te gast.\nMet deze voorstelling willen ze de klassieke theatercodes doorbreken om toegankelijk te zijn voor mensen die anders moeilijker aansluiting vinden bij het theateraanbod. De makers/ acteurs willen een relaxed space ontwikkelen waarbij het publiek vrij is om weg te gaan en terug te komen\, om geluid te maken\, te bewegen\,…. Daarnaast hebben ze ook een tolk Vlaamse Gebarentaal betrokken in hun creatieproces\, die samen met hen op de scène staat en de hele voorstelling ondersteunt. \n“In Malinconico zoeken vijf spelers naar hoe hun eigen melancholie een plek kan krijgen op scène\, en hoe die ook daarbuiten een plaats mag hebben. Het gevoel wordt opgezocht\, onderzocht en verbeeld. Via een collectieve ervaring\, die ontstond uit een horizontaal werkproces\, wordt iets intiems ook naar buiten toe gedeeld\, in de hoop dat het ook daar mag bestaan.” \nEXTRA INFO\nDe voorstelling is meertalig\, voornamelijk in het Engels. Er is boventiteling voorzien in het Engels en Nederlands.\nDe tolk Vlaamse Gebarentaal staat mee op de scène bij de acteurs.\nduur: 90 min \nWees welkom om deze voorstelling te beleven met ondersteuning van een tolk.\nHeb je nog noden of vragen\, stel ze gerust via onthaal@theaterarsenaal.be of 015 42 25 44 (op weekdagen\, 9u30-12u30).
URL:https://social.doof.website/events/theatervoorstelling-malinconico-met-tolk-vlaamse-gebarentaal/
LOCATION:theater arsenaal\, Hanswijkstraat 63\, Mechelen\, Antwerpen\, 2800\, België
CATEGORIES:Cultuur,Ontspanning,Theater,Uitstap,Voorstelling
ATTACH;FMTTYPE=image/jpeg:https://social.doof.website/wp-content/uploads/2024/03/MALINOCONICO_5SF1590_©ChristopheEngels.jpg
ORGANIZER;CN="theater arsenaal":MAILTO:onthaal@theaterarsenaal.be
END:VEVENT
BEGIN:VEVENT
DTSTART;TZID=Europe/Paris:20240321T200000
DTEND;TZID=Europe/Paris:20240321T220000
DTSTAMP:20260424T175646
CREATED:20240318T184918Z
LAST-MODIFIED:20240318T184919Z
UID:10000153-1711051200-1711058400@social.doof.website
SUMMARY:Wachten op Godot - Toneelhuis\, Olympique Dramatique
DESCRIPTION:Koen De Sutter\, Tom Dewispelaere\, Nico Sturm en Tom Van Dyck spelen de oerklassieker. Soepel schakelend tussen tragedie\, klucht en slapstick bewijzen de heren hoe rijk Becketts theater is.\n\nOp donderdag 21 maart wordt de voorstelling Wachten op Godot in de Bourla live voorzien van Vlaamse Gebarentaal.\nDe volledige speelreeks in de Bourla is ondertussen uitverkocht maar op 21 maart hebben we nog 30 plaatsen voor gebarentaligen. Tickets reserveren kan via tickets@toneelhuis.be.
URL:https://social.doof.website/events/wachten-op-godot-toneelhuis-olympique-dramatique-2/
LOCATION:Bourlaschouwburg\, Komedieplaats 18\, Antwerpen\, Antwerpen\, 2000\, België
CATEGORIES:Cultuur,Theater,Voorstelling
ATTACH;FMTTYPE=image/gif:https://social.doof.website/wp-content/uploads/2024/03/Outlook-vm114h5j-1.gif
ORGANIZER;CN="Toneelhuis":MAILTO:tickets@toneelhuis.be
END:VEVENT
BEGIN:VEVENT
DTSTART;TZID=Europe/Paris:20240321T200000
DTEND;TZID=Europe/Paris:20240321T220000
DTSTAMP:20260424T175646
CREATED:20240312T093024Z
LAST-MODIFIED:20240312T093026Z
UID:10000151-1711051200-1711058400@social.doof.website
SUMMARY:Wachten op Godot - Toneelhuis\, Olympique Dramatique
DESCRIPTION:Koen De Sutter\, Tom Dewispelaere\, Nico Sturm en Tom Van Dyck spelen de oerklassieker. Soepel schakelend tussen tragedie\, klucht en slapstick bewijzen de heren hoe rijk Becketts theater is. \nOp donderdag 21 maart wordt de voorstelling Wachten op Godot in de Bourla live voorzien van Vlaamse Gebarentaal.De volledige speelreeks in de Bourla is ondertussen uitverkocht maar op 21 maart 2024 hebben we nog 30 plaatsen voor gebarentaligen. Tickets reserveren kan via tickets@toneelhuis.be.
URL:https://social.doof.website/events/wachten-op-godot-toneelhuis-olympique-dramatique/
LOCATION:Bourlaschouwburg\, Komedieplaats 18\, Antwerpen\, Antwerpen\, 2000\, België
CATEGORIES:Cultuur,Theater,Voorstelling
ATTACH;FMTTYPE=image/gif:https://social.doof.website/wp-content/uploads/2024/03/Outlook-vm114h5j.gif
ORGANIZER;CN="Toneelhuis":MAILTO:tickets@toneelhuis.be
END:VEVENT
BEGIN:VEVENT
DTSTART;TZID=Europe/Paris:20240307T200000
DTEND;TZID=Europe/Paris:20240307T213000
DTSTAMP:20260424T175646
CREATED:20240227T064115Z
LAST-MODIFIED:20240227T064116Z
UID:10000131-1709841600-1709847000@social.doof.website
SUMMARY:Malinconico
DESCRIPTION:In Malinconico zoeken vijf spelers naar hoe hun eigen melancholie een plek kan krijgen op scène\, en hoe die ook daarbuiten een plaats mag hebben. Het gevoel wordt opgezocht\, onderzocht en verbeeld. Via een collectieve ervaring\, die ontstond uit een horizontaal werkproces\, wordt iets intiems ook naar buiten toe gedeeld\, in de hoop dat het ook daar mag bestaan.\n\nMalinconico is een wiegelied. Een magische droom. Een ritueel om de vele stemm(ing)en en gedaanten van melancholie op te roepen. Een gedeelde veilige ruimte om haar universele neerslachtigheid te ervaren\, nooit om haar te definiëren\, maar om te reflecteren en met haar te rusten. Om de uitgestrekte gebieden te verkennen tussen wat was en wat had kunnen zijn.\n\nMalinconico is een voorstel voor het collectief verzorgen en dragen van de vele manieren waarop melancholie zich kenbaar maakt. \n\nEen moment om te ontsnappen aan het productieve\, rationele\, het rigide. Om in een zee van verlangen te duiken\, onder een zwaar deken van licht verdriet. En diep vanbinnen misschien verborgen deuren te ontsluiten.\n\nMalinconico nodigt melancholie zelf uit om in het (maan)licht te stappen zodat ze ons kan troosten. Om haar in onze armen te nemen en ons in onze armen te nemen en iedereen in elkaars armen in onze armen te nemen.\n\nMalinconico creëert een queer en crip magisch-realistisch universum dat troost zoekt in een mistroostig landschap\, lichtheid in donkerte.
URL:https://social.doof.website/events/malinconico/
LOCATION:minard Gent\, Romain Deconinckplein 2\, Gent\, oost-vlaanderen\, 9000\, België
CATEGORIES:Cultuur,Muziektheatervoorstelling,Theater
ATTACH;FMTTYPE=image/jpeg:https://social.doof.website/wp-content/uploads/2024/02/promo-melacholie.jpg
ORGANIZER;CN="par hasard":MAILTO:fredlibert1993@gmail.com
END:VEVENT
END:VCALENDAR