BEGIN:VCALENDAR
VERSION:2.0
PRODID:-//Sociale Kaart - ECPv6.15.20//NONSGML v1.0//EN
CALSCALE:GREGORIAN
METHOD:PUBLISH
X-ORIGINAL-URL:https://social.doof.website
X-WR-CALDESC:Evenementen voor Sociale Kaart
REFRESH-INTERVAL;VALUE=DURATION:PT1H
X-Robots-Tag:noindex
X-PUBLISHED-TTL:PT1H
BEGIN:VTIMEZONE
TZID:Europe/Helsinki
BEGIN:DAYLIGHT
TZOFFSETFROM:+0200
TZOFFSETTO:+0300
TZNAME:EEST
DTSTART:20250330T010000
END:DAYLIGHT
BEGIN:STANDARD
TZOFFSETFROM:+0300
TZOFFSETTO:+0200
TZNAME:EET
DTSTART:20251026T010000
END:STANDARD
BEGIN:DAYLIGHT
TZOFFSETFROM:+0200
TZOFFSETTO:+0300
TZNAME:EEST
DTSTART:20260329T010000
END:DAYLIGHT
BEGIN:STANDARD
TZOFFSETFROM:+0300
TZOFFSETTO:+0200
TZNAME:EET
DTSTART:20261025T010000
END:STANDARD
BEGIN:DAYLIGHT
TZOFFSETFROM:+0200
TZOFFSETTO:+0300
TZNAME:EEST
DTSTART:20270328T010000
END:DAYLIGHT
BEGIN:STANDARD
TZOFFSETFROM:+0300
TZOFFSETTO:+0200
TZNAME:EET
DTSTART:20271031T010000
END:STANDARD
END:VTIMEZONE
BEGIN:VEVENT
DTSTART;TZID=Europe/Helsinki:20260213T191500
DTEND;TZID=Europe/Helsinki:20260213T200000
DTSTAMP:20260424T205134
CREATED:20251127T201321Z
LAST-MODIFIED:20251127T201324Z
UID:10001401-1771010100-1771012800@social.doof.website
SUMMARY:theater Een koud Kunstje (met VGT)
DESCRIPTION:theater met VGT\n\nEen ijsbeer zit vast op het dak van een bibliotheek. Een superstorm heeft de wereld onder water gezet. De mensen zijn net op tijd kunnen vluchten naar een andere planeet. Alleen achtergebleven\, leert de ijsbeer zichzelf lezen. Hij heeft vier boeken kunnen redden: ‘Hoe maak ik vuur?’\, ‘Rollerskaten for Dummies’\, ‘1000 waanzinnige weetjes over de Noordpool’ en een strip (om tussendoor te relaxen). \n\nIn deze theatervoorstelling voor iedereen vanaf zes jaar kruipt Matthias Van de brul in de huid van een avontuurlijke ijsbeer met een bibkaart. Een Koud Kunstje is een vrolijke en magische voorstelling over liefde voor verbeelding\, de wereld en het leven. \n\nVoor iedereen vanaf zes jaar.
URL:https://social.doof.website/events/theater-een-koud-kunstje-met-vgt/
LOCATION:hetpaleis\, Theaterplein\, Antwerpen\, Antwerpen\, 2000\, België
CATEGORIES:Cultuur,Theater,Voorstelling
ORGANIZER;CN="hetpaleis":MAILTO:info@hetpaleis.be
END:VEVENT
BEGIN:VEVENT
DTSTART;TZID=Europe/Helsinki:20260215T160000
DTEND;TZID=Europe/Helsinki:20260215T173000
DTSTAMP:20260424T205134
CREATED:20250715T134743Z
LAST-MODIFIED:20250716T131358Z
UID:10001336-1771171200-1771176600@social.doof.website
SUMMARY:VGT tijdens Summit Gent – NTGent & Ontroerend Goed
DESCRIPTION:Summit is een voorstelling met een geheugen – en jij bent er onlosmakelijk mee verbonden. \n\nMet Summit creëert Ontroerend Goed een voorstelling over macht en beslissingen. Op deze bijzondere bijeenkomst heeft elke keuze gevolgen\, nu en later. Je ontdekt hoe jouw beslissingen deze én toekomstige voorstellingen beïnvloeden. Want wat in Summit Gent wordt beslist\, is bepalend voor Summit Singapore\, enzoverder.\n\nWoorden vormen de werkelijkheid. Taal heeft gewicht. Machtsmechanismen blijken verrassend gelijk te zijn op alle niveaus. Hoe ga je om met eerder gemaakte keuzes? Wat geef je door? Is ingrijpen nog mogelijk? \n\nSummit is een ervaring die kan schuren. Ontroerend Goed\, meesterlijk in het op zijn kop zetten van theaterconventies\, laat je nadenken over de consequenties van keuzes\, zowel op korte als lange termijn. Wat weegt door: eigenbelang of collectieve verantwoordelijkheid? \n\nUITPAS & European Disability Card zijn beschikbaar waarbij de begeleider gratis kan aansluiten. Bij vragen en of onduidelijkheden: maarten.degezelle@ntgent.be
URL:https://social.doof.website/events/vlaamse-gebarentaal-tijdens-summit-gent-ntgent-ontroerend-goed/2026-02-15/
LOCATION:Minnemeers NTGent\, Minnemeers 8\, Gent\, Oost-Vlaanderen\, 9000\, België
CATEGORIES:Cultuur,Theater
ATTACH;FMTTYPE=image/jpeg:https://social.doof.website/wp-content/uploads/2025/07/SUMMIT_OntroerendGoed_Getty_Images_NOTFORPOSTERS-1-scaled.jpg
ORGANIZER;CN="NTGent":MAILTO:info@ntgent.be
END:VEVENT
BEGIN:VEVENT
DTSTART;TZID=Europe/Helsinki:20260327T191500
DTEND;TZID=Europe/Helsinki:20260327T223000
DTSTAMP:20260424T205134
CREATED:20260217T120852Z
LAST-MODIFIED:20260217T120856Z
UID:10001556-1774638900-1774650600@social.doof.website
SUMMARY:ALL TOGETHER NOW! met live VGT
DESCRIPTION:Op vrijdag 27 maart voorziet Toneelhuis de nieuwe voorstelling van Suze Millius van live VGT door Dora Moens en Elisa Kind. Vooraf is er een inleiding op de voorstelling in VGT door Alexander Decrans.\n\nZes performers bouwen een tafel\, ze nemen plaats. They are all together now!\n\nHet publiek is getuige van een wereld waarin samenkomen aan tafel het begin is\, maar het hieruit onttrekken centraal staat. De voorstelling zoomt gedetailleerd in op hoe mensen\, bruut dan wel zacht\, uit een situatie of rol stappen. Ze probeert zichtbaar te maken wat eens belangrijk\, dierbaar of onontkoombaar was en nu achtergelaten wordt. De visuele voorstelling ALL TOGETHER NOW! toont hoe gewelddadig een afscheid kan zijn.
URL:https://social.doof.website/events/all-together-now-met-live-vgt/
LOCATION:Bourlaschouwburg\, Komedieplaats 18\, Antwerpen\, Antwerpen\, 2000\, België
CATEGORIES:Cultuur,Theater,Voorstelling
ATTACH;FMTTYPE=image/jpeg:https://social.doof.website/wp-content/uploads/2026/02/ALL-TOGETHER-NOW_affiche-1-scaled.jpg
ORGANIZER;CN="Toneelhuis":MAILTO:tickets@toneelhuis.be
END:VEVENT
BEGIN:VEVENT
DTSTART;TZID=Europe/Helsinki:20260412T154500
DTEND;TZID=Europe/Helsinki:20260412T164500
DTSTAMP:20260424T205134
CREATED:20260327T131037Z
LAST-MODIFIED:20260327T131040Z
UID:10001582-1776008700-1776012300@social.doof.website
SUMMARY:Inclusieve storytelling in Train World
DESCRIPTION:Kom op 12 april 2026 naar de prikkelarme dag van Train World in Schaarbeek en neem deel aan de inclusieve storytelling. Luister naar verhalen die gelijktijdig in Vlaamse Gebarentaal (VGT) gebracht worden.Horenden\, slechthorenden en doven maken tegelijk de voorstelling mee. Altijd erg leuk en gezellig.Vertellers van dienst: Sylvie Van Landuyt en Lisa BraesMeer info in deze video in VGT (ondertiteld) https://vimeo.com/1176484199 en op www.trainworld.be
URL:https://social.doof.website/events/inclusieve-storytelling-in-train-world-2/
LOCATION:Train World\, Prinses Elisabethplein 5\, Schaarbeek\, Brussel\, 1030\, België
CATEGORIES:Cultuur,Ontspanning,Theater,Voorstelling
ATTACH;FMTTYPE=image/jpeg:https://social.doof.website/wp-content/uploads/2026/03/afbeelding-20251116-135240-316e9436-scaled.jpeg
ORGANIZER;CN="TrainWorld":MAILTO:info@trainworld.be
END:VEVENT
BEGIN:VEVENT
DTSTART;TZID=Europe/Helsinki:20260426T150000
DTEND;TZID=Europe/Helsinki:20260426T163000
DTSTAMP:20260424T205134
CREATED:20260206T130245Z
LAST-MODIFIED:20260206T130248Z
UID:10001552-1777215600-1777221000@social.doof.website
SUMMARY:Theatervoorstelling CASTL - we hebben altijd in het kasteel gewoond
DESCRIPTION:Er is verandering op til\,\nen niemand weet het\,\nbehalve ik.\n\nConstance Blackwood houdt van haar zus Merricat én van neef Charles. Oom Julian houdt heel erg van schrijven en niet van Charles. En Merricat houdt al helemaal niet van haar neef. O nee\, zij houdt van gevaarlijke paddenstoelen\, gekke koningen en toverspreuken.\nDe Blackwoods leven teruggetrokken op een landgoed aan de rand van het dorp. Vroeger waren ze met zeven\, maar vier familieleden werden op mysterieuze wijze vergiftigd. Sindsdien behandelen de dorpelingen de familie Blackwood met argwaan en vijandigheid\, alleen Merricat durft het landgoed nog te verlaten. Wanneer Charles vreemd begint te doen\, gaan de poppen pas echt aan het dansen…\nWelkom in CASTL.\n\nCASTL is de nieuwste theatervoorstelling van Abattoir Fermé en hetpaleis voor iedereen vanaf 8 jaar. Regisseur Stef Lernous richt zijn blik op mensen die niet zo makkelijk hun plek vinden tussen de anderen en dat zorgt voor een duistere spanning. Hij laat de toeschouwers huiveren\, om vervolgens hun hart te beroeren; zijn weg naar de liefde leidt langs een donker pad. De voorstelling is gebaseerd op het laatste boek van Shirley Jackson\, de Amerikaanse auteur van bloedstollende verhalen. Het boek werd verfilmd en wordt nu voor het eerst opgevoerd voor het Vlaamse theaterpubliek met een topcast: Janne Desmet\, Lotte Diependaele\, Bart Hollanders\, Manou Kersting en Maja Westerveld.\n\nOp 26 april 2026 om 15u vindt de voorstelling plaats met een tolk Vlaamse Gebarentaal.
URL:https://social.doof.website/events/theatervoorstelling-castl-we-hebben-altijd-in-het-kasteel-gewoond/
LOCATION:hetpaleis\, Theaterplein\, Antwerpen\, Antwerpen\, 2000\, België
CATEGORIES:Cultuur,Theater
ATTACH;FMTTYPE=image/png:https://social.doof.website/wp-content/uploads/2026/02/2024-2025-brochurebeeld-Castle-liggend-c-Diego-Franssens-1-1-scaled.png
ORGANIZER;CN="hetpaleis":MAILTO:info@hetpaleis.be
END:VEVENT
END:VCALENDAR