BEGIN:VCALENDAR
VERSION:2.0
PRODID:-//Sociale Kaart - ECPv6.15.20//NONSGML v1.0//EN
CALSCALE:GREGORIAN
METHOD:PUBLISH
X-WR-CALNAME:Sociale Kaart
X-ORIGINAL-URL:https://social.doof.website
X-WR-CALDESC:Evenementen voor Sociale Kaart
REFRESH-INTERVAL;VALUE=DURATION:PT1H
X-Robots-Tag:noindex
X-PUBLISHED-TTL:PT1H
BEGIN:VTIMEZONE
TZID:Europe/Helsinki
BEGIN:DAYLIGHT
TZOFFSETFROM:+0200
TZOFFSETTO:+0300
TZNAME:EEST
DTSTART:20240331T010000
END:DAYLIGHT
BEGIN:STANDARD
TZOFFSETFROM:+0300
TZOFFSETTO:+0200
TZNAME:EET
DTSTART:20241027T010000
END:STANDARD
BEGIN:DAYLIGHT
TZOFFSETFROM:+0200
TZOFFSETTO:+0300
TZNAME:EEST
DTSTART:20250330T010000
END:DAYLIGHT
BEGIN:STANDARD
TZOFFSETFROM:+0300
TZOFFSETTO:+0200
TZNAME:EET
DTSTART:20251026T010000
END:STANDARD
BEGIN:DAYLIGHT
TZOFFSETFROM:+0200
TZOFFSETTO:+0300
TZNAME:EEST
DTSTART:20260329T010000
END:DAYLIGHT
BEGIN:STANDARD
TZOFFSETFROM:+0300
TZOFFSETTO:+0200
TZNAME:EET
DTSTART:20261025T010000
END:STANDARD
END:VTIMEZONE
BEGIN:VEVENT
DTSTART;TZID=Europe/Helsinki:20250328T200000
DTEND;TZID=Europe/Helsinki:20250328T233000
DTSTAMP:20260421T063338
CREATED:20250320T160810Z
LAST-MODIFIED:20250320T160813Z
UID:10001253-1743192000-1743204600@social.doof.website
SUMMARY:t Antwaarps Gebaar: Kickertornooi
DESCRIPTION:t Antwaarps Gebaar: Kickertornooi\n📅 Zondag 28 maart 2025\n📍 Madosa vzw\, Antwerpen\n⏰ Deuren open: 20:00 | Spel start: 20:01\n📲 Schrijf je in via inschrijvingsformulier: https://forms.office.com/e/zWaN2TxWDK
URL:https://social.doof.website/events/t-antwaarps-gebaar-kickertornooi/
LOCATION:madosa vzw Haantjeslei 213 2018 Antwerpen\, haantjeslei\, 213\, Antwerpen\, Antwerpen\, 2018\, België
CATEGORIES:Ontspanning,Sport
ATTACH;FMTTYPE=image/jpeg:https://social.doof.website/wp-content/uploads/2025/03/MAD_ONB_2025_03_28_kickertornooi.jpg
ORGANIZER;CN="madosa":MAILTO:info@madosavzw.be
END:VEVENT
END:VCALENDAR