BEGIN:VCALENDAR
VERSION:2.0
PRODID:-//Sociale Kaart - ECPv6.15.20//NONSGML v1.0//EN
CALSCALE:GREGORIAN
METHOD:PUBLISH
X-ORIGINAL-URL:https://social.doof.website
X-WR-CALDESC:Evenementen voor Sociale Kaart
REFRESH-INTERVAL;VALUE=DURATION:PT1H
X-Robots-Tag:noindex
X-PUBLISHED-TTL:PT1H
BEGIN:VTIMEZONE
TZID:Europe/Paris
BEGIN:DAYLIGHT
TZOFFSETFROM:+0100
TZOFFSETTO:+0200
TZNAME:CEST
DTSTART:20230326T010000
END:DAYLIGHT
BEGIN:STANDARD
TZOFFSETFROM:+0200
TZOFFSETTO:+0100
TZNAME:CET
DTSTART:20231029T010000
END:STANDARD
BEGIN:DAYLIGHT
TZOFFSETFROM:+0100
TZOFFSETTO:+0200
TZNAME:CEST
DTSTART:20240331T010000
END:DAYLIGHT
BEGIN:STANDARD
TZOFFSETFROM:+0200
TZOFFSETTO:+0100
TZNAME:CET
DTSTART:20241027T010000
END:STANDARD
BEGIN:DAYLIGHT
TZOFFSETFROM:+0100
TZOFFSETTO:+0200
TZNAME:CEST
DTSTART:20250330T010000
END:DAYLIGHT
BEGIN:STANDARD
TZOFFSETFROM:+0200
TZOFFSETTO:+0100
TZNAME:CET
DTSTART:20251026T010000
END:STANDARD
END:VTIMEZONE
BEGIN:VTIMEZONE
TZID:Europe/Helsinki
BEGIN:DAYLIGHT
TZOFFSETFROM:+0200
TZOFFSETTO:+0300
TZNAME:EEST
DTSTART:20220327T010000
END:DAYLIGHT
BEGIN:STANDARD
TZOFFSETFROM:+0300
TZOFFSETTO:+0200
TZNAME:EET
DTSTART:20221030T010000
END:STANDARD
BEGIN:DAYLIGHT
TZOFFSETFROM:+0200
TZOFFSETTO:+0300
TZNAME:EEST
DTSTART:20230326T010000
END:DAYLIGHT
BEGIN:STANDARD
TZOFFSETFROM:+0300
TZOFFSETTO:+0200
TZNAME:EET
DTSTART:20231029T010000
END:STANDARD
BEGIN:DAYLIGHT
TZOFFSETFROM:+0200
TZOFFSETTO:+0300
TZNAME:EEST
DTSTART:20240331T010000
END:DAYLIGHT
BEGIN:STANDARD
TZOFFSETFROM:+0300
TZOFFSETTO:+0200
TZNAME:EET
DTSTART:20241027T010000
END:STANDARD
END:VTIMEZONE
BEGIN:VEVENT
DTSTART;TZID=Europe/Paris:20240504T133000
DTEND;TZID=Europe/Paris:20240504T190000
DTSTAMP:20260420T052007
CREATED:20240425T054401Z
LAST-MODIFIED:20240425T054402Z
UID:10000324-1714829400-1714849200@social.doof.website
SUMMARY:Paintball
DESCRIPTION:Na een geweldig reisje naar Movie Park in Duitsland staan we weer klaar vol energie om aan de volgende activiteit te beginnen. \nOp zaterdag 4 mei 2024 gaan we samen paintballen in Heusden-Zolder! Een leuke\, actieve dag met hopelijk mooi weer. Na al dat lopen krijg je grote honger\, dus bieden we jou de keuze aan om met ons in een frituur te eten. Je kan daar zelf kiezen wat je neemt! \nHopelijk zien we jou op 4 mei bij Kajong! \nLiefs \nKajong Bestuur\, Lana\, Anouk en Stephanie
URL:https://social.doof.website/events/paintball/
LOCATION:Dynamixx\, Kerkstraat 106\, Heusden-Zolder\, Limburg\, 3550\, België
CATEGORIES:Eten,Sport,Uitstap
ATTACH;FMTTYPE=image/png:https://social.doof.website/wp-content/uploads/2024/04/PAINTBALL-1.png
ORGANIZER;CN="Kajong":MAILTO:info@kajong.be
END:VEVENT
BEGIN:VEVENT
DTSTART;TZID=Europe/Paris:20240416T000000
DTEND;TZID=Europe/Paris:20240420T235959
DTSTAMP:20260420T052007
CREATED:20240329T055727Z
LAST-MODIFIED:20240329T055729Z
UID:10000173-1713225600-1713657599@social.doof.website
SUMMARY:DisABILITY Filmfestival
DESCRIPTION:Van 16 tot en met 20 april vindt de 14de editie van het DisABILITY Film Festival plaats in Bibliotheek Tweebronnen te Leuven. \n\nHet DisABILITY Film Festival zet de diverse perspectieven en talenten van mensen met een beperking in de kijker door middel van het medium film. Elk jaar bestaat het festival uit een zorgvuldig samengestelde selectie van prikkelende (kort) films\, documentaires en evenementen die de triomfen en uitdagingen van het leven met een beperking verkennen.\n\nDe 14e editie van het festival heeft sport gekozen als centraal thema. De geselecteerde films en evenementen tijdens de festivalweek zullen de samenwerkingsinspanningen van mensen met en zonder beperkingen in sport/actie belichten. Het festival biedt een platform voor verhalen die anders niet verteld worden en bevordert dialoog en bewustwording over inclusie en diversiteit. Een voorbeeld hiervan is de kortfilmcompetitie\, die plaatsvindt in Cinema Zed\, waar de best geproduceerde kortfilms over handicap bekroond zullen worden tijdens de DFF-Awards.\n\nEnkele highlights van deze editie:\n-(bijna) Alle teksten op de website werden vertaald naar VGT aan de hand van korte filmpjes\n-Het filmcafé zal doorlopend uitgebaat worden door Garsons Uniek\, een groep enthousiastelingen met een handicap of chronische ziekte die graag de handen uit de mouwen steekt\n-De voorzitter van de professionele jury van de DFF-awards is dit jaar niemand minder dan de Vlaamse regisseur Stijn Conincx\n-De DFF-awards worden uitgereikt door niemand minder dan de topsportster Sofie Cox en de Leuvense schepen Lies Corneillie\n-Op 16 april zijn er schoolvoorstellingen voor de 2de graad lager onderwijs met een bijhorende performance van G-sport pingpongers\n-Op 20 april zal de regisseur Sahim Omar Kalifa aanwezig zijn tijdens de voorstelling van zijn film Baghdad Messi\n-Op 7 mei zal het DFF neerstrijken bij Hogeschool Thomas More Antwerpen voor een vertoning van de film Baghdad Messi\, gevolgd door een nabespreking met Anke Vangenechten\n\nAlle festivalactiviteiten worden voorzien van tolken Vlaamse Gebarentaal. Daarnaast\, werden er ook twee films geprogrammeerd die voorzien zijn van audiodescriptie en gaan de activiteiten door in rolstoeltoegankelijke ruimtes.\n\nHet DisABILITY Film Festival nodigt iedereen uit om een kijkje te komen nemen tijdens de festivalweek en samen een gemeenschap te vormen die inclusiviteit en diversiteit omarmt. Voor meer informatie en het volledige programma\, bezoek onze we﻿bsite. (https://www.disabilityfilmfestival.be/)\n\nWe hopen jullie daar te ontmoeten!\n\nVeel groeten\, het DFF-team
URL:https://social.doof.website/events/disability-filmfestival/
LOCATION:Bibliotheek Tweebronnen Leuven\, Rijschoolstraat 4\, Leuven\, Vlaams-Brabant\, 3000\, België
CATEGORIES:Cultuur,Film,Sport
ATTACH;FMTTYPE=image/png:https://social.doof.website/wp-content/uploads/2024/03/Poster-DFF-4.png
END:VEVENT
BEGIN:VEVENT
DTSTART;TZID=Europe/Paris:20240324T103000
DTEND;TZID=Europe/Paris:20240324T193000
DTSTAMP:20260420T052007
CREATED:20240117T191150Z
LAST-MODIFIED:20240229T092933Z
UID:10000090-1711276200-1711308600@social.doof.website
SUMMARY:Forza Deaf: 3e Lentetornooi Padel
DESCRIPTION:De padelclub Forza Deaf organiseert op zondag 24 maart 2024 het 3de lentetornooi. \nForza Deaf padelclub uit Gent organiseert voor de 3e maal een Padeltornooi voor doven & gebarentaligen. \nHet toernooi begint om 10.30 uur en eindigt rond 18.30 uur. \nHeren A\, B en C.Dames A en B. \nInschrijvingen is mogelijk vanaf zaterdag 24/02/2024 12:00 uur via QR-code (zie affiche hieronder). \nMeer info zie hieronder : facebook Forza Deaf of e-mail : forzadeaf@gmail.com
URL:https://social.doof.website/events/3e-lentetornooi-padel/
LOCATION:Vlaams-Brabant
CATEGORIES:Sport
ATTACH;FMTTYPE=image/jpeg:https://social.doof.website/wp-content/uploads/2024/01/Affiche-padel-2024.jpg
END:VEVENT
BEGIN:VEVENT
DTSTART;TZID=Europe/Paris:20240302T133000
DTEND;TZID=Europe/Paris:20240302T190000
DTSTAMP:20260420T052007
CREATED:20240227T063758Z
LAST-MODIFIED:20240227T063759Z
UID:10000132-1709386200-1709406000@social.doof.website
SUMMARY:Kajong: GlowGolf
DESCRIPTION:Na gevulde buikjes bij het eetfestijn in februari zijn we op weg naar een ietwat sportievere activiteit! Het is niet zomaar golf\, maar golf in het donker met lichtgevende objecten. \nDaarna kan je kiezen uit een lekkere hamburger of schnitzel met champignonroomsaus en er is tijd om gezellig te praten met iedereen. \nLet op: de deadline van inschrijven is 16 februari 2024. \nTot binnenkort! \nGroetjes\, Kajong bestuur
URL:https://social.doof.website/events/kajong-glowgolf/
LOCATION:GlowGolf Maastricht\, Porseleinstraat 1b\, Maastricht\, Limburg\, 6216 BP\, België
CATEGORIES:Eten,Ontspanning,Sport,Uitstap
ATTACH;FMTTYPE=image/png:https://social.doof.website/wp-content/uploads/2024/02/GLOWGOLF.png
ORGANIZER;CN="Kajong":MAILTO:info@kajong.be
END:VEVENT
BEGIN:VEVENT
DTSTART;TZID=Europe/Helsinki:20231223T133000
DTEND;TZID=Europe/Helsinki:20231223T170000
DTSTAMP:20260420T052007
CREATED:20231221T084726Z
LAST-MODIFIED:20231221T084726Z
UID:10000066-1703338200-1703350800@social.doof.website
SUMMARY:Schaatsen
DESCRIPTION:Zaterdag 23 november gaat Kajong zich nog amuseren op de schaatsbaan in Hasselt\, Limburg! We verzamelen om 13u30 aan de deuren en staan klaar op het ijs om 14u tot en met 17u. \n\nDaarna heb je de keuze om naar Winterland te gaan of niet. Let wel op dat deze activiteit apart van het schaatsen is. \n\nTot later en hopelijk zien we jou op de baan! \n\nKajong Bestuur
URL:https://social.doof.website/events/schaatsen/
LOCATION:Vlaams-Brabant
CATEGORIES:Ontspanning,Sport,Uitstap
ATTACH;FMTTYPE=image/png:https://social.doof.website/wp-content/uploads/2023/12/Schaatsen-2.png
ORGANIZER;CN="Kajong":MAILTO:info@kajong.be
END:VEVENT
BEGIN:VEVENT
DTSTART;TZID=Europe/Helsinki:20231118T123000
DTEND;TZID=Europe/Helsinki:20231118T200000
DTSTAMP:20260420T052007
CREATED:20231023T165806Z
LAST-MODIFIED:20231214T090947Z
UID:10000028-1700310600-1700337600@social.doof.website
SUMMARY:Sparkx Hasselt
DESCRIPTION:De tweede activiteit van Kajong vindt plaats op 18 november 2023 in Hasselt\, Sparkx. Kom samen om 12u30 met het bestuur verschillende sporten beoefenen in een virtual reality belevenis. Daarna is er zeker tijd om lekker te eten voor wie een grote honger heeft van al dat sporten! 😉 Trek je sportiefste kledij aan en breng je volle goesting mee! 🙂\n\nWil jij graag mee met ons? Wacht zeker niet te lang met inschrijven! De deadline is 30 oktober. \n\nSportieve groetjes\nKajong
URL:https://social.doof.website/events/sparkx-hasselt/
LOCATION:Sparkx\, Gouverneur Verwilghensingel 2D\, Hasselt\, Limburg\, 3500\, België
CATEGORIES:Sport
ATTACH;FMTTYPE=image/png:https://social.doof.website/wp-content/uploads/2023/10/officiele-poster-SPARKX.png
ORGANIZER;CN="Kajong":MAILTO:info@kajong.be
END:VEVENT
END:VCALENDAR