BEGIN:VCALENDAR
VERSION:2.0
PRODID:-//Sociale Kaart - ECPv6.15.20//NONSGML v1.0//EN
CALSCALE:GREGORIAN
METHOD:PUBLISH
X-ORIGINAL-URL:https://social.doof.website
X-WR-CALDESC:Evenementen voor Sociale Kaart
REFRESH-INTERVAL;VALUE=DURATION:PT1H
X-Robots-Tag:noindex
X-PUBLISHED-TTL:PT1H
BEGIN:VTIMEZONE
TZID:Europe/Helsinki
BEGIN:DAYLIGHT
TZOFFSETFROM:+0200
TZOFFSETTO:+0300
TZNAME:EEST
DTSTART:20240331T010000
END:DAYLIGHT
BEGIN:STANDARD
TZOFFSETFROM:+0300
TZOFFSETTO:+0200
TZNAME:EET
DTSTART:20241027T010000
END:STANDARD
BEGIN:DAYLIGHT
TZOFFSETFROM:+0200
TZOFFSETTO:+0300
TZNAME:EEST
DTSTART:20250330T010000
END:DAYLIGHT
BEGIN:STANDARD
TZOFFSETFROM:+0300
TZOFFSETTO:+0200
TZNAME:EET
DTSTART:20251026T010000
END:STANDARD
BEGIN:DAYLIGHT
TZOFFSETFROM:+0200
TZOFFSETTO:+0300
TZNAME:EEST
DTSTART:20260329T010000
END:DAYLIGHT
BEGIN:STANDARD
TZOFFSETFROM:+0300
TZOFFSETTO:+0200
TZNAME:EET
DTSTART:20261025T010000
END:STANDARD
BEGIN:DAYLIGHT
TZOFFSETFROM:+0200
TZOFFSETTO:+0300
TZNAME:EEST
DTSTART:20270328T010000
END:DAYLIGHT
BEGIN:STANDARD
TZOFFSETFROM:+0300
TZOFFSETTO:+0200
TZNAME:EET
DTSTART:20271031T010000
END:STANDARD
END:VTIMEZONE
BEGIN:VEVENT
DTSTART;TZID=Europe/Helsinki:20250524T090000
DTEND;TZID=Europe/Helsinki:20250524T100000
DTSTAMP:20260421T050041
CREATED:20250515T071007Z
LAST-MODIFIED:20250515T071008Z
UID:10001283-1748077200-1748080800@social.doof.website
SUMMARY:Arteveldehogeschool Gent: Hangmatyoga met tolk VGT
DESCRIPTION:Ontdek hangmatyoga tijdens een ontspannen introductieles. Exclusief voor doven en slechthorenden\, getolkt door 2 tolkstudenten.De les wordt georganiseerd door Arteveldehogeschool Gent\, in samenwerking met Studio noXcuse.
URL:https://social.doof.website/events/arteveldehogeschool-gent-hangmatyoga-met-tolk-vgt/
LOCATION:Studio noXcuse\, Wiedauwkaai 23H\, Gent\, 9000\, België
CATEGORIES:Sport
ATTACH;FMTTYPE=image/jpeg:https://social.doof.website/wp-content/uploads/2025/05/HM4.jpg
ORGANIZER;CN="Opleiding tolk VGT%2C Arteveldehogeschool%2C Gent":MAILTO:ninevanbelle@gmail.com
END:VEVENT
BEGIN:VEVENT
DTSTART;TZID=Europe/Helsinki:20250628T120000
DTEND;TZID=Europe/Helsinki:20250628T200000
DTSTAMP:20260421T050042
CREATED:20250527T051056Z
LAST-MODIFIED:20250527T051058Z
UID:10001290-1751112000-1751140800@social.doof.website
SUMMARY:Kajong : Terhills Cablepark
DESCRIPTION:Dag lieve Kajongers!\n\nZin in waterpret én avontuur? Dan zit je goed! Want Kajong trekt op 28 juni naar Terhills CablePark! 🤿💦\nSamen gaan we waterskiën of wakeboarden en ons helemaal uitleven op het parcours in het aquapark! Wie durft het op te nemen tegen het Kajong bestuur en sneller te zijn in wakeboarden? 😎\nDaarna sluiten we de dag gezellig af met een heerlijke pasta of pizza naar keuze! 🍝🍕\n\nhttps://forms.gle/6G4BEhT9JN5nNvCt9 \n❗️De deadline om je in te schrijven is 20 juni.❗️\n\nVergeet ook niet bij je inschrijving door te geven of je verzamelt aan Genk station of dat je rechtstreeks naar Terhills komt.\nWij kijken ernaar uit om een spetterend avontuur te beleven met jullie! 💜💙\n\nLieve groetjes\,\nhet Kajong bestuur
URL:https://social.doof.website/events/kajong-terhills-cablepark/
LOCATION:Terhills Cablepark\, Nationaal Parklaan 1\, Dilsen-Stokkem\, Limburg\, 3650\, België
CATEGORIES:Eten,Sport,Uitstap
ATTACH;FMTTYPE=image/png:https://social.doof.website/wp-content/uploads/2025/05/TERHILLS.png
ORGANIZER;CN="Kajong":MAILTO:info@kajong.be
END:VEVENT
BEGIN:VEVENT
DTSTART;TZID=Europe/Helsinki:20250830T000000
DTEND;TZID=Europe/Helsinki:20250830T235959
DTSTAMP:20260421T050042
CREATED:20250828T083653Z
LAST-MODIFIED:20250828T083656Z
UID:10001350-1756512000-1756598399@social.doof.website
SUMMARY:Vlaamse Dovensportdag
DESCRIPTION:Dit is een open recreatieve sportdag voor iedereen en specifiek doven en slechthorenden alsook valide aanverwanten of andersvaliden van kinderen tot senioren.
URL:https://social.doof.website/events/vlaamse-dovensportdag-2/
LOCATION:Sportcomplex Belleheide\, Omer De Vidtslaan\,52\, Roosdaal\, Vlaams-Brabant\, 1760\, België
CATEGORIES:Sport
ATTACH;FMTTYPE=image/jpeg:https://social.doof.website/wp-content/uploads/2025/08/Poster-Sportdag-2025-DEF.jpeg
ORGANIZER;CN="Dovensport Vlaanderen":MAILTO:board-dsv@deafsport.be
END:VEVENT
BEGIN:VEVENT
DTSTART;TZID=Europe/Helsinki:20251129T133000
DTEND;TZID=Europe/Helsinki:20251129T170000
DTSTAMP:20260421T050042
CREATED:20251106T123548Z
LAST-MODIFIED:20251106T123551Z
UID:10001397-1764423000-1764435600@social.doof.website
SUMMARY:Kajong: Karting & Bowling
DESCRIPTION:Dag lieve Kajongers! \nhttps://forms.gle/GW4F6GY52krmKtuFA \nOp 29 november beleven we een spannende dag\, want we gaan tegen elkaar karten in Antwerpen! Ook gaan we gezellig bowlen! 🚗🎳Kom mee met het Kajong bestuur racen op de baan! Wie weet ben jij sneller of win jij wel bij het potje bowling… 😜Echte winnaars hebben ook reuzehonger! Want na de activiteit gaan we smullen van heerlijke hamburgers naar keuze! 😋Wat nu met vervoer? Je kan kiezen om mee te gaan op de trein via Hasselt station of om zelfstandig naar de karting te komen. \n❗️De deadline om jullie in te schrijven is 15 november. ❗️ \nMeer informatie hierover en de inschrijvingslink vind je in het onderstaande evenement! \nVoor vragen of opmerkingen kan je Kajong bestuur op Facebook contacteren of een e-mail sturen naar info@kajong.be. \nHopelijk zijn jullie net zo enthousiast en competitief als wij! 💜💙 \nLieve groetjes\,het Kajong bestuur 👋🏻
URL:https://social.doof.website/events/kajong-karting-bowling/
LOCATION:Limburg
CATEGORIES:Eten,Sport,Uitstap
ATTACH;FMTTYPE=image/jpeg:https://social.doof.website/wp-content/uploads/2025/11/karten-en-bowling.jpg
ORGANIZER;CN="Kajong":MAILTO:info@kajong.be
END:VEVENT
BEGIN:VEVENT
DTSTART;TZID=Europe/Helsinki:20260509T113000
DTEND;TZID=Europe/Helsinki:20260509T160000
DTSTAMP:20260421T050042
CREATED:20260407T124820Z
LAST-MODIFIED:20260407T124823Z
UID:10001586-1778326200-1778342400@social.doof.website
SUMMARY:Kajong: Snorkelen B-Mine Beringen
DESCRIPTION:Dag lieve Kajongers! \nOp zaterdag 9 mei  2026 staat er weer iets leuks op de planning: we gaan samen snorkelen in Beringen! 🤿🐠Samen gaan we op ontdekkingstocht in een prachtig onderwaterparadijs! 🌊 Ben jij al benieuwd welke vissen we zullen spotten? 🤭https://forms.gle/Mhjwwk5q4ecKaDhW7 \nWat moet je meebrengen?📌 Zwemgerief📌 Handdoek📌 Een doosje voor de apparaatjes of CI’s📌 Je enthousiasme! 🥰 \nAl het snorkelmateriaal zit inbegrepen in de activiteit! Je krijgt ter plaatse een duikbril\, snorkel\, … dus je hoeft zelf niets mee te brengen. Heb je thuis een volgelaatsmasker? Dan MAG je dat meenemen\, maar dat is zeker niet verplicht! Ter plaatse kan je er ook eentje huren als je dat graag wil.Na de activiteit eten we samen nog een hapje en maken we het extra gezellig! 💙 Er is keuze uit 4 lekkere opties: wrap met caesar kip\, wrap met zalm\, croque monsieur of een croque veggie. \nDaarnaast kan je kiezen om zelfstandig naar de activiteit te komen of om samen met het bestuur de bus te nemen via Hasselt station. Duid dit aan in je inschrijving! 🚗Meer informatie over de juiste tijdstippen om te verzamelen\, vind je in de infobrief in het onderstaande evenement! \nZit je met vragen of opmerkingen? Je kan Kajong bestuur op Facebook contacteren of een e-mail sturen naar info@kajong.be.Wij kijken ernaar uit om dit avontuur met jullie te mogen beleven! 💜💙 \nLieve groetjes\,het Kajong bestuur 👋🏻
URL:https://social.doof.website/events/kajong-snorkelen-b-mine-beringen/
LOCATION:Todi by Sportoase\, be-MINE 1\, Beringen\, Limburg\, 3582\, België
CATEGORIES:Sport
ATTACH;FMTTYPE=image/jpeg:https://social.doof.website/wp-content/uploads/2026/04/affiche-snorkelen.jpg
ORGANIZER;CN="Kajong":MAILTO:info@kajong.be
END:VEVENT
END:VCALENDAR