BEGIN:VCALENDAR
VERSION:2.0
PRODID:-//Sociale Kaart - ECPv6.15.20//NONSGML v1.0//EN
CALSCALE:GREGORIAN
METHOD:PUBLISH
X-WR-CALNAME:Sociale Kaart
X-ORIGINAL-URL:https://social.doof.website
X-WR-CALDESC:Evenementen voor Sociale Kaart
REFRESH-INTERVAL;VALUE=DURATION:PT1H
X-Robots-Tag:noindex
X-PUBLISHED-TTL:PT1H
BEGIN:VTIMEZONE
TZID:Europe/Paris
BEGIN:DAYLIGHT
TZOFFSETFROM:+0100
TZOFFSETTO:+0200
TZNAME:CEST
DTSTART:20230326T010000
END:DAYLIGHT
BEGIN:STANDARD
TZOFFSETFROM:+0200
TZOFFSETTO:+0100
TZNAME:CET
DTSTART:20231029T010000
END:STANDARD
BEGIN:DAYLIGHT
TZOFFSETFROM:+0100
TZOFFSETTO:+0200
TZNAME:CEST
DTSTART:20240331T010000
END:DAYLIGHT
BEGIN:STANDARD
TZOFFSETFROM:+0200
TZOFFSETTO:+0100
TZNAME:CET
DTSTART:20241027T010000
END:STANDARD
BEGIN:DAYLIGHT
TZOFFSETFROM:+0100
TZOFFSETTO:+0200
TZNAME:CEST
DTSTART:20250330T010000
END:DAYLIGHT
BEGIN:STANDARD
TZOFFSETFROM:+0200
TZOFFSETTO:+0100
TZNAME:CET
DTSTART:20251026T010000
END:STANDARD
END:VTIMEZONE
BEGIN:VTIMEZONE
TZID:Europe/Helsinki
BEGIN:DAYLIGHT
TZOFFSETFROM:+0200
TZOFFSETTO:+0300
TZNAME:EEST
DTSTART:20230326T010000
END:DAYLIGHT
BEGIN:STANDARD
TZOFFSETFROM:+0300
TZOFFSETTO:+0200
TZNAME:EET
DTSTART:20231029T010000
END:STANDARD
BEGIN:DAYLIGHT
TZOFFSETFROM:+0200
TZOFFSETTO:+0300
TZNAME:EEST
DTSTART:20240331T010000
END:DAYLIGHT
BEGIN:STANDARD
TZOFFSETFROM:+0300
TZOFFSETTO:+0200
TZNAME:EET
DTSTART:20241027T010000
END:STANDARD
BEGIN:DAYLIGHT
TZOFFSETFROM:+0200
TZOFFSETTO:+0300
TZNAME:EEST
DTSTART:20250330T010000
END:DAYLIGHT
BEGIN:STANDARD
TZOFFSETFROM:+0300
TZOFFSETTO:+0200
TZNAME:EET
DTSTART:20251026T010000
END:STANDARD
END:VTIMEZONE
BEGIN:VEVENT
DTSTART;TZID=Europe/Paris:20240213T193000
DTEND;TZID=Europe/Paris:20240213T220000
DTSTAMP:20260421T211415
CREATED:20240116T041803Z
LAST-MODIFIED:20240116T041803Z
UID:10000081-1707852600-1707861600@social.doof.website
SUMMARY:Sophie Lewis - A happy ending for the capitalist family?
DESCRIPTION:[NL]  Het gezin werkt nauwelijks. Het is de belangrijkste bron van geweld en seksueel misbruik voor queer jongeren\, vrouwen en kinderen. En eenvoudig gezegd: het gezin vraagt te veel van te weinig mensen. Mensen die het grootste deel van de zorgarbeid binnen gezinnen op zich nemen voelen zich overweldigd\, uitgebuit\, eenzaam en opgebrand. \nToch lijkt het kerngezin voor velen van ons in het westen een natuurwet. Onontkoombaar. Maar is dat zo? Waar weerhoudt het familisme ons van om te doen en te verlangen? Hoe kunnen we een einde maken aan de georganiseerde zorgschaarste? \nSophie Lewis is een feministische schrijfster en onafhankelijk wetenschapper die in Philadelphia woont.Na haar lezing gaat Sophie Lewis in gesprek met schrijfster en genderstudies onderzoekster Siggie Vertommen. \nZowel de lezing als het gesprek erna zullen in het Engels plaatsvinden.Er zal een tolk aanwezig zijn voor de vertaling van het Engels naar de Vlaamse Gebarentaal. \n  \n[ENG]\nThe family is barely working. It is the primary source of violence and sexual abuse for queer youths\, women\, and children. And in simple labour terms\, it asks too much of too few. People who take on the brunt of the care labour within families feel overwhelmed\, exploited\, lonely and burned-out.Yet the private nuclear household seems to many of us in the west like a law of nature. Inescapable. But\, is it? What does familism prevent us from doing and desiring? How might we think about bringing an end to organized care scarcity? \nSophie Lewis is a feminist writer and independent scholar living in Philadelphia.After her lecture\, Sophie Lewis will talk to writer and gender studies researcher Siggie Vertommen. \nBoth the talk and the discussion afterward will take place in English.An interpreter will be present for translation from English to Flemish Sign Language.
URL:https://social.doof.website/events/sophie-lewis-a-happy-ending-for-the-capitalist-family/
LOCATION:kunstencentrum VIERNULVIER Gent\, Sint-Pietersnieuwstraat 23\, Gent\, Oost-Vlaanderen\, 9000\, België
CATEGORIES:Lezing
ATTACH;FMTTYPE=image/jpeg:https://social.doof.website/wp-content/uploads/2024/01/406648573_668042552113804_636095886257880430_n.jpg
ORGANIZER;CN="Studium Generale Gent":MAILTO:anais.vanertvelde@hogent.be
END:VEVENT
BEGIN:VEVENT
DTSTART;TZID=Europe/Helsinki:20240206T200000
DTEND;TZID=Europe/Helsinki:20240206T220000
DTSTAMP:20260421T211415
CREATED:20231222T142332Z
LAST-MODIFIED:20231222T142332Z
UID:10000067-1707249600-1707256800@social.doof.website
SUMMARY:Boekvoorstelling Handicap. Een bevrijding - in AMOR van De Roma
DESCRIPTION:Je kent historica Anaïs Van Ertvelde misschien van haar columns in onder meer De Standaard en De Morgen\, of van het boek Vuile Lakens (De Bezige Bij\, 2017) en de gelijknamige podcast. Anaïs werd geboren met een korte rechteronderarm. Voor haar een vanzelfsprekend gegeven. Vooral andere mensen leken er vragen bij te hebben. Tot ze ontdekte dat er veel meer achter die handicap schuilgaat. Niet alleen persoonlijk maar ook maatschappelijk. Haar nieuwe boek Handicap. Een bevrijding (De Bezige Bij\, 2024) stelt in vraag wat de wereld ons over het leven met een handicap vertelt en maakt duidelijk wat handicap ons over de wereld kan vertellen.\n\nOp 6 februari leest Anaïs in Amor in première voor uit Handicap en gaat in gesprek met schrijfster en scenariste Abbie Boutkabout\, ook bekend van de podcast This is what I read. Ze zullen het hebben over handicap als een persoonlijke zoektocht én een politieke vraag: hoe kan je thuishoren in een wereld waartoe je niet vanzelfsprekend behoort? Waarom voelt het zo gevaarlijk om je met een handicap te identificeren en ligt in dat gevaar misschien vrijheid verborgen?\n\nVoor deze avond wordt een gebarentaaltolk voorzien. AMOR is ook vlot toegankelijk voor minder mobiele mensen en rolstoelgebruikers. Hou er wel rekening mee dat we geen eigen parking of parkeerplaatsen hebben. Voor een overzicht van aangepaste voorbehouden parkeerplaatsen in de buurt\, surf naar deze webpagina van de stad Antwerpen: https://www.antwerpen.be/nl/stadsplan/stadslagen (parkeren: parkeerplaatsen voor personen met een handicap). Als je nog vragen hebt m.b.t. toegankelijkheid\, dan kan je ons contacteren op toegankelijkheid@deroma.be.\n\nTickets: € 5 – bit.ly/handicapeenbevrijding\n\nAdres: AMOR\, Turnhoutsebaan 288\, 2140 Borgerhout\nDeuren open: 19:15\nBereikbaarheid: bit.ly/deromabereikbaarheid
URL:https://social.doof.website/events/boekvoorstelling-handicap-een-bevrijding-in-amor-van-de-roma/
LOCATION:AMOR van De Roma\, Turnhoutsebaan 288\, Borgerhout\, Antwerpen\, 2140\, België
CATEGORIES:Lezing
ATTACH;FMTTYPE=image/jpeg:https://social.doof.website/wp-content/uploads/2023/12/SIG-TEMPLATE_INSTAGRAM_FEED.jpg
ORGANIZER;CN="De Roma":MAILTO:info@deroma.be
END:VEVENT
END:VCALENDAR