BEGIN:VCALENDAR
VERSION:2.0
PRODID:-//Sociale Kaart - ECPv6.15.20//NONSGML v1.0//EN
CALSCALE:GREGORIAN
METHOD:PUBLISH
X-ORIGINAL-URL:https://social.doof.website
X-WR-CALDESC:Evenementen voor Sociale Kaart
REFRESH-INTERVAL;VALUE=DURATION:PT1H
X-Robots-Tag:noindex
X-PUBLISHED-TTL:PT1H
BEGIN:VTIMEZONE
TZID:Europe/Helsinki
BEGIN:DAYLIGHT
TZOFFSETFROM:+0200
TZOFFSETTO:+0300
TZNAME:EEST
DTSTART:20250330T010000
END:DAYLIGHT
BEGIN:STANDARD
TZOFFSETFROM:+0300
TZOFFSETTO:+0200
TZNAME:EET
DTSTART:20251026T010000
END:STANDARD
BEGIN:DAYLIGHT
TZOFFSETFROM:+0200
TZOFFSETTO:+0300
TZNAME:EEST
DTSTART:20260329T010000
END:DAYLIGHT
BEGIN:STANDARD
TZOFFSETFROM:+0300
TZOFFSETTO:+0200
TZNAME:EET
DTSTART:20261025T010000
END:STANDARD
BEGIN:DAYLIGHT
TZOFFSETFROM:+0200
TZOFFSETTO:+0300
TZNAME:EEST
DTSTART:20270328T010000
END:DAYLIGHT
BEGIN:STANDARD
TZOFFSETFROM:+0300
TZOFFSETTO:+0200
TZNAME:EET
DTSTART:20271031T010000
END:STANDARD
END:VTIMEZONE
BEGIN:VEVENT
DTSTART;TZID=Europe/Helsinki:20260310T193000
DTEND;TZID=Europe/Helsinki:20260310T213000
DTSTAMP:20260421T144645
CREATED:20260226T094156Z
LAST-MODIFIED:20260226T094158Z
UID:10001558-1773171000-1773178200@social.doof.website
SUMMARY:Karakter Boeklaunch: Onvertaalbaar: een ode aan meertaligheid – Lisette Ma Neza
DESCRIPTION:“Onvertaalbaar” is de intieme zoektocht van Lisette Ma Neza naar een eigen taal. Zelf groeide ze op in een meertalige omgeving\, en ontdekte ze dat geen enkele taal volledig is. Via onvertaalbare woorden\, herinneringen en ontmoetingen verkent ze hoe taalgrenzen zowel botsen als in elkaar overvloeien\, en hoe meertaligheid zowel kwetsbaar als verrijkend kan zijn.\n\n “Er zijn weinig mensen die met woorden zo kunnen raken\, dat het lijkt alsof ze je zowel een spiegel voorhouden als een raam naar hun magische innerlijke wereld openzwaaien. Lisette doet dat telkens weer\, en ik ben dankbaar haar te mogen lezen en van haar te kunnen leren.” – Dalilla Hermans\, auteur en theatermaker \n\nLisette leest voor en theatermaakster Aminata Demba gaat met haar en taalonderzoeker Graziela Dekeyser in gesprek. Nadien kan je het boek kopen aan de boekenstand en sluiten we af met een drankje en muziek. Onvertaalbaar van Lisette Ma Neza is een publicatie in de reeks Karakters\, essays over filosofie en cultuurkritiek in zakformaat. De Karakters zijn een samenwerking van Studium Generale\, Academia Press\, deBuren en rekto:verso.
URL:https://social.doof.website/events/karakter-boeklaunch-onvertaalbaar-een-ode-aan-meertaligheid-lisette-ma-neza-2/
LOCATION:kunstencentrum VIERNULVIER Gent\, Sint-Pietersnieuwstraat 23\, Gent\, Oost-Vlaanderen\, 9000\, België
CATEGORIES:Cultuur,Lezing
ATTACH;FMTTYPE=image/png:https://social.doof.website/wp-content/uploads/2026/02/Scherm­afbeelding-2026-02-19-om-14.51.38.png
ORGANIZER;CN="Studium Generale Gent":MAILTO:anais.vanertvelde@hogent.be
END:VEVENT
END:VCALENDAR