BEGIN:VCALENDAR
VERSION:2.0
PRODID:-//Sociale Kaart - ECPv6.15.20//NONSGML v1.0//EN
CALSCALE:GREGORIAN
METHOD:PUBLISH
X-ORIGINAL-URL:https://social.doof.website
X-WR-CALDESC:Evenementen voor Sociale Kaart
REFRESH-INTERVAL;VALUE=DURATION:PT1H
X-Robots-Tag:noindex
X-PUBLISHED-TTL:PT1H
BEGIN:VTIMEZONE
TZID:Europe/Paris
BEGIN:DAYLIGHT
TZOFFSETFROM:+0100
TZOFFSETTO:+0200
TZNAME:CEST
DTSTART:20230326T010000
END:DAYLIGHT
BEGIN:STANDARD
TZOFFSETFROM:+0200
TZOFFSETTO:+0100
TZNAME:CET
DTSTART:20231029T010000
END:STANDARD
BEGIN:DAYLIGHT
TZOFFSETFROM:+0100
TZOFFSETTO:+0200
TZNAME:CEST
DTSTART:20240331T010000
END:DAYLIGHT
BEGIN:STANDARD
TZOFFSETFROM:+0200
TZOFFSETTO:+0100
TZNAME:CET
DTSTART:20241027T010000
END:STANDARD
BEGIN:DAYLIGHT
TZOFFSETFROM:+0100
TZOFFSETTO:+0200
TZNAME:CEST
DTSTART:20250330T010000
END:DAYLIGHT
BEGIN:STANDARD
TZOFFSETFROM:+0200
TZOFFSETTO:+0100
TZNAME:CET
DTSTART:20251026T010000
END:STANDARD
END:VTIMEZONE
BEGIN:VEVENT
DTSTART;TZID=Europe/Paris:20240310T110000
DTEND;TZID=Europe/Paris:20240310T220000
DTSTAMP:20260423T122848
CREATED:20240125T113132Z
LAST-MODIFIED:20240227T073210Z
UID:10000098-1710068400-1710108000@social.doof.website
SUMMARY:GTG-Gent: 24e eetfestijn
DESCRIPTION:Steak en Kipfilet\nOpen vanaf 11 uur.\nvan 11.30 uur tot 14.00 uur: wie van jullie eten mee\, nadien gezellige babbelen\,…\nMeer informatie\, zie affiche.\nContact bij het GTG administratie Chantal Roose: info.gtggent@gmail.com
URL:https://social.doof.website/events/24e-eetfestijn/
CATEGORIES:Eetfestijn
ATTACH;FMTTYPE=image/jpeg:https://social.doof.website/wp-content/uploads/2024/01/20240310_24e-eetfestijn-1.jpg
ORGANIZER;CN="GTG Gent":MAILTO:info.gtggent@gmail.com
END:VEVENT
END:VCALENDAR