BEGIN:VCALENDAR
VERSION:2.0
PRODID:-//Sociale Kaart - ECPv6.15.20//NONSGML v1.0//EN
CALSCALE:GREGORIAN
METHOD:PUBLISH
X-ORIGINAL-URL:https://social.doof.website
X-WR-CALDESC:Evenementen voor Sociale Kaart
REFRESH-INTERVAL;VALUE=DURATION:PT1H
X-Robots-Tag:noindex
X-PUBLISHED-TTL:PT1H
BEGIN:VTIMEZONE
TZID:Europe/Helsinki
BEGIN:DAYLIGHT
TZOFFSETFROM:+0200
TZOFFSETTO:+0300
TZNAME:EEST
DTSTART:20240331T010000
END:DAYLIGHT
BEGIN:STANDARD
TZOFFSETFROM:+0300
TZOFFSETTO:+0200
TZNAME:EET
DTSTART:20241027T010000
END:STANDARD
BEGIN:DAYLIGHT
TZOFFSETFROM:+0200
TZOFFSETTO:+0300
TZNAME:EEST
DTSTART:20250330T010000
END:DAYLIGHT
BEGIN:STANDARD
TZOFFSETFROM:+0300
TZOFFSETTO:+0200
TZNAME:EET
DTSTART:20251026T010000
END:STANDARD
BEGIN:DAYLIGHT
TZOFFSETFROM:+0200
TZOFFSETTO:+0300
TZNAME:EEST
DTSTART:20260329T010000
END:DAYLIGHT
BEGIN:STANDARD
TZOFFSETFROM:+0300
TZOFFSETTO:+0200
TZNAME:EET
DTSTART:20261025T010000
END:STANDARD
BEGIN:DAYLIGHT
TZOFFSETFROM:+0200
TZOFFSETTO:+0300
TZNAME:EEST
DTSTART:20270328T010000
END:DAYLIGHT
BEGIN:STANDARD
TZOFFSETFROM:+0300
TZOFFSETTO:+0200
TZNAME:EET
DTSTART:20271031T010000
END:STANDARD
END:VTIMEZONE
BEGIN:VTIMEZONE
TZID:Europe/Paris
BEGIN:DAYLIGHT
TZOFFSETFROM:+0100
TZOFFSETTO:+0200
TZNAME:CEST
DTSTART:20240331T010000
END:DAYLIGHT
BEGIN:STANDARD
TZOFFSETFROM:+0200
TZOFFSETTO:+0100
TZNAME:CET
DTSTART:20241027T010000
END:STANDARD
BEGIN:DAYLIGHT
TZOFFSETFROM:+0100
TZOFFSETTO:+0200
TZNAME:CEST
DTSTART:20250330T010000
END:DAYLIGHT
BEGIN:STANDARD
TZOFFSETFROM:+0200
TZOFFSETTO:+0100
TZNAME:CET
DTSTART:20251026T010000
END:STANDARD
BEGIN:DAYLIGHT
TZOFFSETFROM:+0100
TZOFFSETTO:+0200
TZNAME:CEST
DTSTART:20260329T010000
END:DAYLIGHT
BEGIN:STANDARD
TZOFFSETFROM:+0200
TZOFFSETTO:+0100
TZNAME:CET
DTSTART:20261025T010000
END:STANDARD
END:VTIMEZONE
BEGIN:VEVENT
DTSTART;TZID=Europe/Helsinki:20250201T080000
DTEND;TZID=Europe/Helsinki:20250201T170000
DTSTAMP:20260423T014745
CREATED:20241216T165530Z
LAST-MODIFIED:20241216T165531Z
UID:10001087-1738396800-1738429200@social.doof.website
SUMMARY:Afrikaans actie met eetfestijn
DESCRIPTION:2015 – nieuwbouw Dovencentrum Rumonge in Kigoma – Tanzania was voltooid. In dit centrum met gebouwen voorzien met een klas\, showroom en ateliers konden de Doven hun vakwerk houtbewerking en naai/snit leren. Door geplaagde lockdown moest het gebouw naaiatelier sluiten. Gedurende 2 jaar nestelen de vleermuizen in verborgen plaatsen vooral in het plafond. Door uitwerpselen en wegvreten van isolatie elektriciteit is het naaiatelier onbruikbaar. Daarom dringt het renovatie met herstellingen op. \n2016 – Uit de streek van Kigoma waren nieuwe Tanzaniaans gebarenwoordenboeken in omloop vlug opgeraakt. De vraag naar 2de druk boeken is groot.  \nMet de opbrengst van onze eetfestijn wil de bond kosten voor herstelwerken en drukwerk bijdragen. Kom maar af voor spaghettimaaltijd. Of heb je liever alleen pannenkoeken -of een glaasje drinken? Altijd welkom.
URL:https://social.doof.website/events/afrikaans-actie-met-eetfestijn/2025-02-01/1/
LOCATION:Dovencentrum Emmaüs\, Van Den Heckestraat 43\, 9050 Ledeberg - Gent\, België\, 9050\, België
CATEGORIES:Eetfestijn
ATTACH;FMTTYPE=image/png:https://social.doof.website/wp-content/uploads/2024/12/Affiche-eetfestijn-2025-PNG.png
ORGANIZER;CN="Dovenbond oud- leerlingen - Gentbrugge":MAILTO:wilfrieddegraef@hotmail.be
END:VEVENT
BEGIN:VEVENT
DTSTART;TZID=Europe/Helsinki:20250302T140000
DTEND;TZID=Europe/Helsinki:20250302T190000
DTSTAMP:20260423T014745
CREATED:20250128T181603Z
LAST-MODIFIED:20250128T181635Z
UID:10001229-1740924000-1740942000@social.doof.website
SUMMARY:Pannenkoekenfestijn & volksspelen samen met Brugse Dovenvereniging
DESCRIPTION:Pannenkoeken smullen & volksspelletjes spelen (vrijblijvend)
URL:https://social.doof.website/events/pannenkoekenfestijn-volksspelen-samen-met-brugse-dovenvereniging/
LOCATION:Gebarenhuis Nowedo\, Polderstraat 76A\, Sint-Kruis
CATEGORIES:Eetfestijn
ATTACH;FMTTYPE=image/png:https://social.doof.website/wp-content/uploads/2025/01/Pannenkoekenfestijn-zondag-2-maart-2025-klein-1.png
ORGANIZER;CN="Nowedo vzw":MAILTO:info@nowedo.be
END:VEVENT
BEGIN:VEVENT
DTSTART;TZID=Europe/Paris:20250405T163000
DTEND;TZID=Europe/Paris:20250405T220000
DTSTAMP:20260423T014745
CREATED:20240416T060746Z
LAST-MODIFIED:20250323T091941Z
UID:10000188-1743870600-1743890400@social.doof.website
SUMMARY:Tienjarig bestaan Dovenactie Torhout-Houtland!
DESCRIPTION:Info in VGT: https://www.facebook.com/share/v/18uNhMCRi9/?mibextid=wwXIfr \nTienjarig bestaan DovenActie Torhout! Feest!\nDovenActie Torhout-Houtland bestaat dit jaar tien jaar!!\nDat verdient een feestje! 🥳  \nWanneer? Zaterdag 5 april\, 16u30-22 uur \nWaar? Club de B\, ‘s Gravenwinkelstraat 5 in Torhout \nProgramma:\n– 16u30: verwelkoming en aperitief 🥂\n– ⁠17u30: speeches 🎤\n– ⁠18u: kaas- en charcuteriebuffet 🧀🍇🥓🥗🥖\n– ⁠20u: comedyshow ‘Over Leven in West-Vlaanderen’ door de rasechte West-Vlaming Jan-Bart!\n—> https://m.facebook.com/story.php?story_fbid=pfbid02MQAi4DEce1oL57vWgMmToNZNCosJbroNPapcp2T6mAD7i45jXmpCWXPbT3Q1hEjml&id=684839204\n– ⁠20u30: deaf time 🧏🏼‍♂️🧏🏻‍♀️🙌🏻 – knabbel en babbel  \nPrijs?\n– € 25 p.p. niet-Torhoutenaar\n– ⁠€ 20 p.p. bewoners uit Torhout \nKom je enkel voor de aperitief en de speeches (16u30-18u)?\nLaat het ons weten! \nInschrijven via: https://forms.gle/Nc8zuc6DAdkocDcn8 t.e.m. zaterdag 29 maart.\nInschrijving bevestigd na overschrijving op BE93973126336167.\nTolken VGT-NL aanwezig. \nNog andere ondersteuning nodig?\nLaat het ons weten: torhout@dovenactie.be! \nTot dan?! 🥳😊
URL:https://social.doof.website/events/tienjarig-bestaan-dovenactie-torhout-en-breughelavond/
LOCATION:Club de B – Torhout\, S Gravenwinkelstraat 5\, TORHOUT\, West-Vlaanderen\, 8820\, België
CATEGORIES:Eetfestijn,Ontspanning,Receptie,Sfeerevenement
ATTACH;FMTTYPE=image/jpeg:https://social.doof.website/wp-content/uploads/2024/04/WhatsApp-Image-2025-02-18-at-14.21.13.jpeg
ORGANIZER;CN="DovenActie Torhout":MAILTO:torhout@dovenactie.be
END:VEVENT
BEGIN:VEVENT
DTSTART;TZID=Europe/Helsinki:20250504T080000
DTEND;TZID=Europe/Helsinki:20250504T190000
DTSTAMP:20260423T014745
CREATED:20250320T161618Z
LAST-MODIFIED:20250321T093242Z
UID:10001254-1746345600-1746385200@social.doof.website
SUMMARY:Nowedo & Brugse Dovenvereniging: Banket nav. 123 jaar KBD
DESCRIPTION:Vier je mee het 123 jaar bestaan van onze Brugse Dovenvereniging (afdeling van Nowedo)?
URL:https://social.doof.website/events/nowedo-brugse-dovenvereniging-banket-nav-123-jaar-kbd/
LOCATION:Gebarenhuis Nowedo\, Polderstraat 76A\, Sint-Kruis
CATEGORIES:Eetfestijn
ATTACH;FMTTYPE=image/png:https://social.doof.website/wp-content/uploads/2025/03/Banket-KBD-4-mei-2025.png
END:VEVENT
BEGIN:VEVENT
DTSTART;TZID=Europe/Helsinki:20250706T113000
DTEND;TZID=Europe/Helsinki:20250706T200000
DTSTAMP:20260423T014745
CREATED:20250515T080953Z
LAST-MODIFIED:20250515T080954Z
UID:10001287-1751801400-1751832000@social.doof.website
SUMMARY:Nowedo: Smulfestijn op 6 juli 2025 in Gebarenhuis Nowedo
DESCRIPTION:Smulfestijn alert! 🙂\n\nVarken aan ’t spit\, witvis of veggie? Kies via www.nowedo.be je favoriet en schuif gezellig aan op zondag 6 juli 2025 in Gebarenhuis Nowedo.\n\nAlvast welkom! 🙂
URL:https://social.doof.website/events/nowedo-smulfestijn-op-6-juli-2025-in-gebarenhuis-nowedo/
LOCATION:Gebarenhuis Nowedo\, Polderstraat 76A\, Sint-Kruis
CATEGORIES:Eetfestijn
ATTACH;FMTTYPE=image/jpeg:https://social.doof.website/wp-content/uploads/2025/05/SMULFESTIJN-6-JULI-2025.jpg
END:VEVENT
BEGIN:VEVENT
DTSTART;TZID=Europe/Helsinki:20260214T170000
DTEND;TZID=Europe/Helsinki:20260214T200000
DTSTAMP:20260423T014745
CREATED:20260105T145627Z
LAST-MODIFIED:20260105T145629Z
UID:10001541-1771088400-1771099200@social.doof.website
SUMMARY:Kajong: Eetfestijn Jungle
DESCRIPTION:Dag lieve Kajongers!\nOp 14 februari zijn jullie van harte welkom op ons jaarlijks eetfestijn! Samen trekken we op avontuur door de jungle! 🌿🐆\n✍️ https://forms.gle/xmiqdzKTt86DeSAr5\nVanaf 17u in zaal Elckerlyc kan je je laten verrassen door ons overheerlijke menu. Er is keuze uit hamburgervlees of veggie burger\, stoofvlees\, balletjes in tomatensaus of vol-au-vent! Natuurlijk mag je smullen van frietjes à volonté! 🍟🍔\nVia de inschrijvingslink kan je kiezen tussen een kids\, adult of een VIP-pakket. In het VIP-pakket zit een glaasje cava of fruitsap\, nootjes\, 2 consumpties en een dessert naar keuze inbegrepen! 🍾\nHeb je kids of adult gekozen en wil je ook graag een dessert? Dan betaal je slechts €3 extra!\nBij je inschrijving kan je ook aanduiden welk vleesgerecht je bij je frietjes wenst. Je kan maximaal 1 vleesgerecht kiezen. Duid ook aan tijdens welk tijdsblok je komt eten met je partner\, vrienden of gezin. Hoe meer zielen\, hoe meer vreugde! 💚\nP.S.: Wie graag als vrijwilliger wil meehelpen op ons eetfestijn\, bekijk dan zeker Anouk haar filmpje in het onderstaande evenement!\nVragen of opmerkingen? Je kan Kajong bestuur op Facebook contacteren of een e-mail sturen naar info@kajong.be.\nAha\, de jungle roept! De dieren komen stilaan tot leven… en jouw buikje rammelt ook! 🐒🤭\nLieve groetjes\,\nhet Kajong bestuur 🌿
URL:https://social.doof.website/events/kajong-eetfestijn-jungle/
LOCATION:De Elckerlyc\, Pastorijstraat 4\, Hasselt\, Limburg\, 3500\, België
CATEGORIES:Eetfestijn
ATTACH;FMTTYPE=image/jpeg:https://social.doof.website/wp-content/uploads/2025/12/Jungle-eetfestijn-2026.jpg
ORGANIZER;CN="Kajong":MAILTO:info@kajong.be
END:VEVENT
BEGIN:VEVENT
DTSTART;TZID=Europe/Helsinki:20260503T120000
DTEND;TZID=Europe/Helsinki:20260503T190000
DTSTAMP:20260423T014745
CREATED:20260323T122409Z
LAST-MODIFIED:20260323T122413Z
UID:10001577-1777809600-1777834800@social.doof.website
SUMMARY:Banket op 3 mei 2026 tav. 124 jaar Brugse Dovenvereniging
DESCRIPTION:Op zondag 3 mei 2026 blaast de Brugse Dovenvereniging maar liefst 124 kaarsjes uit. Alle info vinden jullie in bijlage. Zin om die zondag mee te feesten? Schrijf je in via https://docs.google.com/forms/d/e/1FAIpQLSe19xAGL-aHqj5JvtCo8LVPmb_25bdVv81Hm9fu1EvtzJlHIw/viewform.
URL:https://social.doof.website/events/banket-op-3-mei-2026-tav-124-jaar-brugse-dovenvereniging/
LOCATION:Gebarenhuis Nowedo\, Polderstraat 76A\, Sint-Kruis
CATEGORIES:Eetfestijn
ATTACH;FMTTYPE=image/jpeg:https://social.doof.website/wp-content/uploads/2026/03/Banket_124_jaar_KBD_op_3_mei_2026.jpg
ORGANIZER;CN="Nowedo vzw":MAILTO:info@nowedo.be
END:VEVENT
END:VCALENDAR