BEGIN:VCALENDAR
VERSION:2.0
PRODID:-//Sociale Kaart - ECPv6.15.20//NONSGML v1.0//EN
CALSCALE:GREGORIAN
METHOD:PUBLISH
X-WR-CALNAME:Sociale Kaart
X-ORIGINAL-URL:https://social.doof.website
X-WR-CALDESC:Evenementen voor Sociale Kaart
REFRESH-INTERVAL;VALUE=DURATION:PT1H
X-Robots-Tag:noindex
X-PUBLISHED-TTL:PT1H
BEGIN:VTIMEZONE
TZID:Europe/Helsinki
BEGIN:DAYLIGHT
TZOFFSETFROM:+0200
TZOFFSETTO:+0300
TZNAME:EEST
DTSTART:20250330T010000
END:DAYLIGHT
BEGIN:STANDARD
TZOFFSETFROM:+0300
TZOFFSETTO:+0200
TZNAME:EET
DTSTART:20251026T010000
END:STANDARD
BEGIN:DAYLIGHT
TZOFFSETFROM:+0200
TZOFFSETTO:+0300
TZNAME:EEST
DTSTART:20260329T010000
END:DAYLIGHT
BEGIN:STANDARD
TZOFFSETFROM:+0300
TZOFFSETTO:+0200
TZNAME:EET
DTSTART:20261025T010000
END:STANDARD
BEGIN:DAYLIGHT
TZOFFSETFROM:+0200
TZOFFSETTO:+0300
TZNAME:EEST
DTSTART:20270328T010000
END:DAYLIGHT
BEGIN:STANDARD
TZOFFSETFROM:+0300
TZOFFSETTO:+0200
TZNAME:EET
DTSTART:20271031T010000
END:STANDARD
END:VTIMEZONE
BEGIN:VEVENT
DTSTART;TZID=Europe/Helsinki:20260426T110000
DTEND;TZID=Europe/Helsinki:20260426T120000
DTSTAMP:20260421T135159
CREATED:20260414T133708Z
LAST-MODIFIED:20260414T133712Z
UID:10001587-1777201200-1777204800@social.doof.website
SUMMARY:Erfgoeddag: Duolezing – Serieus grappig
DESCRIPTION:Op Erfgoeddag zetten we het rijke cultureel erfgoed in de kijker. Het thema dit jaar is humor. Van middeleeuwse satire tot snedige internetmemes\, van ontwapenend plezier tot scherpe prikken: humor is overal en van alle tijden. \nJawel\, KU Leuven doet ook onderzoek naar humor. Taalwetenschappers Bert Oben en Thomas Winters zoeken naar wat onze lachspieren laat bewegen. Ben jij ook nieuwsgierig naar het geheim van een geslaagde mop? Luister goed\, want dit grappige gesprek is wetenschappelijk bewezen.\n\nToegankelijkheid:\n– De zaal is niet toegankelijk met een rolstoel.\n– Er is een tolk Vlaamse Gebarentaal aanwezig.
URL:https://social.doof.website/events/erfgoeddag-duolezing-serieus-grappig/
LOCATION:Universiteitsbibliotheek\, Monseigneur Ladeuzeplein 21\, Leuven\, Vlaams-Brabant\, 3000\, België
ATTACH;FMTTYPE=image/png:https://social.doof.website/wp-content/uploads/2026/04/Ubib-lezing-Thomas-Winters_Malou-van-den-Heuvel.png
ORGANIZER;CN="stad leuven":MAILTO:erfgoedcel@leuven.be
END:VEVENT
END:VCALENDAR