BEGIN:VCALENDAR
VERSION:2.0
PRODID:-//Sociale Kaart - ECPv6.15.20//NONSGML v1.0//EN
CALSCALE:GREGORIAN
METHOD:PUBLISH
X-ORIGINAL-URL:https://social.doof.website
X-WR-CALDESC:Evenementen voor Sociale Kaart
REFRESH-INTERVAL;VALUE=DURATION:PT1H
X-Robots-Tag:noindex
X-PUBLISHED-TTL:PT1H
BEGIN:VTIMEZONE
TZID:Europe/Helsinki
BEGIN:DAYLIGHT
TZOFFSETFROM:+0200
TZOFFSETTO:+0300
TZNAME:EEST
DTSTART:20250330T010000
END:DAYLIGHT
BEGIN:STANDARD
TZOFFSETFROM:+0300
TZOFFSETTO:+0200
TZNAME:EET
DTSTART:20251026T010000
END:STANDARD
BEGIN:DAYLIGHT
TZOFFSETFROM:+0200
TZOFFSETTO:+0300
TZNAME:EEST
DTSTART:20260329T010000
END:DAYLIGHT
BEGIN:STANDARD
TZOFFSETFROM:+0300
TZOFFSETTO:+0200
TZNAME:EET
DTSTART:20261025T010000
END:STANDARD
BEGIN:DAYLIGHT
TZOFFSETFROM:+0200
TZOFFSETTO:+0300
TZNAME:EEST
DTSTART:20270328T010000
END:DAYLIGHT
BEGIN:STANDARD
TZOFFSETFROM:+0300
TZOFFSETTO:+0200
TZNAME:EET
DTSTART:20271031T010000
END:STANDARD
END:VTIMEZONE
BEGIN:VEVENT
DTSTART;TZID=Europe/Helsinki:20260503T133000
DTEND;TZID=Europe/Helsinki:20260503T210000
DTSTAMP:20260424T131404
CREATED:20260326T140536Z
LAST-MODIFIED:20260326T140538Z
UID:10001581-1777815000-1777842000@social.doof.website
SUMMARY:GTG-Gent Vriendenkring: Gezelschapsspel
DESCRIPTION:De deuren openen om 13.30 uur. GezelschapsspelenMoeder- & VaderdagGezellig samenzijn Meer info vind je op de affiche.
URL:https://social.doof.website/events/gtg-gent-vriendenkring-gezelschapsspel/
LOCATION:Nieuwe Melac Zwijnaarde\, Dorpsstraat 31\, Zwijnaarde\, 9052\, België
ATTACH;FMTTYPE=image/jpeg:https://social.doof.website/wp-content/uploads/2026/03/20260503_GTG-Gezelschapsspel-scaled.jpg
ORGANIZER;CN="GTG Gent":MAILTO:info.gtggent@gmail.com
END:VEVENT
END:VCALENDAR