BEGIN:VCALENDAR
VERSION:2.0
PRODID:-//Sociale Kaart - ECPv6.15.20//NONSGML v1.0//EN
CALSCALE:GREGORIAN
METHOD:PUBLISH
X-ORIGINAL-URL:https://social.doof.website
X-WR-CALDESC:Evenementen voor Sociale Kaart
REFRESH-INTERVAL;VALUE=DURATION:PT1H
X-Robots-Tag:noindex
X-PUBLISHED-TTL:PT1H
BEGIN:VTIMEZONE
TZID:Europe/Helsinki
BEGIN:DAYLIGHT
TZOFFSETFROM:+0200
TZOFFSETTO:+0300
TZNAME:EEST
DTSTART:20230326T010000
END:DAYLIGHT
BEGIN:STANDARD
TZOFFSETFROM:+0300
TZOFFSETTO:+0200
TZNAME:EET
DTSTART:20231029T010000
END:STANDARD
BEGIN:DAYLIGHT
TZOFFSETFROM:+0200
TZOFFSETTO:+0300
TZNAME:EEST
DTSTART:20240331T010000
END:DAYLIGHT
BEGIN:STANDARD
TZOFFSETFROM:+0300
TZOFFSETTO:+0200
TZNAME:EET
DTSTART:20241027T010000
END:STANDARD
BEGIN:DAYLIGHT
TZOFFSETFROM:+0200
TZOFFSETTO:+0300
TZNAME:EEST
DTSTART:20250330T010000
END:DAYLIGHT
BEGIN:STANDARD
TZOFFSETFROM:+0300
TZOFFSETTO:+0200
TZNAME:EET
DTSTART:20251026T010000
END:STANDARD
BEGIN:DAYLIGHT
TZOFFSETFROM:+0200
TZOFFSETTO:+0300
TZNAME:EEST
DTSTART:20260329T010000
END:DAYLIGHT
BEGIN:STANDARD
TZOFFSETFROM:+0300
TZOFFSETTO:+0200
TZNAME:EET
DTSTART:20261025T010000
END:STANDARD
BEGIN:DAYLIGHT
TZOFFSETFROM:+0200
TZOFFSETTO:+0300
TZNAME:EEST
DTSTART:20270328T010000
END:DAYLIGHT
BEGIN:STANDARD
TZOFFSETFROM:+0300
TZOFFSETTO:+0200
TZNAME:EET
DTSTART:20271031T010000
END:STANDARD
END:VTIMEZONE
BEGIN:VTIMEZONE
TZID:Europe/Paris
BEGIN:DAYLIGHT
TZOFFSETFROM:+0100
TZOFFSETTO:+0200
TZNAME:CEST
DTSTART:20230326T010000
END:DAYLIGHT
BEGIN:STANDARD
TZOFFSETFROM:+0200
TZOFFSETTO:+0100
TZNAME:CET
DTSTART:20231029T010000
END:STANDARD
BEGIN:DAYLIGHT
TZOFFSETFROM:+0100
TZOFFSETTO:+0200
TZNAME:CEST
DTSTART:20240331T010000
END:DAYLIGHT
BEGIN:STANDARD
TZOFFSETFROM:+0200
TZOFFSETTO:+0100
TZNAME:CET
DTSTART:20241027T010000
END:STANDARD
BEGIN:DAYLIGHT
TZOFFSETFROM:+0100
TZOFFSETTO:+0200
TZNAME:CEST
DTSTART:20250330T010000
END:DAYLIGHT
BEGIN:STANDARD
TZOFFSETFROM:+0200
TZOFFSETTO:+0100
TZNAME:CET
DTSTART:20251026T010000
END:STANDARD
END:VTIMEZONE
BEGIN:VEVENT
DTSTART;TZID=Europe/Helsinki:20260414T133000
DTEND;TZID=Europe/Helsinki:20260414T200000
DTSTAMP:20260424T144909
CREATED:20260326T140234Z
LAST-MODIFIED:20260326T140236Z
UID:10001579-1776173400-1776196800@social.doof.website
SUMMARY:GTG-Gent 55+: Paasfeest
DESCRIPTION:De deuren openen om 13.30 uur voor ons Paasfeest. Meer info vind je op de affiche.
URL:https://social.doof.website/events/gtg-gent-55-paasfeest/
LOCATION:Nieuwe Melac Zwijnaarde\, Dorpsstraat 31\, Zwijnaarde\, 9052\, België
ATTACH;FMTTYPE=image/jpeg:https://social.doof.website/wp-content/uploads/2026/03/20260414_55-Paasteest-scaled.jpg
END:VEVENT
BEGIN:VEVENT
DTSTART;TZID=Europe/Helsinki:20260301T110000
DTEND;TZID=Europe/Helsinki:20260301T210000
DTSTAMP:20260424T144909
CREATED:20260205T125351Z
LAST-MODIFIED:20260205T125355Z
UID:10001549-1772362800-1772398800@social.doof.website
SUMMARY:GTG-Gent Vriendenkring: 26e steak- en kipfestijn
DESCRIPTION:Om 11 uur openen we de deuren.Warme maaltijd: van 11.30 uur tot 14.30 uur.Na de maaltijd kan je genieten van lekkere taart.Gelieve het formulier in te vullen: https://forms.gle/dmLcG8uMVYmTZqHi6 \n  \n 
URL:https://social.doof.website/events/gtg-gent-vriendenkring-26e-steak-en-kipfestijn/
LOCATION:Nieuwe Melac Zwijnaarde\, Dorpsstraat 31\, Zwijnaarde\, 9052\, België
ATTACH;FMTTYPE=image/jpeg:https://social.doof.website/wp-content/uploads/2026/02/20260301_26e-eetfestijn-scaled.jpg
ORGANIZER;CN="GTG Gent":MAILTO:info.gtggent@gmail.com
END:VEVENT
BEGIN:VEVENT
DTSTART;TZID=Europe/Helsinki:20260210T133000
DTEND;TZID=Europe/Helsinki:20260210T203000
DTSTAMP:20260424T144909
CREATED:20260205T125212Z
LAST-MODIFIED:20260205T125215Z
UID:10001548-1770730200-1770755400@social.doof.website
SUMMARY:GTG-Gent 55+: Verkiezingen
DESCRIPTION:a {\n    text-decoration: none;\n    color: #464feb;\n}\ntr th\, tr td {\n    border: 1px solid #e6e6e6;\n}\ntr th {\n    background-color: #f5f5f5;\n}\n \n\n \n\n  \nOm 13.30 uur openen we de deuren.Lekkere pannenkoeken en hotdogs.Iedereen is van harte welkom.Zie affiche voor meer info. \n  \n 
URL:https://social.doof.website/events/gtg-gent-55-verkiezingen/
LOCATION:Nieuwe Melac Zwijnaarde\, Dorpsstraat 31\, Zwijnaarde\, 9052\, België
ATTACH;FMTTYPE=image/jpeg:https://social.doof.website/wp-content/uploads/2026/02/20260210_55-Verkiezingen-scaled.jpg
END:VEVENT
BEGIN:VEVENT
DTSTART;TZID=Europe/Helsinki:20260111T133000
DTEND;TZID=Europe/Helsinki:20260111T220000
DTSTAMP:20260424T144909
CREATED:20251128T124716Z
LAST-MODIFIED:20251128T124719Z
UID:10001406-1768138200-1768168800@social.doof.website
SUMMARY:GTG-Gent Vriendenkring: Nieuwjaarsreceptie
DESCRIPTION:Iedereen is van harte welkom voor leden en niet-leden…\nOp 13.30 uur opent de deuren.\nVerplicht in te schrijven – info.gtggent@gmail.com\nMeer info: zie affiche.
URL:https://social.doof.website/events/gtg-gent-vriendenkring-nieuwjaarsreceptie-2/
LOCATION:Nieuwe Melac Zwijnaarde\, Dorpsstraat 31\, Zwijnaarde\, 9052\, België
ATTACH;FMTTYPE=image/jpeg:https://social.doof.website/wp-content/uploads/2025/11/20260111_GTG-Nieuwjaarsreceptie-scaled.jpg
ORGANIZER;CN="GTG Gent":MAILTO:info.gtggent@gmail.com
END:VEVENT
BEGIN:VEVENT
DTSTART;TZID=Europe/Helsinki:20251220T133000
DTEND;TZID=Europe/Helsinki:20251220T230000
DTSTAMP:20260424T144909
CREATED:20250912T111551Z
LAST-MODIFIED:20251128T103258Z
UID:10001371-1766237400-1766271600@social.doof.website
SUMMARY:GTG-Gent & Damesclub: Kerstkoffietafel
DESCRIPTION:Gezellige kerstkoffietafel Start om 13.30 uur Aperitief – kerststronk met koffie of thee – mini-sandwiches \nInschrijving via Google Form: https://forms.gle/FBsimA6eRvPRqYYj8
URL:https://social.doof.website/events/gtg-gent-damesclub-kerstkoffietafel/
LOCATION:Nieuwe Melac Zwijnaarde\, Dorpsstraat 31\, Zwijnaarde\, 9052\, België
ATTACH;FMTTYPE=image/jpeg:https://social.doof.website/wp-content/uploads/2025/09/20251220_Kerstkoffietafel-met-GTG-Gent-Vriendenkring-scaled.jpg
END:VEVENT
BEGIN:VEVENT
DTSTART;TZID=Europe/Helsinki:20251209T133000
DTEND;TZID=Europe/Helsinki:20251209T210000
DTSTAMP:20260424T144909
CREATED:20250912T111405Z
LAST-MODIFIED:20251128T103137Z
UID:10001370-1765287000-1765314000@social.doof.website
SUMMARY:GTG-Gent 55+: Kerstfeest
DESCRIPTION: Kerstsfeer verzekerd! De deuren openen om 13.30 uur. Voor alle senioren vanaf 55 jaar.
URL:https://social.doof.website/events/gtg-gent-55-kerstfeest-2/
LOCATION:Nieuwe Melac Zwijnaarde\, Dorpsstraat 31\, Zwijnaarde\, 9052\, België
ATTACH;FMTTYPE=image/jpeg:https://social.doof.website/wp-content/uploads/2025/09/20251209_55-Kerstfeest-scaled.jpg
END:VEVENT
BEGIN:VEVENT
DTSTART;TZID=Europe/Helsinki:20251102T140000
DTEND;TZID=Europe/Helsinki:20251102T213000
DTSTAMP:20260424T144909
CREATED:20250912T111248Z
LAST-MODIFIED:20250912T111252Z
UID:10001369-1762092000-1762119000@social.doof.website
SUMMARY:GTG-Gent Vriendenkring: Spel
DESCRIPTION:De deuren openen om 14.00 uur. Welk spel? Kom langs en ontdek het zelf – het wordt echt heel leuk! Het spel is voor iedereen.
URL:https://social.doof.website/events/gtg-gent-vriendenkring-spel/
LOCATION:Nieuwe Melac Zwijnaarde\, Dorpsstraat 31\, Zwijnaarde\, 9052\, België
ATTACH;FMTTYPE=image/jpeg:https://social.doof.website/wp-content/uploads/2025/09/20251102_GTG-bijeenkomst-Spel-1-scaled.jpg
ORGANIZER;CN="GTG Gent":MAILTO:info.gtggent@gmail.com
END:VEVENT
BEGIN:VEVENT
DTSTART;TZID=Europe/Helsinki:20250920T140000
DTEND;TZID=Europe/Helsinki:20250920T220000
DTSTAMP:20260424T144910
CREATED:20250912T110935Z
LAST-MODIFIED:20250912T110937Z
UID:10001366-1758376800-1758405600@social.doof.website
SUMMARY:GTG-Gent: Damesclub: Mini-spelen
DESCRIPTION:De deuren openen om 14.00 uur. Voor dames\, heren en kinderen van alle leeftijden – jong tot oud. Meer info op de evenementaffiche.
URL:https://social.doof.website/events/gtg-gent-damesclub-mini-spelen/
LOCATION:Nieuwe Melac Zwijnaarde\, Dorpsstraat 31\, Zwijnaarde\, 9052\, België
ATTACH;FMTTYPE=image/jpeg:https://social.doof.website/wp-content/uploads/2025/09/20250920_Damesclub-Mini-spel-scaled.jpg
END:VEVENT
BEGIN:VEVENT
DTSTART;TZID=Europe/Helsinki:20250920T140000
DTEND;TZID=Europe/Helsinki:20250920T220000
DTSTAMP:20260424T144910
CREATED:20250707T062625Z
LAST-MODIFIED:20250707T062627Z
UID:10001324-1758376800-1758405600@social.doof.website
SUMMARY:GTG-Gent - Damesclub: Minispelen
DESCRIPTION:Om 14 uur openen de deuren.Voor alle leeftijden: van jong tot oud\, dames\, heren…Meer info: zie affiche.
URL:https://social.doof.website/events/gtg-gent-damesclub-minispelen/
LOCATION:Nieuwe Melac Zwijnaarde\, Dorpsstraat 31\, Zwijnaarde\, 9052\, België
ATTACH;FMTTYPE=image/jpeg:https://social.doof.website/wp-content/uploads/2025/07/20250920_Damesclub-Mini-spel-scaled.jpg
END:VEVENT
BEGIN:VEVENT
DTSTART;TZID=Europe/Helsinki:20250912T080000
DTEND;TZID=Europe/Helsinki:20250912T170000
DTSTAMP:20260424T144910
CREATED:20250912T111057Z
LAST-MODIFIED:20250912T111100Z
UID:10001367-1757664000-1757696400@social.doof.website
SUMMARY:GTG-Gent Damesclub: Internationale keuken
DESCRIPTION:Internationale keuken: Pools menu De deuren openen om 13.30 uur Meer info op de affiche
URL:https://social.doof.website/events/gtg-gent-damesclub-internationale-keuken/
LOCATION:Nieuwe Melac Zwijnaarde\, Dorpsstraat 31\, Zwijnaarde\, 9052\, België
ATTACH;FMTTYPE=image/jpeg:https://social.doof.website/wp-content/uploads/2025/09/20251018_Damesclub-Poolse-keuken-scaled.jpg
END:VEVENT
BEGIN:VEVENT
DTSTART;TZID=Europe/Helsinki:20250812T133000
DTEND;TZID=Europe/Helsinki:20250812T210000
DTSTAMP:20260424T144910
CREATED:20250707T062513Z
LAST-MODIFIED:20250707T062514Z
UID:10001323-1755005400-1755032400@social.doof.website
SUMMARY:GTG-Gent 55+: Manillentornooi en Volksspelen
DESCRIPTION:Om 13.30 uur opent de deuren.\nVoor alle Senioren.\nMeer info\, zie affiche.
URL:https://social.doof.website/events/gtg-gent-55-manillentornooi-en-volksspelen-2/
LOCATION:Nieuwe Melac Zwijnaarde\, Dorpsstraat 31\, Zwijnaarde\, 9052\, België
ATTACH;FMTTYPE=image/jpeg:https://social.doof.website/wp-content/uploads/2025/07/20250812_55-tornooi-Manillen-en-volksspelen-scaled.jpg
END:VEVENT
BEGIN:VEVENT
DTSTART;TZID=Europe/Helsinki:20250712T130000
DTEND;TZID=Europe/Helsinki:20250712T233000
DTSTAMP:20260424T144910
CREATED:20250604T145700Z
LAST-MODIFIED:20250604T145701Z
UID:10001298-1752325200-1752363000@social.doof.website
SUMMARY:GTG-Gent Vriendenkring en Damesclub: Wandeltocht & 25e Barbecue
DESCRIPTION:6 km Wandeltocht Merelbeke\n25e Barbecue\nVoor iedereen\, leden\, niet-leden\, vrienden\, familie\, collega’s…\nInschrijvingen via google formulier: https//forms.gle/9akFhKxeMFqb4zmy9
URL:https://social.doof.website/events/gtg-gent-vriendenkring-en-damesclub-wandeltocht-25e-barbecue/
LOCATION:Nieuwe Melac Zwijnaarde\, Dorpsstraat 31\, Zwijnaarde\, 9052\, België
ATTACH;FMTTYPE=image/jpeg:https://social.doof.website/wp-content/uploads/2025/06/20250712__Wandeltocht-en-25e-bbq-scaled.jpg
ORGANIZER;CN="GTG Gent":MAILTO:info.gtggent@gmail.com
END:VEVENT
BEGIN:VEVENT
DTSTART;TZID=Europe/Helsinki:20250628T150000
DTEND;TZID=Europe/Helsinki:20250628T230000
DTSTAMP:20260424T144910
CREATED:20250604T145601Z
LAST-MODIFIED:20250604T145602Z
UID:10001299-1751122800-1751151600@social.doof.website
SUMMARY:GTG-Gent: BDT: Vlees- of Visschotel
DESCRIPTION:Lekkere koude vleesschotel.\nOf\nLekkere koude visschotel
URL:https://social.doof.website/events/gtg-gent-bdt-vlees-of-visschotel/
LOCATION:Nieuwe Melac Zwijnaarde\, Dorpsstraat 31\, Zwijnaarde\, 9052\, België
ATTACH;FMTTYPE=image/jpeg:https://social.doof.website/wp-content/uploads/2025/06/20250628_BDT-Vlees-en-Visschotel-scaled.jpg
END:VEVENT
BEGIN:VEVENT
DTSTART;TZID=Europe/Helsinki:20250610T133000
DTEND;TZID=Europe/Helsinki:20250610T210000
DTSTAMP:20260424T144910
CREATED:20250424T064653Z
LAST-MODIFIED:20250424T064655Z
UID:10001273-1749562200-1749589200@social.doof.website
SUMMARY:GTG-Gent 55+: Verschillende gezelschapsspelen
DESCRIPTION:Verschillende gezelschapsspelenDinsdag 10 juni 2025Zie affiche voor meer details
URL:https://social.doof.website/events/gtg-gent-55-verschillende-gezelschapsspelen/
LOCATION:Nieuwe Melac Zwijnaarde\, Dorpsstraat 31\, Zwijnaarde\, 9052\, België
ATTACH;FMTTYPE=image/jpeg:https://social.doof.website/wp-content/uploads/2025/04/20250610_55-Ontspanning-gezelschapsspellen-scaled.jpg
END:VEVENT
BEGIN:VEVENT
DTSTART;TZID=Europe/Helsinki:20250517T133000
DTEND;TZID=Europe/Helsinki:20250517T223000
DTSTAMP:20260424T144910
CREATED:20250424T064417Z
LAST-MODIFIED:20250424T064419Z
UID:10001272-1747488600-1747521000@social.doof.website
SUMMARY:GTG-Gent-Damesclub: Workshop Mozaïek
DESCRIPTION:Workshop Mozaïek.Voor iedereen: vrouwen\, heren\,…De deuren open om13.30 uur.Meer info: zie affiche
URL:https://social.doof.website/events/gtg-gent-damesclub-workshop-mozaiek/
LOCATION:Nieuwe Melac Zwijnaarde\, Dorpsstraat 31\, Zwijnaarde\, 9052\, België
ATTACH;FMTTYPE=image/jpeg:https://social.doof.website/wp-content/uploads/2025/04/20250517_Damesclub-Creatief-Mozaiek-1-scaled.jpg
END:VEVENT
BEGIN:VEVENT
DTSTART;TZID=Europe/Helsinki:20250504T140000
DTEND;TZID=Europe/Helsinki:20250504T220000
DTSTAMP:20260424T144910
CREATED:20250319T163714Z
LAST-MODIFIED:20250319T163717Z
UID:10001250-1746367200-1746396000@social.doof.website
SUMMARY:GTG-Gent Vriendenkring: Lezing “Doven in Kigoma”
DESCRIPTION:Lezing “Doven in Kigoma – Tanzania\nIedereen is van harte welkom.\nHet hoeft geen inschrijven.
URL:https://social.doof.website/events/gtg-gent-vriendenkring-lezing-doven-in-kigoma/
LOCATION:Nieuwe Melac Zwijnaarde\, Dorpsstraat 31\, Zwijnaarde\, 9052\, België
ATTACH;FMTTYPE=image/jpeg:https://social.doof.website/wp-content/uploads/2025/03/20250504_GTG-Lezing-Doven-in-Kigoma-Tanzania02-scaled.jpg
ORGANIZER;CN="GTG Gent":MAILTO:info.gtggent@gmail.com
END:VEVENT
BEGIN:VEVENT
DTSTART;TZID=Europe/Helsinki:20250415T133000
DTEND;TZID=Europe/Helsinki:20250415T210000
DTSTAMP:20260424T144910
CREATED:20250319T163748Z
LAST-MODIFIED:20250319T163750Z
UID:10001251-1744723800-1744750800@social.doof.website
SUMMARY:GTG-Gent 55+: Paasfeest met Bingo
DESCRIPTION:Paasfeest met Bingo.\nSamenkomen om 13.30 uur.\nMeer info\, zie affiche.
URL:https://social.doof.website/events/gtg-gent-55-paasfeest-met-bingo/
LOCATION:Nieuwe Melac Zwijnaarde\, Dorpsstraat 31\, Zwijnaarde\, 9052\, België
ATTACH;FMTTYPE=image/jpeg:https://social.doof.website/wp-content/uploads/2025/03/20250415_GTG-Gent-55-Paasfeest-en-Bingo02-scaled.jpg
END:VEVENT
BEGIN:VEVENT
DTSTART;TZID=Europe/Helsinki:20250302T110000
DTEND;TZID=Europe/Helsinki:20250302T143000
DTSTAMP:20260424T144910
CREATED:20250123T134320Z
LAST-MODIFIED:20250123T134321Z
UID:10001223-1740913200-1740925800@social.doof.website
SUMMARY:GTG-Gent Vriendenkring: 25e eetfestijn
DESCRIPTION:Steak- & Kipfestijn à volente\nDe deuren opent vanaf 11 uur.\nGelieve zeker en vast inschrijven via Google formulieren: https://forms.gle/ZDCe99JRoEo6sjsX8\nEetfestijn: van 12 tot 14.30 uur.\nNa het uur wordt de taarten verkopen.\nDe deuren blijft open tot avond.
URL:https://social.doof.website/events/gtg-gent-vriendenkring-25e-eetfestijn/
LOCATION:Nieuwe Melac Zwijnaarde\, Dorpsstraat 31\, Zwijnaarde\, 9052\, België
ATTACH;FMTTYPE=image/jpeg:https://social.doof.website/wp-content/uploads/2025/01/20250302_25e-eetfestijn-1-scaled.jpg
ORGANIZER;CN="GTG Gent":MAILTO:info.gtggent@gmail.com
END:VEVENT
BEGIN:VEVENT
DTSTART;TZID=Europe/Helsinki:20250211T133000
DTEND;TZID=Europe/Helsinki:20250211T210000
DTSTAMP:20260424T144910
CREATED:20250123T134644Z
LAST-MODIFIED:20250123T134645Z
UID:10001224-1739280600-1739307600@social.doof.website
SUMMARY:GTG-Gent 55+: Lezing "L.E.I.F.
DESCRIPTION:De deuren opent vanaf 13.30 uur.\nLezing: L.E.I.F.\nMeer info: zie affiche.
URL:https://social.doof.website/events/gtg-gent-55-lezing-l-e-i-f/
LOCATION:Nieuwe Melac Zwijnaarde\, Dorpsstraat 31\, Zwijnaarde\, 9052\, België
ATTACH;FMTTYPE=image/jpeg:https://social.doof.website/wp-content/uploads/2025/01/20250211_55-Lezing-L.E.I.F.-eten-jpg-scaled.jpg
END:VEVENT
BEGIN:VEVENT
DTSTART;TZID=Europe/Helsinki:20250112T133000
DTEND;TZID=Europe/Helsinki:20250112T210000
DTSTAMP:20260424T144910
CREATED:20241119T073628Z
LAST-MODIFIED:20241119T073629Z
UID:10001054-1736688600-1736715600@social.doof.website
SUMMARY:GTG-Gent Vriendenkring: Nieuwjaarsreceptie
DESCRIPTION:De deur opent om 13.30 uur.\nVoor de leden / nieuw leden / niet-leden.\nGezellig samenzijn op een nieuwe jaar 2025.
URL:https://social.doof.website/events/gtg-gent-vriendenkring-nieuwjaarsreceptie/
LOCATION:Nieuwe Melac Zwijnaarde\, Dorpsstraat 31\, Zwijnaarde\, 9052\, België
ATTACH;FMTTYPE=image/jpeg:https://social.doof.website/wp-content/uploads/2024/11/20250112_GTG-Nieuwjaarsreceptie-scaled.jpg
ORGANIZER;CN="GTG Gent":MAILTO:info.gtggent@gmail.com
END:VEVENT
BEGIN:VEVENT
DTSTART;TZID=Europe/Helsinki:20241221T133000
DTEND;TZID=Europe/Helsinki:20241221T233000
DTSTAMP:20260424T144910
CREATED:20241114T183736Z
LAST-MODIFIED:20241114T183737Z
UID:10001064-1734787800-1734823800@social.doof.website
SUMMARY:GTG-Gent Vriendenkring en Damesclub: Kerstkoffietafel
DESCRIPTION:We verwachten jullie om 13.30 uur. Wat? Kerst aperitief + lekkere kerststronk + mini-sandwiches
URL:https://social.doof.website/events/gtg-gent-vriendenkring-en-damesclub-kerstkoffietafel-2/
LOCATION:Nieuwe Melac Zwijnaarde\, Dorpsstraat 31\, Zwijnaarde\, 9052\, België
END:VEVENT
BEGIN:VEVENT
DTSTART;TZID=Europe/Paris:20241210T130000
DTEND;TZID=Europe/Paris:20241210T203000
DTSTAMP:20260424T144910
CREATED:20240723T061042Z
LAST-MODIFIED:20240723T061044Z
UID:10000378-1733835600-1733862600@social.doof.website
SUMMARY:GTG-GENT 55+: Kerstfeest
DESCRIPTION:Kerstfeest
URL:https://social.doof.website/events/gtg-gent-55-kerstfeest/
LOCATION:Nieuwe Melac Zwijnaarde\, Dorpsstraat 31\, Zwijnaarde\, 9052\, België
ATTACH;FMTTYPE=image/jpeg:https://social.doof.website/wp-content/uploads/2024/07/achtergrond-kerstfeest.jpg
END:VEVENT
BEGIN:VEVENT
DTSTART;TZID=Europe/Helsinki:20241116T133000
DTEND;TZID=Europe/Helsinki:20241116T220000
DTSTAMP:20260424T144910
CREATED:20241029T122356Z
LAST-MODIFIED:20241029T122357Z
UID:10000734-1731763800-1731794400@social.doof.website
SUMMARY:GTG-Gent Damesclub: Pakistaans eten proeven
DESCRIPTION:“Pakistaanse menu”.Een Pakistaans persoon kookt zelf Pakistaans eten en we mogen mee proeven.
URL:https://social.doof.website/events/gtg-gent-damesclub-pakistaans-eten-proeven/
LOCATION:Nieuwe Melac Zwijnaarde\, Dorpsstraat 31\, Zwijnaarde\, 9052\, België
ATTACH;FMTTYPE=image/jpeg:https://social.doof.website/wp-content/uploads/2024/10/20241116_Pakistaanse-keuken-scaled.jpg
ORGANIZER;CN="GTG Gent":MAILTO:info.gtggent@gmail.com
END:VEVENT
BEGIN:VEVENT
DTSTART;TZID=Europe/Paris:20241110T140000
DTEND;TZID=Europe/Paris:20241110T170000
DTSTAMP:20260424T144910
CREATED:20240910T154731Z
LAST-MODIFIED:20240910T154732Z
UID:10000398-1731247200-1731258000@social.doof.website
SUMMARY:GTG-Gent Vriendenkring: Leuke foto- en vragenspel voor iedereen
DESCRIPTION:Leuke foto- en vragenspel voor iedereenDe deuren openen om 14.00 uur
URL:https://social.doof.website/events/gtg-gent-vriendenkring-leuke-foto-en-vragenspel-voor-iedereen/
LOCATION:Nieuwe Melac Zwijnaarde\, Dorpsstraat 31\, Zwijnaarde\, 9052\, België
ATTACH;FMTTYPE=image/jpeg:https://social.doof.website/wp-content/uploads/2024/09/20241103_GTG-bijeenkomst-Foto-Vragenspel-scaled.jpg
ORGANIZER;CN="GTG Gent":MAILTO:info.gtggent@gmail.com
END:VEVENT
BEGIN:VEVENT
DTSTART;TZID=Europe/Paris:20241026T140000
DTEND;TZID=Europe/Paris:20241026T233000
DTSTAMP:20260424T144910
CREATED:20240910T154914Z
LAST-MODIFIED:20240910T154916Z
UID:10000401-1729951200-1729985400@social.doof.website
SUMMARY:GTG-Gent: Theatervoorstelling "Berlijn" olv. Belgian Deaf Theater
DESCRIPTION:Belgian Deaf Theater:\nTheatervoorstelling “Berlijn”\nFilmvoorstelling “Emma”
URL:https://social.doof.website/events/gtg-gent-theatervoorstelling-berlijn-olv-belgian-deaf-theater/
LOCATION:Nieuwe Melac Zwijnaarde\, Dorpsstraat 31\, Zwijnaarde\, 9052\, België
ATTACH;FMTTYPE=image/jpeg:https://social.doof.website/wp-content/uploads/2024/09/20241026_BDT-2-voorstelling.jpg
ORGANIZER;CN="GTG Gent":MAILTO:info.gtggent@gmail.com
END:VEVENT
BEGIN:VEVENT
DTSTART;TZID=Europe/Paris:20241008T133000
DTEND;TZID=Europe/Paris:20241008T203000
DTSTAMP:20260424T144910
CREATED:20240910T155015Z
LAST-MODIFIED:20240910T155016Z
UID:10000402-1728394200-1728419400@social.doof.website
SUMMARY:GTG-Gent 55+: Lezing "APP 112" door Filip Verstraete
DESCRIPTION:Lezing “APP 112” door Filip Verstraete.Iedereen vanaf 55 jaar is van harte welkom.Gelieve zeker en vast in te schrijven.Interessante voordracht.
URL:https://social.doof.website/events/gtg-gent-55-lezing-app-112-door-filip-verstraete/
LOCATION:Nieuwe Melac Zwijnaarde\, Dorpsstraat 31\, Zwijnaarde\, 9052\, België
ATTACH;FMTTYPE=image/jpeg:https://social.doof.website/wp-content/uploads/2024/09/20241008_55-Lezing-App-112-scaled.jpg
ORGANIZER;CN="GTG Gent":MAILTO:info.gtggent@gmail.com
END:VEVENT
BEGIN:VEVENT
DTSTART;TZID=Europe/Paris:20240921T133000
DTEND;TZID=Europe/Paris:20240921T230000
DTSTAMP:20260424T144910
CREATED:20240606T051840Z
LAST-MODIFIED:20240906T064000Z
UID:10000341-1726925400-1726959600@social.doof.website
SUMMARY:GTG-Gent: Damesclub
DESCRIPTION:Appelfestival: alle spel met appels… en lekker smullen…
URL:https://social.doof.website/events/gtg-gent-damesclub/
LOCATION:Nieuwe Melac Zwijnaarde\, Dorpsstraat 31\, Zwijnaarde\, 9052\, België
CATEGORIES:Ontspanning
ATTACH;FMTTYPE=image/jpeg:https://social.doof.website/wp-content/uploads/2024/06/20240921_Dam-1-scaled.jpg
ORGANIZER;CN="GTG Gent":MAILTO:info.gtggent@gmail.com
END:VEVENT
BEGIN:VEVENT
DTSTART;TZID=Europe/Paris:20240901T140000
DTEND;TZID=Europe/Paris:20240901T220000
DTSTAMP:20260424T144910
CREATED:20240627T055622Z
LAST-MODIFIED:20240627T055622Z
UID:10000367-1725199200-1725228000@social.doof.website
SUMMARY:GTG-Gent Vriendenkring: Algemene ledenvergadering
DESCRIPTION:Algemene ledenvergadering.\nDe deuren opent vanaf 14 uur.
URL:https://social.doof.website/events/gtg-gent-vriendenkring-algemene-ledenvergadering/
LOCATION:Nieuwe Melac Zwijnaarde\, Dorpsstraat 31\, Zwijnaarde\, 9052\, België
ATTACH;FMTTYPE=image/jpeg:https://social.doof.website/wp-content/uploads/2024/06/20240901_GTG-algemene-ledenvergadering-scaled.jpg
ORGANIZER;CN="GTG Gent":MAILTO:info.gtggent@gmail.com
END:VEVENT
BEGIN:VEVENT
DTSTART;TZID=Europe/Paris:20240813T133000
DTEND;TZID=Europe/Paris:20240813T203000
DTSTAMP:20260424T144910
CREATED:20240705T053921Z
LAST-MODIFIED:20240705T053932Z
UID:10000371-1723555800-1723581000@social.doof.website
SUMMARY:GTG-Gent 55+: Manillentornooi en Volksspelen
DESCRIPTION:Manillentornooi en Volksspelen
URL:https://social.doof.website/events/gtg-gent-55-manillentornooi-en-volksspelen/
LOCATION:Nieuwe Melac Zwijnaarde\, Dorpsstraat 31\, Zwijnaarde\, 9052\, België
ATTACH;FMTTYPE=image/jpeg:https://social.doof.website/wp-content/uploads/2024/07/20240813_55-tornooi-Manillen-en-volksspelen-scaled.jpg
ORGANIZER;CN="GTG Gent":MAILTO:info.gtggent@gmail.com
END:VEVENT
BEGIN:VEVENT
DTSTART;TZID=Europe/Paris:20240713T130000
DTEND;TZID=Europe/Paris:20240713T230000
DTSTAMP:20260424T144910
CREATED:20240523T063529Z
LAST-MODIFIED:20240626T080155Z
UID:10000340-1720875600-1720911600@social.doof.website
SUMMARY:GTG-Gent Vriendenkring en Damesclub
DESCRIPTION:Namiddag: Wandeltocht van +/- 6 km – Avond: Barbecue
URL:https://social.doof.website/events/gtg-gent-vriendenkring-en-damesclub/
LOCATION:Nieuwe Melac Zwijnaarde\, Dorpsstraat 31\, Zwijnaarde\, 9052\, België
CATEGORIES:Ontspanning
ATTACH;FMTTYPE=image/jpeg:https://social.doof.website/wp-content/uploads/2024/05/20240901_GTG-algemene-ledenvergadering-scaled.jpg
ORGANIZER;CN="GTG Gent":MAILTO:info.gtggent@gmail.com
END:VEVENT
END:VCALENDAR