BEGIN:VCALENDAR
VERSION:2.0
PRODID:-//Sociale Kaart - ECPv6.15.20//NONSGML v1.0//EN
CALSCALE:GREGORIAN
METHOD:PUBLISH
X-ORIGINAL-URL:https://social.doof.website
X-WR-CALDESC:Evenementen voor Sociale Kaart
REFRESH-INTERVAL;VALUE=DURATION:PT1H
X-Robots-Tag:noindex
X-PUBLISHED-TTL:PT1H
BEGIN:VTIMEZONE
TZID:Europe/Helsinki
BEGIN:DAYLIGHT
TZOFFSETFROM:+0200
TZOFFSETTO:+0300
TZNAME:EEST
DTSTART:20240331T010000
END:DAYLIGHT
BEGIN:STANDARD
TZOFFSETFROM:+0300
TZOFFSETTO:+0200
TZNAME:EET
DTSTART:20241027T010000
END:STANDARD
BEGIN:DAYLIGHT
TZOFFSETFROM:+0200
TZOFFSETTO:+0300
TZNAME:EEST
DTSTART:20250330T010000
END:DAYLIGHT
BEGIN:STANDARD
TZOFFSETFROM:+0300
TZOFFSETTO:+0200
TZNAME:EET
DTSTART:20251026T010000
END:STANDARD
BEGIN:DAYLIGHT
TZOFFSETFROM:+0200
TZOFFSETTO:+0300
TZNAME:EEST
DTSTART:20260329T010000
END:DAYLIGHT
BEGIN:STANDARD
TZOFFSETFROM:+0300
TZOFFSETTO:+0200
TZNAME:EET
DTSTART:20261025T010000
END:STANDARD
END:VTIMEZONE
BEGIN:VEVENT
DTSTART;TZID=Europe/Helsinki:20250813T190000
DTEND;TZID=Europe/Helsinki:20250813T230000
DTSTAMP:20260422T190240
CREATED:20250722T142110Z
LAST-MODIFIED:20250722T142112Z
UID:10001341-1755111600-1755126000@social.doof.website
SUMMARY:Parkies Kaandelconcerten met Bart Herman (met tolken Vlaamse Gebarentaal) op woensdag 13 augustus
DESCRIPTION:Woensdag 13 augustus: Bart Herman\n\n\nZijn grote hit ‘Ik ga dood aan jou’ werd opgenomen in de eregalerij van Radio 2 en Sabam. Inmiddels ontwikkelde Bart Herman zich tot een veelgevraagd en hooggewaardeerd artiest op de podia van de Lage Landen\, met een eigenzinnig muziekgenre dat nog het best omschreven kan worden als een mengeling van luisterlied en rock-‘n-roll.\n\n\nDe stad zorgt er op elke Parkiesavond voor dat het terrein toegankelijk en uitnodigend is voor zoveel mogelijk mensen. Zo zijn er parkeerplaatsen dichtbij voor mensen met een beperking\, een toegankelijk toilet\, en een afgebakende ruimte op het terrein voor mensen met een beperking. Daarnaast worden er op  13 augustus tolken Vlaamse Gebarentaal ingeschakeld.
URL:https://social.doof.website/events/parkies-kaandelconcerten-met-bart-herman-met-tolken-vlaamse-gebarentaal-op-woensdag-13-augustus/
LOCATION:Kaandelpark\, Mouterijdreef Deinze\, Mouterijdreef\, Deinze\, België\, 9800\, België
CATEGORIES:Muziek
ATTACH;FMTTYPE=image/jpeg:https://social.doof.website/wp-content/uploads/2025/07/73576.jpeg
ORGANIZER;CN="Doven Actie Deinze":MAILTO:deinze@dovenactie.be
END:VEVENT
END:VCALENDAR