BEGIN:VCALENDAR
VERSION:2.0
PRODID:-//Sociale Kaart - ECPv6.15.20//NONSGML v1.0//EN
CALSCALE:GREGORIAN
METHOD:PUBLISH
X-WR-CALNAME:Sociale Kaart
X-ORIGINAL-URL:https://social.doof.website
X-WR-CALDESC:Evenementen voor Sociale Kaart
REFRESH-INTERVAL;VALUE=DURATION:PT1H
X-Robots-Tag:noindex
X-PUBLISHED-TTL:PT1H
BEGIN:VTIMEZONE
TZID:Europe/Paris
BEGIN:DAYLIGHT
TZOFFSETFROM:+0100
TZOFFSETTO:+0200
TZNAME:CEST
DTSTART:20230326T010000
END:DAYLIGHT
BEGIN:STANDARD
TZOFFSETFROM:+0200
TZOFFSETTO:+0100
TZNAME:CET
DTSTART:20231029T010000
END:STANDARD
BEGIN:DAYLIGHT
TZOFFSETFROM:+0100
TZOFFSETTO:+0200
TZNAME:CEST
DTSTART:20240331T010000
END:DAYLIGHT
BEGIN:STANDARD
TZOFFSETFROM:+0200
TZOFFSETTO:+0100
TZNAME:CET
DTSTART:20241027T010000
END:STANDARD
BEGIN:DAYLIGHT
TZOFFSETFROM:+0100
TZOFFSETTO:+0200
TZNAME:CEST
DTSTART:20250330T010000
END:DAYLIGHT
BEGIN:STANDARD
TZOFFSETFROM:+0200
TZOFFSETTO:+0100
TZNAME:CET
DTSTART:20251026T010000
END:STANDARD
END:VTIMEZONE
BEGIN:VEVENT
DTSTART;TZID=Europe/Paris:20240918T203000
DTEND;TZID=Europe/Paris:20240918T223000
DTSTAMP:20260426T041154
CREATED:20240903T140729Z
LAST-MODIFIED:20240903T140730Z
UID:10000396-1726691400-1726698600@social.doof.website
SUMMARY:Lezing door Geert Mak: Welkom in Europa
DESCRIPTION:Lezing door Geert Mak: Welkom in Europa (over de toekomst van Europa)met klassieke muziek ertussen.video VGT – https://vimeo.com/1000786094?share=copy \nDe Nederlandse succesauteur Geert Mak geeft antwoord op prangende\, actuele vragen omtrent de rol van het Europese continent in de huidige wereldorde. \nMeer info: https://www.gentfestival.be/nl/event/welkom-in-europa-1… \nTickets: € 19/pp – Mailen naar publiekswerking@festival.beEr zijn plaatsen gereserveerd in de zaal zodat de tolken goed zichtbaar zijn. Via mail kunnen de juiste tickets bezorgd worden. \nOp vertoon van EDC: gratis begeleider mee.-> https://www.gentfestival.be/nl/tickets \nTot dan?!
URL:https://social.doof.website/events/lezing-door-geert-mak-welkom-in-europa/
LOCATION:HA Concerts Gent\, Kouter 29\, Gent\, West-Vlaanderen\, 9000\, België
ATTACH;FMTTYPE=image/jpeg:https://social.doof.website/wp-content/uploads/2024/09/20240918-Geert-Mak-foto.jpg
ORGANIZER;CN="Gent Festival van Vlaanderen":MAILTO:publiekswerking@festival.be
END:VEVENT
END:VCALENDAR