BEGIN:VCALENDAR
VERSION:2.0
PRODID:-//Sociale Kaart - ECPv6.15.20//NONSGML v1.0//EN
CALSCALE:GREGORIAN
METHOD:PUBLISH
X-WR-CALNAME:Sociale Kaart
X-ORIGINAL-URL:https://social.doof.website
X-WR-CALDESC:Evenementen voor Sociale Kaart
REFRESH-INTERVAL;VALUE=DURATION:PT1H
X-Robots-Tag:noindex
X-PUBLISHED-TTL:PT1H
BEGIN:VTIMEZONE
TZID:Europe/Helsinki
BEGIN:DAYLIGHT
TZOFFSETFROM:+0200
TZOFFSETTO:+0300
TZNAME:EEST
DTSTART:20240331T010000
END:DAYLIGHT
BEGIN:STANDARD
TZOFFSETFROM:+0300
TZOFFSETTO:+0200
TZNAME:EET
DTSTART:20241027T010000
END:STANDARD
BEGIN:DAYLIGHT
TZOFFSETFROM:+0200
TZOFFSETTO:+0300
TZNAME:EEST
DTSTART:20250330T010000
END:DAYLIGHT
BEGIN:STANDARD
TZOFFSETFROM:+0300
TZOFFSETTO:+0200
TZNAME:EET
DTSTART:20251026T010000
END:STANDARD
BEGIN:DAYLIGHT
TZOFFSETFROM:+0200
TZOFFSETTO:+0300
TZNAME:EEST
DTSTART:20260329T010000
END:DAYLIGHT
BEGIN:STANDARD
TZOFFSETFROM:+0300
TZOFFSETTO:+0200
TZNAME:EET
DTSTART:20261025T010000
END:STANDARD
END:VTIMEZONE
BEGIN:VEVENT
DTSTART;TZID=Europe/Helsinki:20250525T140000
DTEND;TZID=Europe/Helsinki:20250525T160000
DTSTAMP:20260421T015615
CREATED:20250427T061944Z
LAST-MODIFIED:20250427T061945Z
UID:10001277-1748181600-1748188800@social.doof.website
SUMMARY:Bezoek aan de boekentoren met gids van Vizit + VGT tolk
DESCRIPTION:Bezoek aan de Boekentoren (Rozier 9\, Gent)met gids van Vizit en VGT-tolkvan 14.00 u tot 16.00 u. \nGelieve tijdig in te schrijven door te mailen naar de secretaris (zie affiche).Leden krijgen voorrang
URL:https://social.doof.website/events/bezoek-aan-de-boekentoren-met-gids-van-vizit-vgt-tolk/
LOCATION:Gent boekentoren\, Rozier 9\, Gent\, Oost Vlaanderen\, 9000
ATTACH;FMTTYPE=image/jpeg:https://social.doof.website/wp-content/uploads/2025/04/stadswandeling-zondag-25-mei-2025_page-0001.jpg
ORGANIZER;CN="De vrienden van priester De L'Ep%C3%A9e Gent-Ledeberg":MAILTO:thierrybekaert@hotmail.com
END:VEVENT
END:VCALENDAR