BEGIN:VCALENDAR
VERSION:2.0
PRODID:-//Sociale Kaart - ECPv6.15.20//NONSGML v1.0//EN
CALSCALE:GREGORIAN
METHOD:PUBLISH
X-WR-CALNAME:Sociale Kaart
X-ORIGINAL-URL:https://social.doof.website
X-WR-CALDESC:Evenementen voor Sociale Kaart
REFRESH-INTERVAL;VALUE=DURATION:PT1H
X-Robots-Tag:noindex
X-PUBLISHED-TTL:PT1H
BEGIN:VTIMEZONE
TZID:Europe/Helsinki
BEGIN:DAYLIGHT
TZOFFSETFROM:+0200
TZOFFSETTO:+0300
TZNAME:EEST
DTSTART:20230326T010000
END:DAYLIGHT
BEGIN:STANDARD
TZOFFSETFROM:+0300
TZOFFSETTO:+0200
TZNAME:EET
DTSTART:20231029T010000
END:STANDARD
BEGIN:DAYLIGHT
TZOFFSETFROM:+0200
TZOFFSETTO:+0300
TZNAME:EEST
DTSTART:20240331T010000
END:DAYLIGHT
BEGIN:STANDARD
TZOFFSETFROM:+0300
TZOFFSETTO:+0200
TZNAME:EET
DTSTART:20241027T010000
END:STANDARD
BEGIN:DAYLIGHT
TZOFFSETFROM:+0200
TZOFFSETTO:+0300
TZNAME:EEST
DTSTART:20250330T010000
END:DAYLIGHT
BEGIN:STANDARD
TZOFFSETFROM:+0300
TZOFFSETTO:+0200
TZNAME:EET
DTSTART:20251026T010000
END:STANDARD
BEGIN:DAYLIGHT
TZOFFSETFROM:+0200
TZOFFSETTO:+0300
TZNAME:EEST
DTSTART:20260329T010000
END:DAYLIGHT
BEGIN:STANDARD
TZOFFSETFROM:+0300
TZOFFSETTO:+0200
TZNAME:EET
DTSTART:20261025T010000
END:STANDARD
BEGIN:DAYLIGHT
TZOFFSETFROM:+0200
TZOFFSETTO:+0300
TZNAME:EEST
DTSTART:20270328T010000
END:DAYLIGHT
BEGIN:STANDARD
TZOFFSETFROM:+0300
TZOFFSETTO:+0200
TZNAME:EET
DTSTART:20271031T010000
END:STANDARD
END:VTIMEZONE
BEGIN:VTIMEZONE
TZID:Europe/Paris
BEGIN:DAYLIGHT
TZOFFSETFROM:+0100
TZOFFSETTO:+0200
TZNAME:CEST
DTSTART:20230326T010000
END:DAYLIGHT
BEGIN:STANDARD
TZOFFSETFROM:+0200
TZOFFSETTO:+0100
TZNAME:CET
DTSTART:20231029T010000
END:STANDARD
BEGIN:DAYLIGHT
TZOFFSETFROM:+0100
TZOFFSETTO:+0200
TZNAME:CEST
DTSTART:20240331T010000
END:DAYLIGHT
BEGIN:STANDARD
TZOFFSETFROM:+0200
TZOFFSETTO:+0100
TZNAME:CET
DTSTART:20241027T010000
END:STANDARD
BEGIN:DAYLIGHT
TZOFFSETFROM:+0100
TZOFFSETTO:+0200
TZNAME:CEST
DTSTART:20250330T010000
END:DAYLIGHT
BEGIN:STANDARD
TZOFFSETFROM:+0200
TZOFFSETTO:+0100
TZNAME:CET
DTSTART:20251026T010000
END:STANDARD
END:VTIMEZONE
BEGIN:VEVENT
DTSTART;TZID=Europe/Helsinki:20260405T140000
DTEND;TZID=Europe/Helsinki:20260405T190000
DTSTAMP:20260424T172427
CREATED:20260323T122155Z
LAST-MODIFIED:20260323T122159Z
UID:10001576-1775397600-1775415600@social.doof.website
SUMMARY:Nowedo: Paasfestijn & UNO op 5 april 2026
DESCRIPTION:Op zondag 5 april 2026 huppelt de paashaas naar Gebarenhuis Nowedo om jullie heerlijk te verwennen. Daarna kunnen jullie vrijblijvend een potje UNO spelen.\n\nAllen hartelijk welkom namens het bestuur van Nowedo
URL:https://social.doof.website/events/nowedo-paasfestijn-uno-op-5-april-2026/
LOCATION:Gebarenhuis Nowedo\, Polderstraat 76A\, Sint-Kruis
CATEGORIES:Feestje
ATTACH;FMTTYPE=image/jpeg:https://social.doof.website/wp-content/uploads/2026/03/Paasfestijn_5_april_2026.jpg
ORGANIZER;CN="Nowedo vzw":MAILTO:info@nowedo.be
END:VEVENT
BEGIN:VEVENT
DTSTART;TZID=Europe/Helsinki:20260104T140000
DTEND;TZID=Europe/Helsinki:20260104T190000
DTSTAMP:20260424T172427
CREATED:20251125T080913Z
LAST-MODIFIED:20251125T080914Z
UID:10001403-1767535200-1767553200@social.doof.website
SUMMARY:Nieuwjaarsreceptie
DESCRIPTION:Toost je op 4 januari 2026 mee op het nieuwe jaar?\nAlle info vind je op de affice.\nInschrijven kan ook hier: https://docs.google.com/forms/d/e/1FAIpQLSeNGinRlHv18TbIrEqYPW5OvJpMeQ0OEWnX97yNGkS5P8LpTA/viewform.
URL:https://social.doof.website/events/nieuwjaarsreceptie-5/
LOCATION:Gebarenhuis Nowedo\, Polderstraat 76A\, Sint-Kruis
ATTACH;FMTTYPE=image/png:https://social.doof.website/wp-content/uploads/2025/11/Nieuwjaarsreceptie-4-januari-2026.png
ORGANIZER;CN="Nowedo vzw":MAILTO:info@nowedo.be
END:VEVENT
BEGIN:VEVENT
DTSTART;TZID=Europe/Helsinki:20251207T140000
DTEND;TZID=Europe/Helsinki:20251207T190000
DTSTAMP:20260424T172427
CREATED:20251125T080852Z
LAST-MODIFIED:20251125T080853Z
UID:10001402-1765116000-1765134000@social.doof.website
SUMMARY:Nowedo: Sintfeest ism. KBD en Jeugdwerk Nowedo
DESCRIPTION:De Sint is onderweg naar ons land en jawel ook naar Gebarenhuis Nowedo. Hebben jullie zin om hem en zijn Pieten een warm welkom te geven? Prik 7 december 2025 in jullie agenda en bestel tijdig jullie boterkoeken via deze link: https://docs.google.com/…/1FAIpQLSdJugsLM…/viewform. \nDeadline is 1 december 2025.
URL:https://social.doof.website/events/nowedo-sintfeest-ism-kbd-en-jeugdwerk-nowedo/
LOCATION:Gebarenhuis Nowedo\, Polderstraat 76A\, Sint-Kruis
ATTACH;FMTTYPE=image/png:https://social.doof.website/wp-content/uploads/2025/11/Sintfeest-7-december-2025.png
ORGANIZER;CN="Nowedo vzw":MAILTO:info@nowedo.be
END:VEVENT
BEGIN:VEVENT
DTSTART;TZID=Europe/Helsinki:20250912T113000
DTEND;TZID=Europe/Helsinki:20250912T190000
DTSTAMP:20260424T172427
CREATED:20250912T113720Z
LAST-MODIFIED:20250912T114211Z
UID:10001372-1757676600-1757703600@social.doof.website
SUMMARY:Smulfestijn in Gebarenhuis Nowedo
DESCRIPTION:Smulfestijn bij Novedo op 5 oktober 2025.\nKom gezellig tafelen vanaf 11u30 met heerlijke mosselen\, stoofvlees\, vegetarische burgers of frikandel met frietjes.\nDaarna sluiten we af met een leuke bingo! \nInschrijven vóór 29 september via www.nowedo.be.\nLeden genieten van voordelige prijzen.\nIedereen welkom!
URL:https://social.doof.website/events/smulfestijn-in-gebarenhuis-nowedo/
LOCATION:Gebarenhuis Nowedo\, Polderstraat 76A\, Sint-Kruis
ATTACH;FMTTYPE=image/png:https://social.doof.website/wp-content/uploads/2025/09/SMULFESTIJN-5-OKTOBER-2025.png
END:VEVENT
BEGIN:VEVENT
DTSTART;TZID=Europe/Helsinki:20250804T130000
DTEND;TZID=Europe/Helsinki:20250804T183000
DTSTAMP:20260424T172427
CREATED:20250506T062508Z
LAST-MODIFIED:20250506T062509Z
UID:10001280-1754312400-1754332200@social.doof.website
SUMMARY:Deaf History International (DHI) - Nowedo Archief
DESCRIPTION:Kom en ontdek ons unieke archief bij Nowedo vzw! \n\nMaandag 4 augustus 2025 van 13u tot 18u30.\n\nBezoek het Nowedo Archief met een rijke collectie boeken\, video’s\, foto’s en meer over de dove gemeenschap. \n\nToegang is gratis en iedereen is welkom! \n\nNa het archiefbezoek verkennen we Brugge met een gids en sluiten we de dag af met een gezellig diner.
URL:https://social.doof.website/events/deaf-history-international-dhi-nowedo-archief/
LOCATION:Gebarenhuis Nowedo\, Polderstraat 76A\, Sint-Kruis
ATTACH;FMTTYPE=image/jpeg:https://social.doof.website/wp-content/uploads/2025/05/Archief-Nowedo-NL.jpg
END:VEVENT
BEGIN:VEVENT
DTSTART;TZID=Europe/Helsinki:20250706T113000
DTEND;TZID=Europe/Helsinki:20250706T200000
DTSTAMP:20260424T172427
CREATED:20250515T080953Z
LAST-MODIFIED:20250515T080954Z
UID:10001287-1751801400-1751832000@social.doof.website
SUMMARY:Nowedo: Smulfestijn op 6 juli 2025 in Gebarenhuis Nowedo
DESCRIPTION:Smulfestijn alert! 🙂\n\nVarken aan ’t spit\, witvis of veggie? Kies via www.nowedo.be je favoriet en schuif gezellig aan op zondag 6 juli 2025 in Gebarenhuis Nowedo.\n\nAlvast welkom! 🙂
URL:https://social.doof.website/events/nowedo-smulfestijn-op-6-juli-2025-in-gebarenhuis-nowedo/
LOCATION:Gebarenhuis Nowedo\, Polderstraat 76A\, Sint-Kruis
CATEGORIES:Eetfestijn
ATTACH;FMTTYPE=image/jpeg:https://social.doof.website/wp-content/uploads/2025/05/SMULFESTIJN-6-JULI-2025.jpg
END:VEVENT
BEGIN:VEVENT
DTSTART;TZID=Europe/Helsinki:20250517T110000
DTEND;TZID=Europe/Helsinki:20250517T210000
DTSTAMP:20260424T172427
CREATED:20250419T080045Z
LAST-MODIFIED:20250419T080046Z
UID:10001271-1747479600-1747515600@social.doof.website
SUMMARY:Feest 25 Jaar Kompas\, afdeling van Nowedo
DESCRIPTION:Feest 25 jarig bestaan van Kompas\, afdeling van Nowedo
URL:https://social.doof.website/events/feest-25-jaar-kompas-afdeling-van-nowedo/
LOCATION:Gebarenhuis Nowedo\, Polderstraat 76A\, Sint-Kruis
CATEGORIES:Feestje
ATTACH;FMTTYPE=image/jpeg:https://social.doof.website/wp-content/uploads/2025/04/25-j-Kompas.jpg
ORGANIZER;CN="Kompas &amp%3B Ladies":MAILTO:suzyvansteenkiste55@gmail.com
END:VEVENT
BEGIN:VEVENT
DTSTART;TZID=Europe/Helsinki:20250504T080000
DTEND;TZID=Europe/Helsinki:20250504T190000
DTSTAMP:20260424T172427
CREATED:20250320T161618Z
LAST-MODIFIED:20250321T093242Z
UID:10001254-1746345600-1746385200@social.doof.website
SUMMARY:Nowedo & Brugse Dovenvereniging: Banket nav. 123 jaar KBD
DESCRIPTION:Vier je mee het 123 jaar bestaan van onze Brugse Dovenvereniging (afdeling van Nowedo)?
URL:https://social.doof.website/events/nowedo-brugse-dovenvereniging-banket-nav-123-jaar-kbd/
LOCATION:Gebarenhuis Nowedo\, Polderstraat 76A\, Sint-Kruis
CATEGORIES:Eetfestijn
ATTACH;FMTTYPE=image/png:https://social.doof.website/wp-content/uploads/2025/03/Banket-KBD-4-mei-2025.png
END:VEVENT
BEGIN:VEVENT
DTSTART;TZID=Europe/Helsinki:20250406T140000
DTEND;TZID=Europe/Helsinki:20250406T190000
DTSTAMP:20260424T172427
CREATED:20250128T181308Z
LAST-MODIFIED:20250227T103519Z
UID:10001228-1743948000-1743966000@social.doof.website
SUMMARY:Nowedo: Paasfestijn & volksspelen samen met Jeugdwerk Nowedo & Brugse Dovenvereniging
DESCRIPTION:De paashaas komt langs en voorziet lekkers voor alle aanwezige leden\, groot en klein.\nLeuke paasanimatie voor kinderen.
URL:https://social.doof.website/events/nowedo-paasfestijn-volksspelen-samen-met-jeugdwerk-nowedo-brugse-dovenvereniging/
LOCATION:Gebarenhuis Nowedo\, Polderstraat 76A\, Sint-Kruis
CATEGORIES:Feestje
ATTACH;FMTTYPE=image/png:https://social.doof.website/wp-content/uploads/2025/01/PAASFESTIJN-1080-x-1350-px.png
ORGANIZER;CN="Nowedo vzw":MAILTO:info@nowedo.be
END:VEVENT
BEGIN:VEVENT
DTSTART;TZID=Europe/Helsinki:20250302T140000
DTEND;TZID=Europe/Helsinki:20250302T190000
DTSTAMP:20260424T172427
CREATED:20250128T181603Z
LAST-MODIFIED:20250128T181635Z
UID:10001229-1740924000-1740942000@social.doof.website
SUMMARY:Pannenkoekenfestijn & volksspelen samen met Brugse Dovenvereniging
DESCRIPTION:Pannenkoeken smullen & volksspelletjes spelen (vrijblijvend)
URL:https://social.doof.website/events/pannenkoekenfestijn-volksspelen-samen-met-brugse-dovenvereniging/
LOCATION:Gebarenhuis Nowedo\, Polderstraat 76A\, Sint-Kruis
CATEGORIES:Eetfestijn
ATTACH;FMTTYPE=image/png:https://social.doof.website/wp-content/uploads/2025/01/Pannenkoekenfestijn-zondag-2-maart-2025-klein-1.png
ORGANIZER;CN="Nowedo vzw":MAILTO:info@nowedo.be
END:VEVENT
BEGIN:VEVENT
DTSTART;TZID=Europe/Helsinki:20250105T140000
DTEND;TZID=Europe/Helsinki:20250105T200000
DTSTAMP:20260424T172427
CREATED:20241024T130426Z
LAST-MODIFIED:20241024T130428Z
UID:10000456-1736085600-1736107200@social.doof.website
SUMMARY:Nowedo: Nieuwjaarsreceptie
DESCRIPTION:Toost je samen met Nowedo mee op het nieuwe jaar? Noteer 5 januari 2025 in je agenda!
URL:https://social.doof.website/events/nowedo-nieuwjaarsreceptie/
LOCATION:Gebarenhuis Nowedo\, Polderstraat 76A\, Sint-Kruis
ATTACH;FMTTYPE=image/png:https://social.doof.website/wp-content/uploads/2024/10/Nieuwjaarsreceptie-Nowedo-5-januari-2025.png
END:VEVENT
BEGIN:VEVENT
DTSTART;TZID=Europe/Helsinki:20241201T140000
DTEND;TZID=Europe/Helsinki:20241201T200000
DTSTAMP:20260424T172427
CREATED:20241024T130405Z
LAST-MODIFIED:20241024T130407Z
UID:10000455-1733061600-1733083200@social.doof.website
SUMMARY:Nowedo: Sintfeest
DESCRIPTION:Hoera\, de Sint komt op 1 december 2024 naar Gebarenhuis Nowedo! Alle details staan op de affiche.
URL:https://social.doof.website/events/nowedo-sintfeest/
LOCATION:Gebarenhuis Nowedo\, Polderstraat 76A\, Sint-Kruis
ATTACH;FMTTYPE=image/jpeg:https://social.doof.website/wp-content/uploads/2024/10/Sint-op-1-december-2024-scaled.jpeg
END:VEVENT
BEGIN:VEVENT
DTSTART;TZID=Europe/Helsinki:20241122T183000
DTEND;TZID=Europe/Helsinki:20241122T220000
DTSTAMP:20260424T172428
CREATED:20241024T130214Z
LAST-MODIFIED:20241024T130340Z
UID:10000454-1732300200-1732312800@social.doof.website
SUMMARY:Nowedo: Algemene ledenvergadering met verkiezingen AV Nowedo
DESCRIPTION:Beste leden\,\n\nOp vrijdagavond 22 november 2024 organiseert Nowedo bestuursverkiezingen\, want enkele mandaten binnen de Algemene Vergadering van Nowedo vzw in het vet lopen ten einde.\n\nVoorzitter: Claudia Van Driessche – tot 31/12/2026\nOndervoorzitter: Thomas De Coninck – tot 31/12/2024\nSecretaris: vacant – tot 31/12/2024\nSchatbewaarder: Nico Dumalin – tot 31/12/2026\nBestuurslid: Ann Decock – tot 31/12/2026      \n\nAV-leden:                                \nStefaan Breemersch – tot 31/12/2024                                                    \nDennis Deschildre – tot 31/12/2024                               \nWim Zonnekein – tot 31/12/2026                                     \nVincent Ameloot – tot 31/12/2024\nAnn Somers – tot 31/12/2026                                           \nKathleen Vercruysse – tot 31/12/2024                           \nKoen Meys – tot 31/12/2026\n\nDe bestuursleden in het vet mogen zich bij interesse opnieuw kandidaat stellen.\n\nNa de verkiezingen voor de volledige AV kan er tussen de verkozen leden van de AV nog een bijkomende verkiezing gebeuren voor de plaatsen in de Raad van Bestuur.\n\nDe kandidaturen mogen hun motivatietekst of -video bezorgen aan de voorzitter Claudia Van Driessche via voorzitter@nowedo.be.\nGraag ten laatste tegen 11 november 2024!\nInschrijven\, ook voor de gratis belegde mini-broodjes kan HIER.\n\nAlleen leden kunnen gratis mee smullen. Niet-leden betalen €10.\n\nDe samenkomst gaat door om 18u30 uur in Gebarenhuis Nowedo.\n\nOm 19u00 mini-belegde broodjes met 1 gratis drankbon\nDaarna Algemene ledenvergadering\nVervolgens verkiezingen\n\nAlvast welkom!\n\nHet bestuur van Nowedo
URL:https://social.doof.website/events/algemene-ledenvergadering-met-verkiezingen-av-nowedo/
LOCATION:Gebarenhuis Nowedo\, Polderstraat 76A\, Sint-Kruis
CATEGORIES:Cultuur
END:VEVENT
BEGIN:VEVENT
DTSTART;TZID=Europe/Helsinki:20241103T140000
DTEND;TZID=Europe/Helsinki:20241103T190000
DTSTAMP:20260424T172428
CREATED:20241024T125257Z
LAST-MODIFIED:20241024T125259Z
UID:10000453-1730642400-1730660400@social.doof.website
SUMMARY:Nowedo: Fotokwis + ophaling bestelde koeken
DESCRIPTION:Zin om mee te fotoquizzen? Noteer 3 november 2024 in je agenda!
URL:https://social.doof.website/events/nowedo-fotokwis-ophaling-bestelde-koeken/
LOCATION:Gebarenhuis Nowedo\, Polderstraat 76A\, Sint-Kruis
CATEGORIES:Cultuur
ATTACH;FMTTYPE=image/png:https://social.doof.website/wp-content/uploads/2024/10/Fotokwis-op-3-november-2024.png
END:VEVENT
BEGIN:VEVENT
DTSTART;TZID=Europe/Paris:20240907T000000
DTEND;TZID=Europe/Paris:20240907T235959
DTSTAMP:20260424T172428
CREATED:20240117T073836Z
LAST-MODIFIED:20240820T045937Z
UID:10000088-1725667200-1725753599@social.doof.website
SUMMARY:Nowedo: Feest nav. 30 jaar Nowedo
DESCRIPTION:Zin om mee te feesten? Schrijf je hier in: https://docs.google.com/forms/d/e/1FAIpQLSdIlv2zMX56H34N9_1JqiGmE75w2q2EDRPxqwvR5Za07OBFag/viewform.
URL:https://social.doof.website/events/feest-nav-30-jaar-nowedo/
LOCATION:Gebarenhuis Nowedo\, Polderstraat 76A\, Sint-Kruis
ATTACH;FMTTYPE=image/jpeg:https://social.doof.website/wp-content/uploads/2024/01/Feest-30-jaar-Nowedo-op-7-september-2024.jpg
ORGANIZER;CN="Nowedo vzw":MAILTO:info@nowedo.be
END:VEVENT
BEGIN:VEVENT
DTSTART;TZID=Europe/Paris:20240707T113000
DTEND;TZID=Europe/Paris:20240707T190000
DTSTAMP:20260424T172428
CREATED:20240521T065304Z
LAST-MODIFIED:20240521T065306Z
UID:10000336-1720351800-1720378800@social.doof.website
SUMMARY:Nowedo & Jeugdwerk Nowedo: BBQ-time op 7 juli 2024
DESCRIPTION:Smul je mee op zondag 7 juli 2024? Schrijf je hier in: https://docs.google.com/…/1FAIpQLSftBzgVa0NEL6…/viewform.
URL:https://social.doof.website/events/nowedo-jeugdwerk-nowedo-bbq-time-op-7-juli-2024/
LOCATION:Gebarenhuis Nowedo\, Polderstraat 76A\, Sint-Kruis
CATEGORIES:Eetfestijn
ATTACH;FMTTYPE=image/png:https://social.doof.website/wp-content/uploads/2024/05/BBQ-7-juli-2024.png
END:VEVENT
BEGIN:VEVENT
DTSTART;TZID=Europe/Paris:20240707T000000
DTEND;TZID=Europe/Paris:20240707T235959
DTSTAMP:20260424T172428
CREATED:20240116T082902Z
LAST-MODIFIED:20240217T074721Z
UID:10000087-1720310400-1720396799@social.doof.website
SUMMARY:Nowedo: Jaarlijks barbecue in Gebarenhuis Nowedo
DESCRIPTION:Meer info volgt later.
URL:https://social.doof.website/events/jaarlijks-barbecue/
LOCATION:Gebarenhuis Nowedo\, Polderstraat 76A\, Sint-Kruis
ORGANIZER;CN="Nowedo vzw":MAILTO:info@nowedo.be
END:VEVENT
BEGIN:VEVENT
DTSTART;TZID=Europe/Paris:20240505T120000
DTEND;TZID=Europe/Paris:20240505T190000
DTSTAMP:20260424T172428
CREATED:20240411T073608Z
LAST-MODIFIED:20240411T073610Z
UID:10000186-1714910400-1714935600@social.doof.website
SUMMARY:Nowedo + Brugse Dovenvereniging: Banket nav. 122 jaar Brugse Dovenvereniging
DESCRIPTION:Op zondag 5 mei 2024 bestaat de Koninklijke Brugse Dovenvereniging (voorheen de Cartonszonen) 122 jaar.\nDat moet gevierd worden met een banket in Gebarenhuis Nowedo\, Polderstraat 76a te Sint-Kruis.\n\n12u00: Receptie\n13u00: Banket\n     Keuze 1: VLEES = Minestrone soep – parelhoen suprême met lente groentjes\n     Keuze 2: VIS = Minestrone soep –visvariatie met witte wijn saus duchesse\n     Keuze 3: VEGETARISCH = Minestrone soep – Pasta met champignons mengeling\n     Plat of bruisend water (andere dranken te betalen)\n     Dessert (koffie of thee inbegrepen)\n\nDe prijs is voor leden 40 euro & niet-leden 50 euro\n\nWil je meesmullen?\n– schrijf je in via info@nowedo be of per post: Polderstraat 76a bus1\, 8310 Sint-Kruis\n– betaal het bedrag op Nowedo’s rekeningnummer IBAN BE64 4700 3180 9152\nBIC KREDBEBB  tegen ten laatste 30 april 2024. Niet betaald = geen banket! \n\nIedereen is van harte welkom! We maken er samen een aangename dag van! \n\nNamens het bestuur van Nowedo vzw & de Brugse Dovenvereniging
URL:https://social.doof.website/events/nowedo-brugse-dovenvereniging-banket-nav-122-jaar-brugse-dovenvereniging/
LOCATION:Gebarenhuis Nowedo\, Polderstraat 76A\, Sint-Kruis
END:VEVENT
BEGIN:VEVENT
DTSTART;TZID=Europe/Paris:20240413T140000
DTEND;TZID=Europe/Paris:20240413T180000
DTSTAMP:20260424T172428
CREATED:20240327T064656Z
LAST-MODIFIED:20240327T064658Z
UID:10000171-1713016800-1713031200@social.doof.website
SUMMARY:KRUIDENWANDELING EN KLAARMAKEN SPREADS MET KRUIDEN OLV. ELS HIMPENS
DESCRIPTION:We starten om 14u in Gebarenhuis Nowedo. Polderstraat 76a – 8310 Brugge (Sint-Kruis) \nEerst krijgen we uitleg over kruiden wildplukkenDan starten we de plukwandeling en dit kan ongeveer een 2 tal uurtjes duren.We blijven in de omgeving van de Nowedo gebouwen. \nHandig is het om een netje (fruit of groentenzakje) mee te brengen. \nDaarna zullen we met de gevonden kruiden\, lekkere hapjes maken eneen lekker drankje voor onszelf\, aangevuld met hapjes aangeboden doorKompas en Ladies! \nEr zal ook tijd genoeg zijn om vragen te stellen. \nBetalen op het nummer BE977360 4127 2049Inschrijven voor 10 april naar katblondeel@gmail.comMaximum 20 personen toegelaten.
URL:https://social.doof.website/events/kruidenwandeling-en-klaarmaken-spreads-met-kruiden-olv-els-himpens/
LOCATION:Gebarenhuis Nowedo\, Polderstraat 76A\, Sint-Kruis
CATEGORIES:Eten
ORGANIZER;CN="Kompas &amp%3B de Ladies":MAILTO:Kompasendeladies@gmail.com
END:VEVENT
BEGIN:VEVENT
DTSTART;TZID=Europe/Paris:20240411T113000
DTEND;TZID=Europe/Paris:20240411T190000
DTSTAMP:20260424T172428
CREATED:20240117T042958Z
LAST-MODIFIED:20240411T073322Z
UID:10000187-1712835000-1712862000@social.doof.website
SUMMARY:Nowedo: Ondersteuning Banket nav. 122 jaar Brugse Dovenvereniging
DESCRIPTION:Op zondag 5 mei 2024 bestaat de Koninklijke Brugse Dovenvereniging (voorheen de Cartonszonen) 122 jaar.Dat moet gevierd worden met een banket in Gebarenhuis Nowedo\, Polderstraat 76a te Sint-Kruis. \n12u00: Receptie13u00: Banket     Keuze 1: VLEES = Minestrone soep – parelhoen suprême met lente groentjes     Keuze 2: VIS = Minestrone soep –visvariatie met witte wijn saus duchesse     Keuze 3: VEGETARISCH = Minestrone soep – Pasta met champignons mengeling     Plat of bruisend water (andere dranken te betalen)     Dessert (koffie of thee inbegrepen) \nDe prijs is voor leden 40 euro & niet-leden 50 euro \nWil je meesmullen? \n– schrijf je in via info@nowedo be of per post: Polderstraat 76a bus1\, 8310 Sint-Kruis– betaal het bedrag op Nowedo’s rekeningnummer IBAN BE64 4700 3180 9152BIC KREDBEBB  tegen ten laatste 30 april 2024. Niet betaald = geen banket!  \nIedereen is van harte welkom! We maken er samen een aangename dag van!  \nNamens het bestuur van Nowedo vzw & de Brugse Dovenvereniging
URL:https://social.doof.website/events/banket-nav-122-jaar-brugse-dovenvereniging/
LOCATION:Gebarenhuis Nowedo\, Polderstraat 76A\, Sint-Kruis
ORGANIZER;CN="Nowedo vzw":MAILTO:info@nowedo.be
END:VEVENT
BEGIN:VEVENT
DTSTART;TZID=Europe/Paris:20240407T140000
DTEND;TZID=Europe/Paris:20240407T190000
DTSTAMP:20260424T172428
CREATED:20240227T072300Z
LAST-MODIFIED:20240402T101127Z
UID:10000133-1712498400-1712516400@social.doof.website
SUMMARY:Nowedo + Brugse Dovenvereniging + Jeugdwerk Nowedo: Paasfestijn + Bingo
DESCRIPTION:Op zondagnamiddag 7 april 2024 komt de paashaas langs in Gebarenhuis Nowedo. Hij zal paaslekkers uitdelen aan alle aanwezige leden. Voor wie wil\, kan die namiddag meedoen met bingo. De bengeltjes mogen leuke paasactiviteiten verwachten.\nMeer info: https://nowedo.be/nieuws/?d=231
URL:https://social.doof.website/events/nowedo-brugse-dovenvereniging-jeugdwerk-nowedo-paasfestijn-bingo/
LOCATION:Gebarenhuis Nowedo\, Polderstraat 76A\, Sint-Kruis
ATTACH;FMTTYPE=image/jpeg:https://social.doof.website/wp-content/uploads/2024/02/Paasaffiche-7-april-2024.jpg
END:VEVENT
BEGIN:VEVENT
DTSTART;TZID=Europe/Paris:20240303T140000
DTEND;TZID=Europe/Paris:20240303T190000
DTSTAMP:20260424T172428
CREATED:20240228T041422Z
LAST-MODIFIED:20240229T121757Z
UID:10000135-1709474400-1709492400@social.doof.website
SUMMARY:Nowedo + Brugse Dovenvereniging + Jeugdwerk Nowedo: volksspelen + carnaval (0-9 jaar) + pannenkoeken smullen
DESCRIPTION:Zin in een namiddag volksspelen\, carnaval voor kinderen en pannenkoeken smullen? Aarzel dan niet om zondag 3 maart 2024 vrij te houden waar de deuren van Gebarenhuis Nowedo wagenwijd zullen openstaan.Alle info & inschrijvingslink: https://docs.google.com/forms/d/e/1FAIpQLSfebwmL9hdE4O93wcbW0RnHGnmSxy8h_qcJdIPDKWxg7qe0jQ/viewform
URL:https://social.doof.website/events/nowedo-brugse-dovenvereniging-jeugdwerk-nowedo-volksspelen-carnaval-0-9-jaar-pannenkoeken-smullen-2/
LOCATION:Gebarenhuis Nowedo\, Polderstraat 76A\, Sint-Kruis
ATTACH;FMTTYPE=image/jpeg:https://social.doof.website/wp-content/uploads/2024/02/Affiche-3-maart-2024-3.jpg
END:VEVENT
BEGIN:VEVENT
DTSTART;TZID=Europe/Helsinki:20240107T140000
DTEND;TZID=Europe/Helsinki:20240107T200000
DTSTAMP:20260424T172428
CREATED:20240112T101155Z
LAST-MODIFIED:20240112T101155Z
UID:10000076-1704636000-1704657600@social.doof.website
SUMMARY:Nieuwjaarsreceptie vzw
DESCRIPTION:Nieuwjaarsreceptie voor alle leden van Nowedo.\nOok niet-leden zijn welkom. Alle info op www.nowedo.be.
URL:https://social.doof.website/events/nieuwjaarsreceptie-vzw/
LOCATION:Gebarenhuis Nowedo\, Polderstraat 76A\, Sint-Kruis
ATTACH;FMTTYPE=image/png:https://social.doof.website/wp-content/uploads/2024/01/Affiche-nieuwjaarsreceptie-7-januari-2024-1.png
ORGANIZER;CN="Nowedo vzw":MAILTO:info@nowedo.be
END:VEVENT
END:VCALENDAR