BEGIN:VCALENDAR
VERSION:2.0
PRODID:-//Sociale Kaart - ECPv6.15.20//NONSGML v1.0//EN
CALSCALE:GREGORIAN
METHOD:PUBLISH
X-WR-CALNAME:Sociale Kaart
X-ORIGINAL-URL:https://social.doof.website
X-WR-CALDESC:Evenementen voor Sociale Kaart
REFRESH-INTERVAL;VALUE=DURATION:PT1H
X-Robots-Tag:noindex
X-PUBLISHED-TTL:PT1H
BEGIN:VTIMEZONE
TZID:Europe/Helsinki
BEGIN:DAYLIGHT
TZOFFSETFROM:+0200
TZOFFSETTO:+0300
TZNAME:EEST
DTSTART:20230326T010000
END:DAYLIGHT
BEGIN:STANDARD
TZOFFSETFROM:+0300
TZOFFSETTO:+0200
TZNAME:EET
DTSTART:20231029T010000
END:STANDARD
BEGIN:DAYLIGHT
TZOFFSETFROM:+0200
TZOFFSETTO:+0300
TZNAME:EEST
DTSTART:20240331T010000
END:DAYLIGHT
BEGIN:STANDARD
TZOFFSETFROM:+0300
TZOFFSETTO:+0200
TZNAME:EET
DTSTART:20241027T010000
END:STANDARD
BEGIN:DAYLIGHT
TZOFFSETFROM:+0200
TZOFFSETTO:+0300
TZNAME:EEST
DTSTART:20250330T010000
END:DAYLIGHT
BEGIN:STANDARD
TZOFFSETFROM:+0300
TZOFFSETTO:+0200
TZNAME:EET
DTSTART:20251026T010000
END:STANDARD
END:VTIMEZONE
BEGIN:VEVENT
DTSTART;TZID=Europe/Helsinki:20240428T100000
DTEND;TZID=Europe/Helsinki:20240428T180000
DTSTAMP:20260421T113621
CREATED:20231222T144138Z
LAST-MODIFIED:20240229T093605Z
UID:10000070-1714298400-1714327200@social.doof.website
SUMMARY:Doof & Jong: VGT Kermis
DESCRIPTION:Wij organiseren een tweede editie van VGT Kermis! Er zijn diverse kermisspelletjes\, springkastelen\, etc aanwezig\, alsook foodtrucks en bar. De inkom is gratis en het is voor alle leeftijden!
URL:https://social.doof.website/events/vgt-kermis-doof-jong/
LOCATION:De Prullenbos Wetteren\, Groenstraat 8\, Wetteren\, Oost-Vlaanderen\, 9230\, België
CATEGORIES:Cultuur,Feestje,Ontspanning,Sfeerevenement
ATTACH;FMTTYPE=image/png:https://social.doof.website/wp-content/uploads/2023/12/Insta-Basis.png
ORGANIZER;CN="Doof &amp%3B Jong":MAILTO:info@doofjong.be
END:VEVENT
END:VCALENDAR