BEGIN:VCALENDAR
VERSION:2.0
PRODID:-//Sociale Kaart - ECPv6.15.20//NONSGML v1.0//EN
CALSCALE:GREGORIAN
METHOD:PUBLISH
X-ORIGINAL-URL:https://social.doof.website
X-WR-CALDESC:Evenementen voor Sociale Kaart
REFRESH-INTERVAL;VALUE=DURATION:PT1H
X-Robots-Tag:noindex
X-PUBLISHED-TTL:PT1H
BEGIN:VTIMEZONE
TZID:Europe/Paris
BEGIN:DAYLIGHT
TZOFFSETFROM:+0100
TZOFFSETTO:+0200
TZNAME:CEST
DTSTART:20230326T010000
END:DAYLIGHT
BEGIN:STANDARD
TZOFFSETFROM:+0200
TZOFFSETTO:+0100
TZNAME:CET
DTSTART:20231029T010000
END:STANDARD
BEGIN:DAYLIGHT
TZOFFSETFROM:+0100
TZOFFSETTO:+0200
TZNAME:CEST
DTSTART:20240331T010000
END:DAYLIGHT
BEGIN:STANDARD
TZOFFSETFROM:+0200
TZOFFSETTO:+0100
TZNAME:CET
DTSTART:20241027T010000
END:STANDARD
BEGIN:DAYLIGHT
TZOFFSETFROM:+0100
TZOFFSETTO:+0200
TZNAME:CEST
DTSTART:20250330T010000
END:DAYLIGHT
BEGIN:STANDARD
TZOFFSETFROM:+0200
TZOFFSETTO:+0100
TZNAME:CET
DTSTART:20251026T010000
END:STANDARD
END:VTIMEZONE
BEGIN:VEVENT
DTSTART;TZID=Europe/Paris:20241204T133000
DTEND;TZID=Europe/Paris:20241204T153000
DTSTAMP:20260421T161548
CREATED:20241029T123653Z
LAST-MODIFIED:20250109T094148Z
UID:10000890-1733319000-1733326200@social.doof.website
SUMMARY:Dovenloket Torhout
DESCRIPTION:Ambulante ondersteuning via RTH in Vlaamse Gebarentaal voor volwassenen met kleine\, korte vragen of problemen.  \nEnkel op afspraak via dovenloket@de-kade.be of via 0475 78 24 81\nAfspraken kunnen ingepland worden tot ten laatste de vrijdag voorafgaand aan het Dovenloket Torhout.
URL:https://social.doof.website/events/dovenloket-torhout-2/2024-12-04/
LOCATION:CAW Torhout\, 's Gravenwinkelstraat 20\, Torhout\, West-Vlaanderen\, 8820\, België
CATEGORIES:Andere
ATTACH;FMTTYPE=image/png:https://social.doof.website/wp-content/uploads/2024/04/Dovenloket-poster.png
ORGANIZER;CN="Dovenloket Torhout":MAILTO:dovenloket@de-kade.be
END:VEVENT
END:VCALENDAR