BEGIN:VCALENDAR
VERSION:2.0
PRODID:-//Sociale Kaart - ECPv6.15.20//NONSGML v1.0//EN
CALSCALE:GREGORIAN
METHOD:PUBLISH
X-WR-CALNAME:Sociale Kaart
X-ORIGINAL-URL:https://social.doof.website
X-WR-CALDESC:Evenementen voor Sociale Kaart
REFRESH-INTERVAL;VALUE=DURATION:PT1H
X-Robots-Tag:noindex
X-PUBLISHED-TTL:PT1H
BEGIN:VTIMEZONE
TZID:Europe/Helsinki
BEGIN:DAYLIGHT
TZOFFSETFROM:+0200
TZOFFSETTO:+0300
TZNAME:EEST
DTSTART:20240331T010000
END:DAYLIGHT
BEGIN:STANDARD
TZOFFSETFROM:+0300
TZOFFSETTO:+0200
TZNAME:EET
DTSTART:20241027T010000
END:STANDARD
BEGIN:DAYLIGHT
TZOFFSETFROM:+0200
TZOFFSETTO:+0300
TZNAME:EEST
DTSTART:20250330T010000
END:DAYLIGHT
BEGIN:STANDARD
TZOFFSETFROM:+0300
TZOFFSETTO:+0200
TZNAME:EET
DTSTART:20251026T010000
END:STANDARD
BEGIN:DAYLIGHT
TZOFFSETFROM:+0200
TZOFFSETTO:+0300
TZNAME:EEST
DTSTART:20260329T010000
END:DAYLIGHT
BEGIN:STANDARD
TZOFFSETFROM:+0300
TZOFFSETTO:+0200
TZNAME:EET
DTSTART:20261025T010000
END:STANDARD
END:VTIMEZONE
BEGIN:VTIMEZONE
TZID:Europe/Paris
BEGIN:DAYLIGHT
TZOFFSETFROM:+0100
TZOFFSETTO:+0200
TZNAME:CEST
DTSTART:20230326T010000
END:DAYLIGHT
BEGIN:STANDARD
TZOFFSETFROM:+0200
TZOFFSETTO:+0100
TZNAME:CET
DTSTART:20231029T010000
END:STANDARD
BEGIN:DAYLIGHT
TZOFFSETFROM:+0100
TZOFFSETTO:+0200
TZNAME:CEST
DTSTART:20240331T010000
END:DAYLIGHT
BEGIN:STANDARD
TZOFFSETFROM:+0200
TZOFFSETTO:+0100
TZNAME:CET
DTSTART:20241027T010000
END:STANDARD
BEGIN:DAYLIGHT
TZOFFSETFROM:+0100
TZOFFSETTO:+0200
TZNAME:CEST
DTSTART:20250330T010000
END:DAYLIGHT
BEGIN:STANDARD
TZOFFSETFROM:+0200
TZOFFSETTO:+0100
TZNAME:CET
DTSTART:20251026T010000
END:STANDARD
END:VTIMEZONE
BEGIN:VEVENT
DTSTART;TZID=Europe/Helsinki:20251005T160000
DTEND;TZID=Europe/Helsinki:20251005T180000
DTSTAMP:20260424T151759
CREATED:20250910T090954Z
LAST-MODIFIED:20250910T091004Z
UID:10001360-1759680000-1759687200@social.doof.website
SUMMARY:Weekend van de Klant bij VRT in VGT
DESCRIPTION:Op 4 en 5 oktober is het het Weekend van de Klant.\nJe kan een bezoek brengen aan VRT voor een rondleiding in VGT.\nOntdek hoe ze TV maken achter de schermen\, bezoek de studio’s\, bekijk Brussel vanop de VRT-toren en speel erna nog leuke spelletjes.\nDe rondleiding is zowel in het Nederlands als in VGT\, kom met je familie\, vrienden of vereneging. \nZaterdag 4 oktober van 10-12u met torenbezoek\nZondag 5 oktober van 16u-18u zonder torenbezoek \nBoek je tickets de link:\nTot dan!?
URL:https://social.doof.website/events/weekend-van-de-klant-bij-vrt-in-vgt-2/2025-10-05/
LOCATION:brussel\, Toegang via de ingang van Dudenpark op de hoogte van Victor Rousseaulaan 100\, Vorst (Brussel)\, 1190
ATTACH;FMTTYPE=image/png:https://social.doof.website/wp-content/uploads/2025/09/Scherm­afbeelding-2025-09-10-om-11.00.54.png
ORGANIZER;CN="vrt":MAILTO:toegankelijkheid@vrt.be
END:VEVENT
BEGIN:VEVENT
DTSTART;TZID=Europe/Paris:20241006T120000
DTEND;TZID=Europe/Paris:20241006T133000
DTSTAMP:20260424T151759
CREATED:20240918T081339Z
LAST-MODIFIED:20240918T081341Z
UID:10000416-1728216000-1728221400@social.doof.website
SUMMARY:Geleid bezoek aan de Koninklijke Muntschouwburg in gebarentaal (VGT)
DESCRIPTION:Als belangrijk oriëntatiepunt in het stadscentrum blijft de Muntschouwburg een van de weinige grootschalige voorbeelden van neoklassieke architectuur in Brussel. Het operahuis speelde een sleutelrol in het ontketenen van de Belgische Revolutie door de ontstane rellen na de vertoning van de opera De Stomme van Portici. Het gebouw werd opgetrokken tussen 1817 en 1819 naar een ontwerp van Louis Damesme en bestaat uit twee verdiepingen met op de voorgrond een groot portiek bekroond door een fronton en met arcades langs alle vier de gevels. In 1855 werd de zaal verwoest door een brand die enkel de muren\, het fronton van Eugène Simonis en het peristylium van Damesme heel liet. Joseph Poelaert\, de latere architect van het Justitiepaleis\, kreeg de opdracht voor de heropbouw van de zaal toevertrouwd. In de loop der jaren onderging de Munt nog tal van andere architecturale en artistieke ingrepen. De rondleiding verkent de schouwburg met de atelierruimtes en uiteraard ook de iconische grote zaal. ers de la Monnaie\, 23 rue Leopold (le bâtiment derrière le Théâtre). \n\nGids: Bart Uzeel
URL:https://social.doof.website/events/geleid-bezoek-aan-de-koninklijke-muntschouwburg-in-gebarentaal-vgt/
LOCATION:brussel\, Toegang via de ingang van Dudenpark op de hoogte van Victor Rousseaulaan 100\, Vorst (Brussel)\, 1190
ATTACH;FMTTYPE=image/jpeg:https://social.doof.website/wp-content/uploads/2024/09/image00008-scaled.jpeg
END:VEVENT
BEGIN:VEVENT
DTSTART;TZID=Europe/Paris:20241005T180000
DTEND;TZID=Europe/Paris:20241006T200000
DTSTAMP:20260424T151759
CREATED:20240917T063405Z
LAST-MODIFIED:20240917T063409Z
UID:10000413-1728151200-1728244800@social.doof.website
SUMMARY:Weekend van de Klant bij VRT in VGT
DESCRIPTION:Op vrijdag 4\, zaterdag 5 en zondag 6 oktober 2024 ben je van harte welkom om eens met je eigen ogen te zien hoe het eraan toe gaat bij jouw publieke omroep!\n\nHoeveel mensen zitten er in de journaalstudio terwijl pakweg Wim De Vilder presenteert?\n\nWaarvoor dienen al die knopjes in een radiostudio?\n\nHoe zorgen wij er bij VRT voor dat we zo toegankelijk mogelijk zijn voor iedereen?\n\nWelke moderne technieken gebruiken wij om steeds betere radio\, tv en online content te maken?\n\nTijdens een anderhalf uur durende rondleiding (met of zonder bezoek aan de VRT-toren) krijg je een antwoord op deze en nog vele andere vragen. We bieden jou\, je vrienden en familie een exclusieve blik achter de schermen.\n\nEn er is méér: je kan een selfie maken aan de toog van ons F.C. De Kampioenen-café en in onze belevingsruimte kom je oren en ogen tekort: je ziet hoe ze live ondertitelen\, je kan binnenkijken in een echte nieuwswagen\, jouw dromen delen voor de volgende editie van De droomfabriek en nog zoveel meer.\n\nWist je trouwens dat je ook een rondleiding kan boeken met Vlaamse gebarentaal?\n\nOp zaterdag 05/10/2024 om 18.00u met torenbezoek\n\nen op zondag 06/10/2024 om 16.00u\n\nJe hebt een paar uur vrij dat weekend en je hebt altijd al eens willen zien én horen hoe het eraan toegaat bij jouw VRT? Aarzel niet\, neem vrienden en familie mee en boek snel je tickets!
URL:https://social.doof.website/events/weekend-van-de-klant-bij-vrt-in-vgt/
LOCATION:brussel\, Toegang via de ingang van Dudenpark op de hoogte van Victor Rousseaulaan 100\, Vorst (Brussel)\, 1190
ATTACH;FMTTYPE=image/jpeg:https://social.doof.website/wp-content/uploads/2024/09/rondleiding.jpg
ORGANIZER;CN="vrt":MAILTO:toegankelijkheid@vrt.be
END:VEVENT
BEGIN:VEVENT
DTSTART;TZID=Europe/Paris:20240929T120000
DTEND;TZID=Europe/Paris:20240929T130000
DTSTAMP:20260424T151759
CREATED:20240918T084819Z
LAST-MODIFIED:20240918T084820Z
UID:10000415-1727611200-1727614800@social.doof.website
SUMMARY:Geleid bezoek aan het Dudenkasteel in gebarentaal (VGT)
DESCRIPTION:Dit buitenverblijf werd vermoedelijk ontworpen door de architect Eduard Schwartz voor Wilhelm Friedrich Karl Ludwig Duden\, een Duits ondernemer die fortuin maakte in de kantindustrie. Het ligt op de top van een heuvel in het midden van het Dudenpark\, met de voorgevel gericht naar de Victor Rousseaulaan. Het kasteel in neoklassieke stijl werd gebouwd tussen 1873 en 1875 en zou geïnspireerd zijn op de Villa Hügel in Essen in Duitsland\, eigendom van de industriële familie Krupp. Binnen is er een grote inkomhal met rijkelijk versierde zuilen en een indrukwekkende marmeren trap die naar de bovenverdiepingen leidt. Sinds 2012 wordt het kasteel gebruikt door de Nederlandstalige filmschool NARAFI\, die tegenwoordig deel uitmaakt van de LUCA School of Arts. Ondanks de transformaties die het gebouw onderging\, zijn vele originele decoraties nog duidelijk aanwezig\, met onder meer plafonds met stucwerk\, houten lambriseringen\, marmeren schoorsteenmantels en visgraatparket.\n\nGids: Bart Uzeel
URL:https://social.doof.website/events/geleid-bezoek-aan-het-dudenkasteel-in-gebarentaal-vgt/
LOCATION:brussel\, Toegang via de ingang van Dudenpark op de hoogte van Victor Rousseaulaan 100\, Vorst (Brussel)\, 1190
ATTACH;FMTTYPE=image/jpeg:https://social.doof.website/wp-content/uploads/2024/09/image00004-scaled.jpeg
ORGANIZER;CN="Explore.Brussels":MAILTO:info@explore.brussels
END:VEVENT
END:VCALENDAR