BEGIN:VCALENDAR
VERSION:2.0
PRODID:-//Sociale Kaart - ECPv6.15.20//NONSGML v1.0//EN
CALSCALE:GREGORIAN
METHOD:PUBLISH
X-WR-CALNAME:Sociale Kaart
X-ORIGINAL-URL:https://social.doof.website
X-WR-CALDESC:Evenementen voor Sociale Kaart
REFRESH-INTERVAL;VALUE=DURATION:PT1H
X-Robots-Tag:noindex
X-PUBLISHED-TTL:PT1H
BEGIN:VTIMEZONE
TZID:Europe/Paris
BEGIN:DAYLIGHT
TZOFFSETFROM:+0100
TZOFFSETTO:+0200
TZNAME:CEST
DTSTART:20230326T010000
END:DAYLIGHT
BEGIN:STANDARD
TZOFFSETFROM:+0200
TZOFFSETTO:+0100
TZNAME:CET
DTSTART:20231029T010000
END:STANDARD
BEGIN:DAYLIGHT
TZOFFSETFROM:+0100
TZOFFSETTO:+0200
TZNAME:CEST
DTSTART:20240331T010000
END:DAYLIGHT
BEGIN:STANDARD
TZOFFSETFROM:+0200
TZOFFSETTO:+0100
TZNAME:CET
DTSTART:20241027T010000
END:STANDARD
BEGIN:DAYLIGHT
TZOFFSETFROM:+0100
TZOFFSETTO:+0200
TZNAME:CEST
DTSTART:20250330T010000
END:DAYLIGHT
BEGIN:STANDARD
TZOFFSETFROM:+0200
TZOFFSETTO:+0100
TZNAME:CET
DTSTART:20251026T010000
END:STANDARD
END:VTIMEZONE
BEGIN:VEVENT
DTSTART;TZID=Europe/Paris:20240309T110000
DTEND;TZID=Europe/Paris:20240309T120000
DTSTAMP:20260424T225813
CREATED:20240224T093719Z
LAST-MODIFIED:20240224T093720Z
UID:10000124-1709982000-1709985600@social.doof.website
SUMMARY:Voorleesuurtje 'En ze leefden nog'
DESCRIPTION:In het kader van Internationale vrouwendag wordt er tijdens Alfapret door een enthousiaste vrijwilliger voorgelezen uit het wel heel speciale sprookje ‘En ze leefden nog’ van Elisabeth Lucie Baeten. \nLuister naar verhalen over prinsessen die hun eigen leven bepalen. De kleine zeemeermin wil niet naar de balletles gaan\, maar wel waterpolo spelen. En Rapunzel – met de mooie lange haren – haat haar kapsel soms. De prinsessen wachten niet op een prins\, maar nemen het heft in eigen handen.\nGrootouders\, (plus)ouders en kinderen vanaf 5 jaar zijn meer dan welkom om mee te komen genieten. Inschrijven is niet verplicht. \n\nDe locatie is rolstoeltoegankelijk en er zal een tolk Vlaamse Gebarentaal aanwezig zijn.
URL:https://social.doof.website/events/voorleesuurtje-en-ze-leefden-nog/
LOCATION:Bib Leuven Tweebronnen\, Rijschoolstraat 4\, Leuven\, Vlaams-Brabant\, 3000\, België
CATEGORIES:Cultuur
ATTACH;FMTTYPE=image/jpeg:https://social.doof.website/wp-content/uploads/2024/02/en-ze-leefden-nog.jpg
ORGANIZER;CN="Afdeling Diversiteit en Gelijke Kansen - Stad Leuven":MAILTO:diversiteit@leuven.be
END:VEVENT
END:VCALENDAR